PDS_VERSION_ID = PDS3
/* FILE DATA ELEMENTS */
RECORD_TYPE = UNDEFINED
/* POINTERS TO DATA OBJECTS */
^IMAGE = ("HH889_0000_ND4.TIF")
/* IDENTIFICATION DATA ELEMENTS */
DATA_SET_ID = "MEX-M-HRSC-4-REFDR-MAPPROJECT-EXT6-V4.0"
DATA_SET_NAME = "MARS EXPRESS HRSC MAP PROJECTED REFDR EXTENSION6 V4.0"
DETECTOR_ID = MEX_HRSC_NADIR
EVENT_TYPE = "MARS-REGIONAL-MAPPING-Vo-Pf-La"
INSTRUMENT_HOST_ID = MEX
INSTRUMENT_HOST_NAME = "MARS EXPRESS"
INSTRUMENT_ID = HRSC
INSTRUMENT_NAME = "HIGH RESOLUTION STEREO CAMERA"
MISSION_NAME = "MARS EXPRESS"
MISSION_PHASE_NAME = ME_Phase_38
PROCESSING_LEVEL_ID = 4
PRODUCT_CREATION_TIME = 2023-01-28T19:29:54.000Z
PRODUCT_ID = "HH889_0000_ND4.TIF"
RELEASE_ID = 0003
REVISION_ID = 0000
/* QUALITY DATA ELEMENTS */
DATA_QUALITY_ID = 1
DATA_QUALITY_DESC = "Data calculated based on original SPICE kernels"
/* TIME DATA ELEMENTS */
SPACECRAFT_CLOCK_START_COUNT = "1/0467065956.08272"
SPACECRAFT_CLOCK_STOP_COUNT = "1/0467066132.33314"
START_TIME = 2018-02-18T20:33:19.028Z
STOP_TIME = 2018-02-18T20:35:05.034Z
/* ORBITAL DATA ELEMENTS */
ASCENDING_NODE_LONGITUDE = 238.28
MAXIMUM_RESOLUTION = 0.0149
FOOTPRINT_POINT_LATITUDE = (43.726,43.7206,43.7148,43.7096,43.7027 ,43.6948,43.6943,43.6946,43.3722, 43.1144,42.9209,42.7275,42.5341,42.4051 ,42.1472,41.8248,41.5669,41.3091, 41.0512,40.7289,40.471,40.1488,39.8911, 39.6333,39.3757,39.118,38.9715,38.8178, 38.6641,38.5104,38.3568,38.2032,38.0496 ,37.896,37.7424,37.5889,37.4354,37.2819 ,37.1285,36.9751,36.8984,36.8797, 36.8833,36.8865,36.8889,36.892,36.8949, 36.8962,36.8977,36.8978,36.8981,37.0518 ,37.2055,37.3592,37.513,37.6668,37.8207 ,37.9745,38.1284,38.2823,38.4363, 38.5902,38.7442,38.8982,39.1251,39.2542 ,39.3833,39.5124,39.6415,39.7706, 39.8998,40.0289,40.1581,40.2872,40.4164 ,40.5456,40.6748,40.804,40.9332,41.0624 ,41.1916,41.3208,41.5147,41.6439, 41.7732,41.9024,42.0317,42.1609,42.3548 ,42.4841,42.6134,42.7426,42.8719, 43.0658,43.195,43.3243,43.4536,43.6474, 43.7121,43.726)
FOOTPRINT_POINT_LONGITUDE = (316.896,316.463,316.101,315.826,315.5, 315.174,315.157,315.123,315.139,315.152 ,315.161,315.17,315.179,315.185,315.196 ,315.21,315.221,315.232,315.242,315.255 ,315.264,315.275,315.284,315.293, 315.301,315.309,315.314,315.318,315.323 ,315.327,315.332,315.336,315.34,315.344 ,315.348,315.352,315.356,315.36,315.363 ,315.367,315.369,315.369,315.581, 315.793,315.973,316.235,316.547,316.727 ,317.008,317.024,317.032,317.03,317.029 ,317.027,317.025,317.024,317.022,317.02 ,317.019,317.017,317.015,317.013, 317.012,317.01,317.007,317.005,317.003, 317.002,317.0,316.999,316.997,316.995, 316.994,316.992,316.99,316.988,316.987, 316.985,316.983,316.981,316.979,316.977 ,316.975,316.973,316.971,316.969, 316.967,316.965,316.962,316.96,316.958, 316.956,316.954,316.95,316.948,316.946, 316.944,316.941,316.94,316.896)
ORBIT_NUMBER = 17889
ORBITAL_ECCENTRICITY = 0.573
ORBITAL_INCLINATION = 86.98
ORBITAL_SEMIMAJOR_AXIS = 8800.22
PERIAPSIS_ALTITUDE = 370.1
PERIAPSIS_ARGUMENT_ANGLE = 137.08
PERIAPSIS_TIME = 2018-02-18T20:33:32.000Z
SPACECRAFT_ORIENTATION = (0.0,-1.0,0.0)
^MEX_ORIENTATION_DESC = "MEX_ORIENTATION_DESC.TXT"
SPACECRAFT_POINTING_MODE = ACROSSTRACK
^MEX_POINTING_DESC = "MEX_POINTING_DESC.TXT"
RIGHT_ASCENSION = -1e+32
DECLINATION = -1e+32
OFFSET_ANGLE = 0.15
SPACECRAFT_SOLAR_DISTANCE = 2.36837e+08
TARGET_NAME = MARS
/* CAMERA DATA ELEMENTS */
DETECTOR_TEMPERATURE = 17.9627
FOCAL_PLANE_TEMPERATURE = 8.1755
INST_CMPRS_NAME = "DISCRETE COSINE TRANSFORMATION (DCT)"
INST_CMPRS_RATIO = 6.10052
INST_CMPRS_QUALITY = 0
INST_CMPRS_QUANTZ_TBL_ID = 0
INSTRUMENT_TEMPERATURE = 11.234
LENS_TEMPERATURE = 8.7872
MACROPIXEL_SIZE = 1
MISSING_FRAMES = 0
PIXEL_SUBSAMPLING_FLAG = N
SIGNAL_CHAIN_ID = 0
/* RADIOMETRIC DATA ELEMENTS */
BANDWIDTH = 177.0
CENTER_FILTER_WAVELENGTH = 677.5
RADIANCE_OFFSET = 1.40802
RADIANCE_SCALING_FACTOR = 0.0218565
REFLECTANCE_SCALING_FACTOR = 0.000651275
MEX:REFLECTANCE_OFFSET = 0.0419558
/* IMAGE OBJECT DEFINITIONS */
OBJECT = IMAGE
  INTERCHANGE_FORMAT = BINARY
  LINES = 32472
  LINE_SAMPLES = 6922
  SAMPLE_TYPE = UNSIGNED_INTEGER
  SAMPLE_BITS = 8
  BANDS = 1
  BAND_STORAGE_TYPE = BAND_SEQUENTIAL
  MAXIMUM = 255
  MEAN = 100.809
  MINIMUM = 1
  STANDARD_DEVIATION = 21.728
END_OBJECT = IMAGE
/* MAP OBJECT DEFINITIONS */
OBJECT = IMAGE_MAP_PROJECTION
  ^DATA_SET_MAP_PROJECTION_CATALOG= "DSMAP.CAT"
  A_AXIS_RADIUS = 3396.0
  B_AXIS_RADIUS = 3396.0
  C_AXIS_RADIUS = 3396.0
  CENTER_LATITUDE = 0.0
  CENTER_LONGITUDE = 316.0
  COORDINATE_SYSTEM_NAME = PLANETOGRAPHIC
  COORDINATE_SYSTEM_TYPE = "BODY-FIXED ROTATING"
  EASTERNMOST_LONGITUDE = 317.032
  FIRST_STANDARD_PARALLEL = "N/A"
  LINE_FIRST_PIXEL = 1
  LINE_LAST_PIXEL = 32472
  LINE_PROJECTION_OFFSET = 207344.0
  MAP_PROJECTION_ROTATION = 0.0
  MAP_PROJECTION_TYPE = SINUSOIDAL
  MAP_RESOLUTION = 4741.71043093333
  MAP_SCALE = 0.0125
  MAXIMUM_LATITUDE = 43.726
  MINIMUM_LATITUDE = 36.8797
  POSITIVE_LONGITUDE_DIRECTION = EAST
  REFERENCE_LATITUDE = "N/A"
  REFERENCE_LONGITUDE = "N/A"
  SAMPLE_FIRST_PIXEL = 1
  SAMPLE_LAST_PIXEL = 6922
  SAMPLE_PROJECTION_OFFSET = 3007.0
  SECOND_STANDARD_PARALLEL = "N/A"
  WESTERNMOST_LONGITUDE = 315.123
END_OBJECT = IMAGE_MAP_PROJECTION
END
