PDS_VERSION_ID = PDS3
/* FILE DATA ELEMENTS */
RECORD_TYPE = UNDEFINED
/* POINTERS TO DATA OBJECTS */
^IMAGE = ("HH891_0000_GR4.TIF")
/* IDENTIFICATION DATA ELEMENTS */
DATA_SET_ID = "MEX-M-HRSC-4-REFDR-MAPPROJECT-EXT6-V4.0"
DATA_SET_NAME = "MARS EXPRESS HRSC MAP PROJECTED REFDR EXTENSION6 V4.0"
DETECTOR_ID = MEX_HRSC_GREEN
EVENT_TYPE = "MARS-REGIONAL-MAPPING-Im-Pf"
INSTRUMENT_HOST_ID = MEX
INSTRUMENT_HOST_NAME = "MARS EXPRESS"
INSTRUMENT_ID = HRSC
INSTRUMENT_NAME = "HIGH RESOLUTION STEREO CAMERA"
MISSION_NAME = "MARS EXPRESS"
MISSION_PHASE_NAME = ME_Phase_38
PROCESSING_LEVEL_ID = 4
PRODUCT_CREATION_TIME = 2023-01-28T19:29:54.000Z
PRODUCT_ID = "HH891_0000_GR4.TIF"
RELEASE_ID = 0003
REVISION_ID = 0000
/* QUALITY DATA ELEMENTS */
DATA_QUALITY_ID = 1
DATA_QUALITY_DESC = "Data calculated based on original SPICE kernels"
/* TIME DATA ELEMENTS */
SPACECRAFT_CLOCK_START_COUNT = "1/0467116128.08264"
SPACECRAFT_CLOCK_STOP_COUNT = "1/0467116418.08238"
START_TIME = 2018-02-19T10:29:27.422Z
STOP_TIME = 2018-02-19T10:33:04.511Z
/* ORBITAL DATA ELEMENTS */
ASCENDING_NODE_LONGITUDE = 238.25
MAXIMUM_RESOLUTION = 0.0597
FOOTPRINT_POINT_LATITUDE = (50.5408,50.521,50.5023,50.4861,50.4854 ,50.4677,50.1684,49.8688,49.5691, 49.2692,48.9691,48.6687,48.3683,48.0676 ,47.7668,47.4658,47.1646,46.8634, 46.5619,46.2603,45.9587,45.6569,45.355, 45.0735,44.5671,44.1873,43.6805,43.1736 ,42.5397,42.0324,41.3983,41.0177, 40.7639,40.3834,40.0028,39.3685,38.8612 ,38.595,38.2923,37.9897,37.6871,37.3846 ,37.0821,36.7798,36.6286,36.5373, 36.5478,36.5547,36.5568,36.5569,36.5579 ,36.8608,37.1638,37.4669,37.9217, 38.2249,38.5282,38.8095,39.0637,39.318, 39.5723,39.9537,40.208,40.5894,40.8437, 41.098,41.3523,41.6067,41.861,42.1152, 42.4966,42.7509,43.0051,43.2592,43.5134 ,43.7675,44.1486,44.4026,44.6565, 44.9104,45.1642,45.4564,45.7592,46.0619 ,46.3645,46.6669,46.9693,47.2715, 47.5736,47.8756,48.1774,48.4791,48.7806 ,49.0819,49.3831,49.6841,49.985,50.2856 ,50.4359,50.5408)
FOOTPRINT_POINT_LONGITUDE = (112.231,111.338,110.694,110.219,110.2, 110.152,110.181,110.21,110.238,110.266, 110.293,110.319,110.345,110.369,110.394 ,110.417,110.441,110.463,110.485, 110.506,110.527,110.547,110.567,110.585 ,110.616,110.639,110.667,110.695, 110.727,110.752,110.78,110.797,110.807, 110.823,110.838,110.861,110.878,110.887 ,110.896,110.906,110.915,110.923, 110.931,110.939,110.943,110.945,111.589 ,112.234,112.572,112.588,112.593, 112.589,112.585,112.58,112.574,112.569, 112.565,112.561,112.557,112.552,112.548 ,112.542,112.538,112.531,112.527, 112.522,112.517,112.512,112.508,112.503 ,112.495,112.49,112.485,112.479,112.474 ,112.468,112.46,112.454,112.448,112.442 ,112.436,112.429,112.421,112.414, 112.406,112.398,112.39,112.381,112.373, 112.364,112.355,112.346,112.336,112.327 ,112.317,112.307,112.297,112.287, 112.281,112.231)
ORBIT_NUMBER = 17891
ORBITAL_ECCENTRICITY = 0.574
ORBITAL_INCLINATION = 86.97
ORBITAL_SEMIMAJOR_AXIS = 8808.67
PERIAPSIS_ALTITUDE = 369.66
PERIAPSIS_ARGUMENT_ANGLE = 136.71
PERIAPSIS_TIME = 2018-02-19T10:31:26.000Z
SPACECRAFT_ORIENTATION = (0.0,-1.0,0.0)
^MEX_ORIENTATION_DESC = "MEX_ORIENTATION_DESC.TXT"
SPACECRAFT_POINTING_MODE = NADIR
^MEX_POINTING_DESC = "MEX_POINTING_DESC.TXT"
RIGHT_ASCENSION = -1e+32
DECLINATION = -1e+32
OFFSET_ANGLE = -1e+32
SPACECRAFT_SOLAR_DISTANCE = 2.36738e+08
TARGET_NAME = MARS
/* CAMERA DATA ELEMENTS */
DETECTOR_TEMPERATURE = 18.7783
FOCAL_PLANE_TEMPERATURE = 8.5833
INST_CMPRS_NAME = "DISCRETE COSINE TRANSFORMATION (DCT)"
INST_CMPRS_RATIO = 11.7013
INST_CMPRS_QUALITY = 0
INST_CMPRS_QUANTZ_TBL_ID = 0
INSTRUMENT_TEMPERATURE = 11.8457
LENS_TEMPERATURE = 9.195
MACROPIXEL_SIZE = 4
MISSING_FRAMES = 0
PIXEL_SUBSAMPLING_FLAG = N
SIGNAL_CHAIN_ID = 2
/* RADIOMETRIC DATA ELEMENTS */
BANDWIDTH = 88.0
CENTER_FILTER_WAVELENGTH = 538.0
RADIANCE_OFFSET = 1.08102
RADIANCE_SCALING_FACTOR = 0.00444442
REFLECTANCE_SCALING_FACTOR = 0.000214458
MEX:REFLECTANCE_OFFSET = 0.0521628
/* IMAGE OBJECT DEFINITIONS */
OBJECT = IMAGE
  INTERCHANGE_FORMAT = BINARY
  LINES = 16587
  LINE_SAMPLES = 1968
  SAMPLE_TYPE = UNSIGNED_INTEGER
  SAMPLE_BITS = 8
  BANDS = 1
  BAND_STORAGE_TYPE = BAND_SEQUENTIAL
  MAXIMUM = 255
  MEAN = 130.157
  MINIMUM = 1
  STANDARD_DEVIATION = 35.3991
END_OBJECT = IMAGE
/* MAP OBJECT DEFINITIONS */
OBJECT = IMAGE_MAP_PROJECTION
  ^DATA_SET_MAP_PROJECTION_CATALOG= "DSMAP.CAT"
  A_AXIS_RADIUS = 3396.0
  B_AXIS_RADIUS = 3396.0
  C_AXIS_RADIUS = 3396.0
  CENTER_LATITUDE = 0.0
  CENTER_LONGITUDE = 112.0
  COORDINATE_SYSTEM_NAME = PLANETOGRAPHIC
  COORDINATE_SYSTEM_TYPE = "BODY-FIXED ROTATING"
  EASTERNMOST_LONGITUDE = 112.593
  FIRST_STANDARD_PARALLEL = "N/A"
  LINE_FIRST_PIXEL = 1
  LINE_LAST_PIXEL = 16587
  LINE_PROJECTION_OFFSET = 59904.375
  MAP_PROJECTION_ROTATION = 0.0
  MAP_PROJECTION_TYPE = SINUSOIDAL
  MAP_RESOLUTION = 1185.42760773333
  MAP_SCALE = 0.05
  MAXIMUM_LATITUDE = 50.5408
  MINIMUM_LATITUDE = 36.5373
  POSITIVE_LONGITUDE_DIRECTION = EAST
  REFERENCE_LATITUDE = "N/A"
  REFERENCE_LONGITUDE = "N/A"
  SAMPLE_FIRST_PIXEL = 1
  SAMPLE_LAST_PIXEL = 1968
  SAMPLE_PROJECTION_OFFSET = 1400.625
  SECOND_STANDARD_PARALLEL = "N/A"
  WESTERNMOST_LONGITUDE = 110.152
END_OBJECT = IMAGE_MAP_PROJECTION
END
