PDS_VERSION_ID = PDS3
/* FILE DATA ELEMENTS */
RECORD_TYPE = UNDEFINED
/* POINTERS TO DATA OBJECTS */
^IMAGE = ("HH893_0000_S24.TIF")
/* IDENTIFICATION DATA ELEMENTS */
DATA_SET_ID = "MEX-M-HRSC-4-REFDR-MAPPROJECT-EXT6-V4.0"
DATA_SET_NAME = "MARS EXPRESS HRSC MAP PROJECTED REFDR EXTENSION6 V4.0"
DETECTOR_ID = MEX_HRSC_S2
EVENT_TYPE = "MARS-REGIONAL-MAPPING-Vo-Te"
INSTRUMENT_HOST_ID = MEX
INSTRUMENT_HOST_NAME = "MARS EXPRESS"
INSTRUMENT_ID = HRSC
INSTRUMENT_NAME = "HIGH RESOLUTION STEREO CAMERA"
MISSION_NAME = "MARS EXPRESS"
MISSION_PHASE_NAME = ME_Phase_38
PROCESSING_LEVEL_ID = 4
PRODUCT_CREATION_TIME = 2023-01-28T19:29:54.000Z
PRODUCT_ID = "HH893_0000_S24.TIF"
RELEASE_ID = 0003
REVISION_ID = 0000
/* QUALITY DATA ELEMENTS */
DATA_QUALITY_ID = 1
DATA_QUALITY_DESC = "Data calculated based on original SPICE kernels"
/* TIME DATA ELEMENTS */
SPACECRAFT_CLOCK_START_COUNT = "1/0467166525.07335"
SPACECRAFT_CLOCK_STOP_COUNT = "1/0467166698.39391"
START_TIME = 2018-02-20T00:30:01.555Z
STOP_TIME = 2018-02-20T00:31:45.923Z
/* ORBITAL DATA ELEMENTS */
ASCENDING_NODE_LONGITUDE = 238.21
MAXIMUM_RESOLUTION = 0.0316
FOOTPRINT_POINT_LATITUDE = (43.4728,43.4673,43.463,43.4595,43.4546 ,43.4493,43.4425,43.4422,43.4935, 43.1424,42.908,42.6738,42.3821,42.1487, 41.9155,41.7872,41.6484,41.4399,41.232, 41.0933,40.9548,40.8162,40.6778,40.5397 ,40.3326,40.1946,40.0564,39.9185, 39.7803,39.5731,39.3666,39.2288,39.0912 ,38.9536,38.8161,38.6101,38.4727, 38.3357,38.1299,37.9245,37.7875,37.6508 ,37.4456,37.2408,37.1042,36.9679, 36.8997,36.8769,36.8791,36.8822,36.8856 ,36.8877,36.8892,36.8913,36.893,36.894, 36.894,36.8946,37.0993,37.2358,37.3724, 37.5095,37.7149,37.8521,38.0578,38.195, 38.3328,38.4702,38.6065,38.7392,38.8744 ,39.0176,39.1588,39.297,39.4354,39.5735 ,39.7119,39.8502,39.9884,40.1958,40.334 ,40.4729,40.6116,40.75,40.8887,41.0265, 41.1664,41.3054,41.5139,41.6533,41.8619 ,42.158,42.3333,42.5681,42.8605,43.0363 ,43.2127,43.4481,43.5069,43.4728)
FOOTPRINT_POINT_LONGITUDE = (268.189,267.798,267.527,267.323, 267.052,266.78,266.458,266.441,266.411, 266.429,266.441,266.452,266.466,266.477 ,266.487,266.493,266.499,266.508, 266.516,266.522,266.527,266.533,266.538 ,266.543,266.551,266.556,266.561, 266.566,266.571,266.578,266.585,266.589 ,266.594,266.598,266.602,266.608, 266.613,266.616,266.622,266.628,266.632 ,266.635,266.641,266.646,266.649, 266.652,266.654,266.655,266.817,267.079 ,267.373,267.585,267.748,267.928, 268.156,268.32,268.336,268.342,268.338, 268.336,268.334,268.331,268.328,268.326 ,268.322,268.32,268.317,268.315,268.312 ,268.308,268.304,268.304,268.302,268.3, 268.297,268.295,268.292,268.289,268.287 ,268.282,268.28,268.277,268.274,268.271 ,268.268,268.265,268.262,268.26,268.255 ,268.252,268.247,268.241,268.237, 268.232,268.225,268.221,268.217,268.212 ,268.21,268.189)
ORBIT_NUMBER = 17893
ORBITAL_ECCENTRICITY = 0.574
ORBITAL_INCLINATION = 86.96
ORBITAL_SEMIMAJOR_AXIS = 8808.45
PERIAPSIS_ALTITUDE = 370.0
PERIAPSIS_ARGUMENT_ANGLE = 136.37
PERIAPSIS_TIME = 2018-02-20T00:29:27.000Z
SPACECRAFT_ORIENTATION = (0.0,-1.0,0.0)
^MEX_ORIENTATION_DESC = "MEX_ORIENTATION_DESC.TXT"
SPACECRAFT_POINTING_MODE = NADIR
^MEX_POINTING_DESC = "MEX_POINTING_DESC.TXT"
RIGHT_ASCENSION = -1e+32
DECLINATION = -1e+32
OFFSET_ANGLE = -1e+32
SPACECRAFT_SOLAR_DISTANCE = 2.36638e+08
TARGET_NAME = MARS
/* CAMERA DATA ELEMENTS */
DETECTOR_TEMPERATURE = 18.9822
FOCAL_PLANE_TEMPERATURE = 8.5833
INST_CMPRS_NAME = "DISCRETE COSINE TRANSFORMATION (DCT)"
INST_CMPRS_RATIO = 6.44594
INST_CMPRS_QUALITY = 0
INST_CMPRS_QUANTZ_TBL_ID = 0
INSTRUMENT_TEMPERATURE = 11.6418
LENS_TEMPERATURE = 8.7872
MACROPIXEL_SIZE = 2
MISSING_FRAMES = 0
PIXEL_SUBSAMPLING_FLAG = N
SIGNAL_CHAIN_ID = 1
/* RADIOMETRIC DATA ELEMENTS */
BANDWIDTH = 178.0
CENTER_FILTER_WAVELENGTH = 679.0
RADIANCE_OFFSET = 2.64922
RADIANCE_SCALING_FACTOR = 0.0318449
REFLECTANCE_SCALING_FACTOR = 0.000944362
MEX:REFLECTANCE_OFFSET = 0.0785629
/* IMAGE OBJECT DEFINITIONS */
OBJECT = IMAGE
  INTERCHANGE_FORMAT = BINARY
  LINES = 15777
  LINE_SAMPLES = 3498
  SAMPLE_TYPE = UNSIGNED_INTEGER
  SAMPLE_BITS = 8
  BANDS = 1
  BAND_STORAGE_TYPE = BAND_SEQUENTIAL
  MAXIMUM = 255
  MEAN = 128.905
  MINIMUM = 1
  STANDARD_DEVIATION = 14.4781
END_OBJECT = IMAGE
/* MAP OBJECT DEFINITIONS */
OBJECT = IMAGE_MAP_PROJECTION
  ^DATA_SET_MAP_PROJECTION_CATALOG= "DSMAP.CAT"
  A_AXIS_RADIUS = 3396.0
  B_AXIS_RADIUS = 3396.0
  C_AXIS_RADIUS = 3396.0
  CENTER_LATITUDE = 0.0
  CENTER_LONGITUDE = 267.0
  COORDINATE_SYSTEM_NAME = PLANETOGRAPHIC
  COORDINATE_SYSTEM_TYPE = "BODY-FIXED ROTATING"
  EASTERNMOST_LONGITUDE = 268.342
  FIRST_STANDARD_PARALLEL = "N/A"
  LINE_FIRST_PIXEL = 1
  LINE_LAST_PIXEL = 15777
  LINE_PROJECTION_OFFSET = 103204.75
  MAP_PROJECTION_ROTATION = 0.0
  MAP_PROJECTION_TYPE = SINUSOIDAL
  MAP_RESOLUTION = 2370.85521546667
  MAP_SCALE = 0.025
  MAXIMUM_LATITUDE = 43.5069
  MINIMUM_LATITUDE = 36.8769
  POSITIVE_LONGITUDE_DIRECTION = EAST
  REFERENCE_LATITUDE = "N/A"
  REFERENCE_LONGITUDE = "N/A"
  SAMPLE_FIRST_PIXEL = 1
  SAMPLE_LAST_PIXEL = 3498
  SAMPLE_PROJECTION_OFFSET = 1001.75
  SECOND_STANDARD_PARALLEL = "N/A"
  WESTERNMOST_LONGITUDE = 266.411
END_OBJECT = IMAGE_MAP_PROJECTION
END
