PDS_VERSION_ID = PDS3
/* FILE DATA ELEMENTS */
RECORD_TYPE = UNDEFINED
/* POINTERS TO DATA OBJECTS */
^IMAGE = ("HH895_0009_IR4.TIF")
/* IDENTIFICATION DATA ELEMENTS */
DATA_SET_ID = "MEX-M-HRSC-4-REFDR-MAPPROJECT-EXT6-V4.0"
DATA_SET_NAME = "MARS EXPRESS HRSC MAP PROJECTED REFDR EXTENSION6 V4.0"
DETECTOR_ID = MEX_HRSC_IR
EVENT_TYPE = "MARS-REGIONAL-MAPPING-Im-Fl-Eo"
INSTRUMENT_HOST_ID = MEX
INSTRUMENT_HOST_NAME = "MARS EXPRESS"
INSTRUMENT_ID = HRSC
INSTRUMENT_NAME = "HIGH RESOLUTION STEREO CAMERA"
MISSION_NAME = "MARS EXPRESS"
MISSION_PHASE_NAME = ME_Phase_38
PROCESSING_LEVEL_ID = 4
PRODUCT_CREATION_TIME = 2023-01-28T19:29:54.000Z
PRODUCT_ID = "HH895_0009_IR4.TIF"
RELEASE_ID = 0003
REVISION_ID = 0000
/* QUALITY DATA ELEMENTS */
DATA_QUALITY_ID = 1
DATA_QUALITY_DESC = "Data calculated based on original SPICE kernels"
/* TIME DATA ELEMENTS */
SPACECRAFT_CLOCK_START_COUNT = "1/0467217054.09039"
SPACECRAFT_CLOCK_STOP_COUNT = "1/0467217312.33950"
START_TIME = 2018-02-20T14:31:09.848Z
STOP_TIME = 2018-02-20T14:33:43.301Z
/* ORBITAL DATA ELEMENTS */
ASCENDING_NODE_LONGITUDE = 238.17
MAXIMUM_RESOLUTION = 0.0693
FOOTPRINT_POINT_LATITUDE = (27.0808,27.1201,27.1428,27.1642, 27.1844,27.2037,27.2219,27.223,27.207, 26.6572,26.2922,25.8354,25.4616,25.272, 25.0851,24.7146,24.3404,24.1514,23.8608 ,23.5689,23.3745,23.181,22.988,22.7932, 22.5968,22.4007,22.2051,22.0109,21.8171 ,21.626,21.4304,21.1292,20.928,20.6266, 20.427,20.223,20.0217,19.8178,19.6141, 19.3092,19.1023,18.8944,18.6867,18.4791 ,18.2717,17.9553,17.7436,17.5322, 17.4264,17.3646,17.3411,17.3133,17.2901 ,17.2611,17.2436,17.2104,17.2086, 17.2093,17.4209,17.7389,17.951,18.1609, 18.3687,18.5769,18.7848,18.993,19.1991, 19.4031,19.7089,19.913,20.1165,20.3201, 20.5198,20.7216,20.9223,21.1216,21.3195 ,21.5135,21.7049,21.8982,22.0946, 22.3888,22.5847,22.7803,22.972,23.2593, 23.4514,23.644,23.8386,24.1309,24.32, 24.6945,24.9762,25.1651,25.445,25.9087, 26.2746,26.9209,27.0124,27.0808)
FOOTPRINT_POINT_LONGITUDE = (66.2752,65.8363,65.5729,65.3146, 65.0613,64.8125,64.568,64.5529,64.5581, 64.5467,64.5381,64.5269,64.5177,64.5145 ,64.5099,64.4987,64.4896,64.4835,64.478 ,64.4732,64.4698,64.4659,64.4618, 64.4569,64.452,64.4469,64.4415,64.4354, 64.4292,64.4216,64.4138,64.4061,64.401, 64.3933,64.3875,64.3817,64.3744,64.3683 ,64.3622,64.3527,64.3463,64.3398, 64.3333,64.3267,64.32,64.3098,64.3029, 64.2959,64.2924,64.2902,64.5916,64.9506 ,65.2462,65.584,65.7825,66.1496,66.1682 ,66.1744,66.1767,66.1797,66.1818, 66.1838,66.1859,66.1876,66.1899,66.192, 66.1943,66.1962,66.1996,66.2017,66.2048 ,66.2063,66.2084,66.2083,66.2098, 66.2128,66.2179,66.2269,66.2344,66.2397 ,66.2415,66.2448,66.2475,66.2501, 66.2524,66.2562,66.2582,66.2597,66.2589 ,66.257,66.2589,66.2644,66.2678,66.2687 ,66.2748,66.2831,66.2891,66.2923, 66.2939,66.2752)
ORBIT_NUMBER = 17895
ORBITAL_ECCENTRICITY = 0.573
ORBITAL_INCLINATION = 86.98
ORBITAL_SEMIMAJOR_AXIS = 8805.89
PERIAPSIS_ALTITUDE = 370.0
PERIAPSIS_ARGUMENT_ANGLE = 136.03
PERIAPSIS_TIME = 2018-02-20T14:27:20.000Z
SPACECRAFT_ORIENTATION = (0.0,-1.0,0.0)
^MEX_ORIENTATION_DESC = "MEX_ORIENTATION_DESC.TXT"
SPACECRAFT_POINTING_MODE = ACROSSTRACK
^MEX_POINTING_DESC = "MEX_POINTING_DESC.TXT"
RIGHT_ASCENSION = -1e+32
DECLINATION = -1e+32
OFFSET_ANGLE = 1.77
SPACECRAFT_SOLAR_DISTANCE = 2.36539e+08
TARGET_NAME = MARS
/* CAMERA DATA ELEMENTS */
DETECTOR_TEMPERATURE = 18.3705
FOCAL_PLANE_TEMPERATURE = 9.3989
INST_CMPRS_NAME = "DISCRETE COSINE TRANSFORMATION (DCT)"
INST_CMPRS_RATIO = 7.75306
INST_CMPRS_QUALITY = 0
INST_CMPRS_QUANTZ_TBL_ID = 0
INSTRUMENT_TEMPERATURE = 12.6613
LENS_TEMPERATURE = 9.6028
MACROPIXEL_SIZE = 4
MISSING_FRAMES = 0
PIXEL_SUBSAMPLING_FLAG = N
SIGNAL_CHAIN_ID = 2
/* RADIOMETRIC DATA ELEMENTS */
BANDWIDTH = 81.0
CENTER_FILTER_WAVELENGTH = 955.5
RADIANCE_OFFSET = 0.47812
RADIANCE_SCALING_FACTOR = 0.00749992
REFLECTANCE_SCALING_FACTOR = 0.000905286
MEX:REFLECTANCE_OFFSET = 0.057712
/* IMAGE OBJECT DEFINITIONS */
OBJECT = IMAGE
  INTERCHANGE_FORMAT = BINARY
  LINES = 11711
  LINE_SAMPLES = 2261
  SAMPLE_TYPE = UNSIGNED_INTEGER
  SAMPLE_BITS = 8
  BANDS = 1
  BAND_STORAGE_TYPE = BAND_SEQUENTIAL
  MAXIMUM = 255
  MEAN = 104.419
  MINIMUM = 1
  STANDARD_DEVIATION = 52.8949
END_OBJECT = IMAGE
/* MAP OBJECT DEFINITIONS */
OBJECT = IMAGE_MAP_PROJECTION
  ^DATA_SET_MAP_PROJECTION_CATALOG= "DSMAP.CAT"
  A_AXIS_RADIUS = 3396.0
  B_AXIS_RADIUS = 3396.0
  C_AXIS_RADIUS = 3396.0
  CENTER_LATITUDE = 0.0
  CENTER_LONGITUDE = 65.0
  COORDINATE_SYSTEM_NAME = PLANETOGRAPHIC
  COORDINATE_SYSTEM_TYPE = "BODY-FIXED ROTATING"
  EASTERNMOST_LONGITUDE = 66.29389999999999
  FIRST_STANDARD_PARALLEL = "N/A"
  LINE_FIRST_PIXEL = 1
  LINE_LAST_PIXEL = 11711
  LINE_PROJECTION_OFFSET = 32177.875
  MAP_PROJECTION_ROTATION = 0.0
  MAP_PROJECTION_TYPE = SINUSOIDAL
  MAP_RESOLUTION = 1185.42760773333
  MAP_SCALE = 0.05
  MAXIMUM_LATITUDE = 27.223
  MINIMUM_LATITUDE = 17.2086
  POSITIVE_LONGITUDE_DIRECTION = EAST
  REFERENCE_LATITUDE = "N/A"
  REFERENCE_LONGITUDE = "N/A"
  SAMPLE_FIRST_PIXEL = 1
  SAMPLE_LAST_PIXEL = 2261
  SAMPLE_PROJECTION_OFFSET = 875.625
  SECOND_STANDARD_PARALLEL = "N/A"
  WESTERNMOST_LONGITUDE = 64.2902
END_OBJECT = IMAGE_MAP_PROJECTION
END
