PDS_VERSION_ID = PDS3
/* FILE DATA ELEMENTS */
RECORD_TYPE = UNDEFINED
/* POINTERS TO DATA OBJECTS */
^IMAGE = ("HH895_0009_RE4.TIF")
/* IDENTIFICATION DATA ELEMENTS */
DATA_SET_ID = "MEX-M-HRSC-4-REFDR-MAPPROJECT-EXT6-V4.0"
DATA_SET_NAME = "MARS EXPRESS HRSC MAP PROJECTED REFDR EXTENSION6 V4.0"
DETECTOR_ID = MEX_HRSC_RED
EVENT_TYPE = "MARS-REGIONAL-MAPPING-Im-Fl-Eo"
INSTRUMENT_HOST_ID = MEX
INSTRUMENT_HOST_NAME = "MARS EXPRESS"
INSTRUMENT_ID = HRSC
INSTRUMENT_NAME = "HIGH RESOLUTION STEREO CAMERA"
MISSION_NAME = "MARS EXPRESS"
MISSION_PHASE_NAME = ME_Phase_38
PROCESSING_LEVEL_ID = 4
PRODUCT_CREATION_TIME = 2023-01-28T19:29:54.000Z
PRODUCT_ID = "HH895_0009_RE4.TIF"
RELEASE_ID = 0003
REVISION_ID = 0000
/* QUALITY DATA ELEMENTS */
DATA_QUALITY_ID = 1
DATA_QUALITY_DESC = "Data calculated based on original SPICE kernels"
/* TIME DATA ELEMENTS */
SPACECRAFT_CLOCK_START_COUNT = "1/0467217054.09039"
SPACECRAFT_CLOCK_STOP_COUNT = "1/0467217312.33950"
START_TIME = 2018-02-20T14:32:17.932Z
STOP_TIME = 2018-02-20T14:35:09.390Z
/* ORBITAL DATA ELEMENTS */
ASCENDING_NODE_LONGITUDE = 238.17
MAXIMUM_RESOLUTION = 0.0745
FOOTPRINT_POINT_LATITUDE = (27.1677,27.1428,27.1276,27.1125, 27.0975,27.0826,27.0677,27.0667,27.0814 ,26.8059,26.4379,26.0717,25.6985, 25.3267,25.0468,24.7632,24.574,24.3847, 24.1941,24.0049,23.6313,23.4413,23.253, 23.0639,22.8737,22.5819,22.3873,22.0933 ,21.7942,21.5942,21.3965,21.1018, 20.9053,20.7074,20.5079,20.3087,20.004, 19.7998,19.5973,19.3953,19.1898,18.9845 ,18.7796,18.5741,18.3658,18.1576, 17.9499,17.6346,17.4243,17.3191,17.2337 ,17.2483,17.2632,17.2785,17.2922, 17.3009,17.3211,17.3219,17.3235,17.5342 ,17.7451,17.9561,18.1637,18.3719, 18.5802,18.8898,19.0953,19.3009,19.5065 ,19.7092,19.912,20.1155,20.3176,20.5169 ,20.715,20.915,21.1166,21.3138,21.5167, 21.7186,22.0185,22.2119,22.407,22.6995, 22.9918,23.1838,23.4705,23.6616,24.0367 ,24.3199,24.5092,24.7928,25.0752,25.635 ,26.0089,26.3774,26.7425,27.015,27.1071 ,27.1677)
FOOTPRINT_POINT_LONGITUDE = (66.3349,65.8655,65.5839,65.3075, 65.0365,64.7702,64.5079,64.4917,64.496, 64.4892,64.4792,64.4695,64.4588,64.449, 64.4408,64.4314,64.4262,64.4207,64.4144 ,64.4086,64.4005,64.3957,64.3914, 64.3866,64.3811,64.372,64.3659,64.3554, 64.3433,64.3358,64.3292,64.3195,64.3138 ,64.3079,64.3012,64.2945,64.2828, 64.2751,64.2679,64.2607,64.2532,64.2457 ,64.2382,64.2304,64.2226,64.2147, 64.2067,64.1944,64.1863,64.1822,64.1788 ,64.5169,64.8804,65.2693,65.5869,65.788 ,66.2585,66.2793,66.2862,66.287,66.2876 ,66.2881,66.2887,66.2894,66.2901, 66.2914,66.2924,66.2931,66.2941,66.2955 ,66.2964,66.2978,66.2986,66.2992, 66.2979,66.2985,66.3007,66.3022,66.3103 ,66.3168,66.3225,66.323,66.3251,66.3275 ,66.3299,66.3322,66.3332,66.3335, 66.3275,66.3299,66.3317,66.3335,66.3362 ,66.3434,66.3475,66.3522,66.3538, 66.3524,66.3536,66.3349)
ORBIT_NUMBER = 17895
ORBITAL_ECCENTRICITY = 0.573
ORBITAL_INCLINATION = 86.98
ORBITAL_SEMIMAJOR_AXIS = 8805.89
PERIAPSIS_ALTITUDE = 370.0
PERIAPSIS_ARGUMENT_ANGLE = 136.03
PERIAPSIS_TIME = 2018-02-20T14:27:20.000Z
SPACECRAFT_ORIENTATION = (0.0,-1.0,0.0)
^MEX_ORIENTATION_DESC = "MEX_ORIENTATION_DESC.TXT"
SPACECRAFT_POINTING_MODE = ACROSSTRACK
^MEX_POINTING_DESC = "MEX_POINTING_DESC.TXT"
RIGHT_ASCENSION = -1e+32
DECLINATION = -1e+32
OFFSET_ANGLE = 1.77
SPACECRAFT_SOLAR_DISTANCE = 2.36539e+08
TARGET_NAME = MARS
/* CAMERA DATA ELEMENTS */
DETECTOR_TEMPERATURE = 19.5939
FOCAL_PLANE_TEMPERATURE = 9.3989
INST_CMPRS_NAME = "DISCRETE COSINE TRANSFORMATION (DCT)"
INST_CMPRS_RATIO = 8.60277
INST_CMPRS_QUALITY = 0
INST_CMPRS_QUANTZ_TBL_ID = 0
INSTRUMENT_TEMPERATURE = 12.6613
LENS_TEMPERATURE = 9.6028
MACROPIXEL_SIZE = 4
MISSING_FRAMES = 0
PIXEL_SUBSAMPLING_FLAG = N
SIGNAL_CHAIN_ID = 2
/* RADIOMETRIC DATA ELEMENTS */
BANDWIDTH = 48.0
CENTER_FILTER_WAVELENGTH = 748.0
RADIANCE_OFFSET = 0.523279
RADIANCE_SCALING_FACTOR = 0.00730739
REFLECTANCE_SCALING_FACTOR = 0.00093302
MEX:REFLECTANCE_OFFSET = 0.0668132
/* IMAGE OBJECT DEFINITIONS */
OBJECT = IMAGE
  INTERCHANGE_FORMAT = BINARY
  LINES = 11711
  LINE_SAMPLES = 2261
  SAMPLE_TYPE = UNSIGNED_INTEGER
  SAMPLE_BITS = 8
  BANDS = 1
  BAND_STORAGE_TYPE = BAND_SEQUENTIAL
  MAXIMUM = 255
  MEAN = 110.362
  MINIMUM = 1
  STANDARD_DEVIATION = 47.1726
END_OBJECT = IMAGE
/* MAP OBJECT DEFINITIONS */
OBJECT = IMAGE_MAP_PROJECTION
  ^DATA_SET_MAP_PROJECTION_CATALOG= "DSMAP.CAT"
  A_AXIS_RADIUS = 3396.0
  B_AXIS_RADIUS = 3396.0
  C_AXIS_RADIUS = 3396.0
  CENTER_LATITUDE = 0.0
  CENTER_LONGITUDE = 65.0
  COORDINATE_SYSTEM_NAME = PLANETOGRAPHIC
  COORDINATE_SYSTEM_TYPE = "BODY-FIXED ROTATING"
  EASTERNMOST_LONGITUDE = 66.35380000000001
  FIRST_STANDARD_PARALLEL = "N/A"
  LINE_FIRST_PIXEL = 1
  LINE_LAST_PIXEL = 11711
  LINE_PROJECTION_OFFSET = 32177.875
  MAP_PROJECTION_ROTATION = 0.0
  MAP_PROJECTION_TYPE = SINUSOIDAL
  MAP_RESOLUTION = 1185.42760773333
  MAP_SCALE = 0.05
  MAXIMUM_LATITUDE = 27.1677
  MINIMUM_LATITUDE = 17.2337
  POSITIVE_LONGITUDE_DIRECTION = EAST
  REFERENCE_LATITUDE = "N/A"
  REFERENCE_LONGITUDE = "N/A"
  SAMPLE_FIRST_PIXEL = 1
  SAMPLE_LAST_PIXEL = 2261
  SAMPLE_PROJECTION_OFFSET = 875.625
  SECOND_STANDARD_PARALLEL = "N/A"
  WESTERNMOST_LONGITUDE = 64.1788
END_OBJECT = IMAGE_MAP_PROJECTION
END
