PDS_VERSION_ID = PDS3
/* FILE DATA ELEMENTS */
RECORD_TYPE = UNDEFINED
/* POINTERS TO DATA OBJECTS */
^IMAGE = ("HH897_0000_RE4.TIF")
/* IDENTIFICATION DATA ELEMENTS */
DATA_SET_ID = "MEX-M-HRSC-4-REFDR-MAPPROJECT-EXT6-V4.0"
DATA_SET_NAME = "MARS EXPRESS HRSC MAP PROJECTED REFDR EXTENSION6 V4.0"
DETECTOR_ID = MEX_HRSC_RED
EVENT_TYPE = "MARS-REGIONAL-MAPPING-Vo-Im-Pf"
INSTRUMENT_HOST_ID = MEX
INSTRUMENT_HOST_NAME = "MARS EXPRESS"
INSTRUMENT_ID = HRSC
INSTRUMENT_NAME = "HIGH RESOLUTION STEREO CAMERA"
MISSION_NAME = "MARS EXPRESS"
MISSION_PHASE_NAME = ME_Phase_38
PROCESSING_LEVEL_ID = 4
PRODUCT_CREATION_TIME = 2023-01-28T19:29:54.000Z
PRODUCT_ID = "HH897_0000_RE4.TIF"
RELEASE_ID = 0003
REVISION_ID = 0000
/* QUALITY DATA ELEMENTS */
DATA_QUALITY_ID = 1
DATA_QUALITY_DESC = "Data calculated based on original SPICE kernels"
/* TIME DATA ELEMENTS */
SPACECRAFT_CLOCK_START_COUNT = "1/0467266953.47385"
SPACECRAFT_CLOCK_STOP_COUNT = "1/0467267191.01509"
START_TIME = 2018-02-21T04:23:47.437Z
STOP_TIME = 2018-02-21T04:25:25.545Z
/* ORBITAL DATA ELEMENTS */
ASCENDING_NODE_LONGITUDE = 238.14
MAXIMUM_RESOLUTION = 0.0624
FOOTPRINT_POINT_LATITUDE = (51.258,51.2554,51.252,51.2481,51.2436, 51.2384,51.2285,51.2281,51.303,51.1131, 50.9865,50.86,50.6702,50.5435,50.417, 50.2904,50.1639,50.0372,49.9107,49.784, 49.6575,49.5311,49.405,49.2786,49.1522, 49.0258,48.8363,48.6468,48.5204,48.3939 ,48.2676,48.1411,48.0147,47.8885, 47.6363,47.447,47.3209,47.1948,47.0687, 46.8166,46.5643,46.3125,46.0606,45.8091 ,45.4945,45.243,45.0545,44.9918,44.9776 ,44.9811,44.9825,44.9838,44.9844, 44.9846,44.9841,44.9841,44.9851,45.2373 ,45.4264,45.6787,45.9312,46.1836, 46.3099,46.4366,46.6263,46.7528,46.9423 ,47.0688,47.1955,47.322,47.4489,47.5754 ,47.7021,47.8287,47.9555,48.0822, 48.2089,48.3991,48.526,48.6528,48.7797, 48.97,49.0968,49.2238,49.3506,49.4776, 49.6044,49.7314,49.8584,49.9856,50.1126 ,50.3035,50.4941,50.6849,50.8121, 50.9392,51.0666,51.2574,51.321,51.258)
FOOTPRINT_POINT_LONGITUDE = (218.533,218.229,217.924,217.617, 217.308,216.996,216.485,216.465,216.364 ,216.387,216.403,216.418,216.441, 216.456,216.471,216.486,216.5,216.515, 216.529,216.544,216.558,216.572,216.585 ,216.599,216.612,216.625,216.645, 216.665,216.677,216.69,216.703,216.715, 216.728,216.74,216.764,216.781,216.793, 216.804,216.816,216.838,216.86,216.882, 216.903,216.923,216.948,216.968,216.982 ,216.987,216.988,217.398,217.663, 218.013,218.274,218.568,218.842,218.859 ,218.865,218.854,218.846,218.834, 218.823,218.811,218.806,218.8,218.791, 218.785,218.776,218.769,218.763,218.757 ,218.751,218.744,218.738,218.731, 218.725,218.718,218.712,218.702,218.695 ,218.688,218.681,218.671,218.664, 218.657,218.649,218.642,218.635,218.628 ,218.62,218.613,218.605,218.594,218.582 ,218.571,218.563,218.555,218.547, 218.535,218.531,218.533)
ORBIT_NUMBER = 17897
ORBITAL_ECCENTRICITY = 0.573
ORBITAL_INCLINATION = 86.98
ORBITAL_SEMIMAJOR_AXIS = 8800.93
PERIAPSIS_ALTITUDE = 370.09
PERIAPSIS_ARGUMENT_ANGLE = 135.66
PERIAPSIS_TIME = 2018-02-21T04:25:08.000Z
SPACECRAFT_ORIENTATION = (0.0,-1.0,0.0)
^MEX_ORIENTATION_DESC = "MEX_ORIENTATION_DESC.TXT"
SPACECRAFT_POINTING_MODE = ACROSSTRACK
^MEX_POINTING_DESC = "MEX_POINTING_DESC.TXT"
RIGHT_ASCENSION = -1e+32
DECLINATION = -1e+32
OFFSET_ANGLE = -0.6
SPACECRAFT_SOLAR_DISTANCE = 2.36439e+08
TARGET_NAME = MARS
/* CAMERA DATA ELEMENTS */
DETECTOR_TEMPERATURE = 0.0
FOCAL_PLANE_TEMPERATURE = 0.0
INST_CMPRS_NAME = "DISCRETE COSINE TRANSFORMATION (DCT)"
INST_CMPRS_RATIO = 16.3438
INST_CMPRS_QUALITY = 0
INST_CMPRS_QUANTZ_TBL_ID = 0
INSTRUMENT_TEMPERATURE = 0.0
LENS_TEMPERATURE = 0.0
MACROPIXEL_SIZE = 4
MISSING_FRAMES = 0
PIXEL_SUBSAMPLING_FLAG = N
SIGNAL_CHAIN_ID = 2
/* RADIOMETRIC DATA ELEMENTS */
BANDWIDTH = 48.0
CENTER_FILTER_WAVELENGTH = 748.0
RADIANCE_OFFSET = 1.19981
RADIANCE_SCALING_FACTOR = 0.00483232
REFLECTANCE_SCALING_FACTOR = 0.000616479
MEX:REFLECTANCE_OFFSET = 0.153065
/* IMAGE OBJECT DEFINITIONS */
OBJECT = IMAGE
  INTERCHANGE_FORMAT = BINARY
  LINES = 9771
  LINE_SAMPLES = 2026
  SAMPLE_TYPE = UNSIGNED_INTEGER
  SAMPLE_BITS = 8
  BANDS = 1
  BAND_STORAGE_TYPE = BAND_SEQUENTIAL
  MAXIMUM = 255
  MEAN = 158.339
  MINIMUM = 1
  STANDARD_DEVIATION = 11.7814
END_OBJECT = IMAGE
/* MAP OBJECT DEFINITIONS */
OBJECT = IMAGE_MAP_PROJECTION
  ^DATA_SET_MAP_PROJECTION_CATALOG= "DSMAP.CAT"
  A_AXIS_RADIUS = 3396.0
  B_AXIS_RADIUS = 3396.0
  C_AXIS_RADIUS = 3396.0
  CENTER_LATITUDE = 0.0
  CENTER_LONGITUDE = 218.0
  COORDINATE_SYSTEM_NAME = PLANETOGRAPHIC
  COORDINATE_SYSTEM_TYPE = "BODY-FIXED ROTATING"
  EASTERNMOST_LONGITUDE = 218.865
  FIRST_STANDARD_PARALLEL = "N/A"
  LINE_FIRST_PIXEL = 1
  LINE_LAST_PIXEL = 9771
  LINE_PROJECTION_OFFSET = 60859.125
  MAP_PROJECTION_ROTATION = 0.0
  MAP_PROJECTION_TYPE = SINUSOIDAL
  MAP_RESOLUTION = 1185.42760773333
  MAP_SCALE = 0.05
  MAXIMUM_LATITUDE = 51.321
  MINIMUM_LATITUDE = 44.9776
  POSITIVE_LONGITUDE_DIRECTION = EAST
  REFERENCE_LATITUDE = "N/A"
  REFERENCE_LONGITUDE = "N/A"
  SAMPLE_FIRST_PIXEL = 1
  SAMPLE_LAST_PIXEL = 2026
  SAMPLE_PROJECTION_OFFSET = 1216.875
  SECOND_STANDARD_PARALLEL = "N/A"
  WESTERNMOST_LONGITUDE = 216.364
END_OBJECT = IMAGE_MAP_PROJECTION
END
