PDS_VERSION_ID = PDS3
/* FILE DATA ELEMENTS */
RECORD_TYPE = UNDEFINED
/* POINTERS TO DATA OBJECTS */
^IMAGE = ("HH908_0000_BL4.TIF")
/* IDENTIFICATION DATA ELEMENTS */
DATA_SET_ID = "MEX-M-HRSC-4-REFDR-MAPPROJECT-EXT6-V4.0"
DATA_SET_NAME = "MARS EXPRESS HRSC MAP PROJECTED REFDR EXTENSION6 V4.0"
DETECTOR_ID = MEX_HRSC_BLUE
EVENT_TYPE = "MARS-REGIONAL-MAPPING-Vo-Im-Pf"
INSTRUMENT_HOST_ID = MEX
INSTRUMENT_HOST_NAME = "MARS EXPRESS"
INSTRUMENT_ID = HRSC
INSTRUMENT_NAME = "HIGH RESOLUTION STEREO CAMERA"
MISSION_NAME = "MARS EXPRESS"
MISSION_PHASE_NAME = ME_Phase_38
PROCESSING_LEVEL_ID = 4
PRODUCT_CREATION_TIME = 2023-01-28T19:29:54.000Z
PRODUCT_ID = "HH908_0000_BL4.TIF"
RELEASE_ID = 0003
REVISION_ID = 0000
/* QUALITY DATA ELEMENTS */
DATA_QUALITY_ID = 1
DATA_QUALITY_DESC = "Data calculated based on original SPICE kernels"
/* TIME DATA ELEMENTS */
SPACECRAFT_CLOCK_START_COUNT = "1/0467543460.08306"
SPACECRAFT_CLOCK_STOP_COUNT = "1/0467543701.09331"
START_TIME = 2018-02-24T09:11:51.974Z
STOP_TIME = 2018-02-24T09:14:39.682Z
/* ORBITAL DATA ELEMENTS */
ASCENDING_NODE_LONGITUDE = 237.93
MAXIMUM_RESOLUTION = 0.0602
FOOTPRINT_POINT_LATITUDE = (54.4027,54.3931,54.3767,54.357,54.3437 ,54.3429,54.3613,53.9324,53.3958, 52.9664,52.6441,52.4291,51.9993,51.6767 ,51.4615,51.2463,50.9235,50.6006, 50.3852,50.17,49.9545,49.7392,49.5236, 49.2007,48.985,48.7695,48.5541,48.3386, 48.0153,47.692,47.3688,47.1533,46.9379, 46.7222,46.5068,46.2914,46.0759,45.8605 ,45.6451,45.3221,45.1067,44.8914, 44.6761,44.4608,44.2456,44.0304,43.7077 ,43.6002,43.5779,43.586,43.5938,43.5996 ,43.6047,43.6088,43.6089,43.61,43.9333, 44.3647,44.6882,44.904,45.1198,45.3356, 45.5515,45.7674,46.0913,46.4153,46.6313 ,46.8473,47.0633,47.2792,47.6033, 47.9276,48.1437,48.4678,48.7919,49.008, 49.2241,49.4402,49.6562,49.8722,50.0882 ,50.4122,50.6282,50.8442,51.1681,51.384 ,51.5998,51.8157,52.0314,52.355,52.5707 ,52.7863,53.0019,53.2175,53.5406, 53.7561,54.0791,54.2945,54.4021, 54.4027)
FOOTPRINT_POINT_LONGITUDE = (176.933,176.441,175.765,175.099, 174.707,174.686,174.671,174.717,174.771 ,174.812,174.842,174.862,174.9,174.927, 174.945,174.963,174.988,175.013,175.029 ,175.045,175.061,175.076,175.091, 175.113,175.127,175.141,175.155,175.168 ,175.188,175.206,175.225,175.237, 175.248,175.26,175.271,175.281,175.292, 175.302,175.313,175.327,175.337,175.346 ,175.355,175.364,175.373,175.381, 175.393,175.397,175.398,175.749,176.138 ,176.479,176.841,177.205,177.223, 177.229,177.225,177.221,177.217,177.214 ,177.212,177.209,177.207,177.204, 177.199,177.195,177.192,177.189,177.186 ,177.182,177.177,177.173,177.17,177.165 ,177.159,177.156,177.152,177.148, 177.144,177.14,177.136,177.129,177.125, 177.121,177.114,177.11,177.105,177.101, 177.096,177.088,177.083,177.078,177.073 ,177.067,177.059,177.053,177.044, 177.039,177.036,176.933)
ORBIT_NUMBER = 17908
ORBITAL_ECCENTRICITY = 0.573
ORBITAL_INCLINATION = 86.97
ORBITAL_SEMIMAJOR_AXIS = 8794.0
PERIAPSIS_ALTITUDE = 371.87
PERIAPSIS_ARGUMENT_ANGLE = 133.79
PERIAPSIS_TIME = 2018-02-24T09:13:54.000Z
SPACECRAFT_ORIENTATION = (0.0,-1.0,0.0)
^MEX_ORIENTATION_DESC = "MEX_ORIENTATION_DESC.TXT"
SPACECRAFT_POINTING_MODE = ACROSSTRACK
^MEX_POINTING_DESC = "MEX_POINTING_DESC.TXT"
RIGHT_ASCENSION = -1e+32
DECLINATION = -1e+32
OFFSET_ANGLE = 0.55
SPACECRAFT_SOLAR_DISTANCE = 2.35884e+08
TARGET_NAME = MARS
/* CAMERA DATA ELEMENTS */
DETECTOR_TEMPERATURE = 18.1666
FOCAL_PLANE_TEMPERATURE = 8.5833
INST_CMPRS_NAME = "DISCRETE COSINE TRANSFORMATION (DCT)"
INST_CMPRS_RATIO = 8.68875
INST_CMPRS_QUALITY = 0
INST_CMPRS_QUANTZ_TBL_ID = 0
INSTRUMENT_TEMPERATURE = 11.4379
LENS_TEMPERATURE = 8.5833
MACROPIXEL_SIZE = 4
MISSING_FRAMES = 0
PIXEL_SUBSAMPLING_FLAG = N
SIGNAL_CHAIN_ID = 2
/* RADIOMETRIC DATA ELEMENTS */
BANDWIDTH = 76.0
CENTER_FILTER_WAVELENGTH = 444.0
RADIANCE_OFFSET = 0.441793
RADIANCE_SCALING_FACTOR = 0.00154689
REFLECTANCE_SCALING_FACTOR = 8.84329e-05
MEX:REFLECTANCE_OFFSET = 0.0252564
/* IMAGE OBJECT DEFINITIONS */
OBJECT = IMAGE
  INTERCHANGE_FORMAT = BINARY
  LINES = 12853
  LINE_SAMPLES = 1984
  SAMPLE_TYPE = UNSIGNED_INTEGER
  SAMPLE_BITS = 8
  BANDS = 1
  BAND_STORAGE_TYPE = BAND_SEQUENTIAL
  MAXIMUM = 255
  MEAN = 131.971
  MINIMUM = 1
  STANDARD_DEVIATION = 28.4755
END_OBJECT = IMAGE
/* MAP OBJECT DEFINITIONS */
OBJECT = IMAGE_MAP_PROJECTION
  ^DATA_SET_MAP_PROJECTION_CATALOG= "DSMAP.CAT"
  A_AXIS_RADIUS = 3396.0
  B_AXIS_RADIUS = 3396.0
  C_AXIS_RADIUS = 3396.0
  CENTER_LATITUDE = 0.0
  CENTER_LONGITUDE = 176.0
  COORDINATE_SYSTEM_NAME = PLANETOGRAPHIC
  COORDINATE_SYSTEM_TYPE = "BODY-FIXED ROTATING"
  EASTERNMOST_LONGITUDE = 177.229
  FIRST_STANDARD_PARALLEL = "N/A"
  LINE_FIRST_PIXEL = 1
  LINE_LAST_PIXEL = 12853
  LINE_PROJECTION_OFFSET = 64497.875
  MAP_PROJECTION_ROTATION = 0.0
  MAP_PROJECTION_TYPE = SINUSOIDAL
  MAP_RESOLUTION = 1185.42760773333
  MAP_SCALE = 0.05
  MAXIMUM_LATITUDE = 54.4027
  MINIMUM_LATITUDE = 43.5779
  POSITIVE_LONGITUDE_DIRECTION = EAST
  REFERENCE_LATITUDE = "N/A"
  REFERENCE_LONGITUDE = "N/A"
  SAMPLE_FIRST_PIXEL = 1
  SAMPLE_LAST_PIXEL = 1984
  SAMPLE_PROJECTION_OFFSET = 929.875
  SECOND_STANDARD_PARALLEL = "N/A"
  WESTERNMOST_LONGITUDE = 174.671
END_OBJECT = IMAGE_MAP_PROJECTION
END
