PDS_VERSION_ID = PDS3
/* FILE DATA ELEMENTS */
RECORD_TYPE = UNDEFINED
/* POINTERS TO DATA OBJECTS */
^IMAGE = ("HH908_0000_GR4.TIF")
/* IDENTIFICATION DATA ELEMENTS */
DATA_SET_ID = "MEX-M-HRSC-4-REFDR-MAPPROJECT-EXT6-V4.0"
DATA_SET_NAME = "MARS EXPRESS HRSC MAP PROJECTED REFDR EXTENSION6 V4.0"
DETECTOR_ID = MEX_HRSC_GREEN
EVENT_TYPE = "MARS-REGIONAL-MAPPING-Vo-Im-Pf"
INSTRUMENT_HOST_ID = MEX
INSTRUMENT_HOST_NAME = "MARS EXPRESS"
INSTRUMENT_ID = HRSC
INSTRUMENT_NAME = "HIGH RESOLUTION STEREO CAMERA"
MISSION_NAME = "MARS EXPRESS"
MISSION_PHASE_NAME = ME_Phase_38
PROCESSING_LEVEL_ID = 4
PRODUCT_CREATION_TIME = 2023-01-28T19:29:54.000Z
PRODUCT_ID = "HH908_0000_GR4.TIF"
RELEASE_ID = 0003
REVISION_ID = 0000
/* QUALITY DATA ELEMENTS */
DATA_QUALITY_ID = 1
DATA_QUALITY_DESC = "Data calculated based on original SPICE kernels"
/* TIME DATA ELEMENTS */
SPACECRAFT_CLOCK_START_COUNT = "1/0467543460.08306"
SPACECRAFT_CLOCK_STOP_COUNT = "1/0467543701.09331"
START_TIME = 2018-02-24T09:11:39.975Z
STOP_TIME = 2018-02-24T09:14:28.315Z
/* ORBITAL DATA ELEMENTS */
ASCENDING_NODE_LONGITUDE = 237.93
MAXIMUM_RESOLUTION = 0.0601
FOOTPRINT_POINT_LATITUDE = (54.4187,54.4124,54.4003,54.3845, 54.3733,54.3727,54.3553,53.8237,53.3981 ,52.9719,52.5454,52.1185,51.6909, 51.3702,51.1564,50.9423,50.7282,50.514, 50.2997,50.0854,49.871,49.6565,49.442, 49.2273,48.9054,48.6906,48.3683,48.046, 47.8311,47.616,47.4009,47.1858,46.9707, 46.648,46.325,46.1097,45.8944,45.5714, 45.356,45.1406,44.9252,44.6021,44.2789, 43.9557,43.7403,43.6326,43.5696,43.5769 ,43.5804,43.5846,43.5854,43.5854, 43.5864,43.8023,44.0183,44.2342,44.4501 ,44.6661,44.882,45.0979,45.4217,45.7455 ,45.9614,46.1772,46.393,46.6087,46.8245 ,47.0403,47.256,47.4717,47.795,48.0105, 48.226,48.4415,48.6569,48.8723,49.0876, 49.3029,49.5181,49.7333,49.9484,50.1634 ,50.3784,50.5933,50.8082,51.0229, 51.2376,51.4522,51.6668,51.8812,52.0956 ,52.3099,52.5242,52.7383,52.9524, 53.3802,53.8076,54.2346,54.3413, 54.4187)
FOOTPRINT_POINT_LONGITUDE = (176.939,176.444,175.762,175.09,174.694 ,174.673,174.662,174.718,174.761, 174.803,174.843,174.882,174.919,174.946 ,174.963,174.98,174.997,175.014,175.03, 175.046,175.062,175.077,175.092,175.107 ,175.128,175.142,175.162,175.182, 175.195,175.208,175.22,175.232,175.244, 175.261,175.278,175.289,175.299,175.315 ,175.325,175.334,175.344,175.358, 175.371,175.384,175.392,175.396,175.399 ,175.901,176.222,176.839,177.203, 177.221,177.226,177.224,177.222,177.22, 177.218,177.215,177.213,177.21,177.207, 177.203,177.2,177.198,177.195,177.192, 177.189,177.186,177.183,177.18,177.175, 177.173,177.169,177.166,177.163,177.159 ,177.156,177.152,177.148,177.145, 177.141,177.137,177.133,177.129,177.125 ,177.121,177.117,177.112,177.108, 177.103,177.099,177.094,177.089,177.084 ,177.079,177.068,177.058,177.047, 177.044,176.939)
ORBIT_NUMBER = 17908
ORBITAL_ECCENTRICITY = 0.573
ORBITAL_INCLINATION = 86.97
ORBITAL_SEMIMAJOR_AXIS = 8794.0
PERIAPSIS_ALTITUDE = 371.87
PERIAPSIS_ARGUMENT_ANGLE = 133.79
PERIAPSIS_TIME = 2018-02-24T09:13:54.000Z
SPACECRAFT_ORIENTATION = (0.0,-1.0,0.0)
^MEX_ORIENTATION_DESC = "MEX_ORIENTATION_DESC.TXT"
SPACECRAFT_POINTING_MODE = ACROSSTRACK
^MEX_POINTING_DESC = "MEX_POINTING_DESC.TXT"
RIGHT_ASCENSION = -1e+32
DECLINATION = -1e+32
OFFSET_ANGLE = 0.55
SPACECRAFT_SOLAR_DISTANCE = 2.35884e+08
TARGET_NAME = MARS
/* CAMERA DATA ELEMENTS */
DETECTOR_TEMPERATURE = 18.1666
FOCAL_PLANE_TEMPERATURE = 8.5833
INST_CMPRS_NAME = "DISCRETE COSINE TRANSFORMATION (DCT)"
INST_CMPRS_RATIO = 14.3203
INST_CMPRS_QUALITY = 0
INST_CMPRS_QUANTZ_TBL_ID = 0
INSTRUMENT_TEMPERATURE = 11.4379
LENS_TEMPERATURE = 8.5833
MACROPIXEL_SIZE = 4
MISSING_FRAMES = 0
PIXEL_SUBSAMPLING_FLAG = N
SIGNAL_CHAIN_ID = 2
/* RADIOMETRIC DATA ELEMENTS */
BANDWIDTH = 88.0
CENTER_FILTER_WAVELENGTH = 538.0
RADIANCE_OFFSET = 0.941533
RADIANCE_SCALING_FACTOR = 0.00553843
REFLECTANCE_SCALING_FACTOR = 0.000265323
MEX:REFLECTANCE_OFFSET = 0.0451049
/* IMAGE OBJECT DEFINITIONS */
OBJECT = IMAGE
  INTERCHANGE_FORMAT = BINARY
  LINES = 12853
  LINE_SAMPLES = 1984
  SAMPLE_TYPE = UNSIGNED_INTEGER
  SAMPLE_BITS = 8
  BANDS = 1
  BAND_STORAGE_TYPE = BAND_SEQUENTIAL
  MAXIMUM = 255
  MEAN = 134.602
  MINIMUM = 1
  STANDARD_DEVIATION = 31.563
END_OBJECT = IMAGE
/* MAP OBJECT DEFINITIONS */
OBJECT = IMAGE_MAP_PROJECTION
  ^DATA_SET_MAP_PROJECTION_CATALOG= "DSMAP.CAT"
  A_AXIS_RADIUS = 3396.0
  B_AXIS_RADIUS = 3396.0
  C_AXIS_RADIUS = 3396.0
  CENTER_LATITUDE = 0.0
  CENTER_LONGITUDE = 176.0
  COORDINATE_SYSTEM_NAME = PLANETOGRAPHIC
  COORDINATE_SYSTEM_TYPE = "BODY-FIXED ROTATING"
  EASTERNMOST_LONGITUDE = 177.226
  FIRST_STANDARD_PARALLEL = "N/A"
  LINE_FIRST_PIXEL = 1
  LINE_LAST_PIXEL = 12853
  LINE_PROJECTION_OFFSET = 64497.875
  MAP_PROJECTION_ROTATION = 0.0
  MAP_PROJECTION_TYPE = SINUSOIDAL
  MAP_RESOLUTION = 1185.42760773333
  MAP_SCALE = 0.05
  MAXIMUM_LATITUDE = 54.4187
  MINIMUM_LATITUDE = 43.5696
  POSITIVE_LONGITUDE_DIRECTION = EAST
  REFERENCE_LATITUDE = "N/A"
  REFERENCE_LONGITUDE = "N/A"
  SAMPLE_FIRST_PIXEL = 1
  SAMPLE_LAST_PIXEL = 1984
  SAMPLE_PROJECTION_OFFSET = 929.875
  SECOND_STANDARD_PARALLEL = "N/A"
  WESTERNMOST_LONGITUDE = 174.662
END_OBJECT = IMAGE_MAP_PROJECTION
END
