PDS_VERSION_ID = PDS3
/* FILE DATA ELEMENTS */
RECORD_TYPE = UNDEFINED
/* POINTERS TO DATA OBJECTS */
^IMAGE = ("HH911_0000_S24.TIF")
/* IDENTIFICATION DATA ELEMENTS */
DATA_SET_ID = "MEX-M-HRSC-4-REFDR-MAPPROJECT-EXT6-V4.0"
DATA_SET_NAME = "MARS EXPRESS HRSC MAP PROJECTED REFDR EXTENSION6 V4.0"
DETECTOR_ID = MEX_HRSC_S2
EVENT_TYPE = "MARS-REGIONAL-STEREO-Vo-Te-Gl"
INSTRUMENT_HOST_ID = MEX
INSTRUMENT_HOST_NAME = "MARS EXPRESS"
INSTRUMENT_ID = HRSC
INSTRUMENT_NAME = "HIGH RESOLUTION STEREO CAMERA"
MISSION_NAME = "MARS EXPRESS"
MISSION_PHASE_NAME = ME_Phase_38
PROCESSING_LEVEL_ID = 4
PRODUCT_CREATION_TIME = 2023-01-28T19:29:54.000Z
PRODUCT_ID = "HH911_0000_S24.TIF"
RELEASE_ID = 0003
REVISION_ID = 0000
/* QUALITY DATA ELEMENTS */
DATA_QUALITY_ID = 1
DATA_QUALITY_DESC = "Data calculated based on original SPICE kernels"
/* TIME DATA ELEMENTS */
SPACECRAFT_CLOCK_START_COUNT = "1/0467619076.08292"
SPACECRAFT_CLOCK_STOP_COUNT = "1/0467619315.08411"
START_TIME = 2018-02-25T06:12:34.836Z
STOP_TIME = 2018-02-25T06:15:22.457Z
/* ORBITAL DATA ELEMENTS */
ASCENDING_NODE_LONGITUDE = 237.88
MAXIMUM_RESOLUTION = 0.0163
FOOTPRINT_POINT_LATITUDE = (41.4889,41.4937,41.4981,41.5022, 41.5061,41.5095,41.5134,41.5135,41.5749 ,41.2644,41.0575,40.8508,40.6443, 40.4379,40.1286,39.9227,39.7168,39.4086 ,39.2025,38.8936,38.5841,38.3777, 38.0768,37.874,37.668,37.3601,37.0558, 36.6548,36.449,36.0452,35.6426,35.0419, 34.7383,34.5331,34.3286,34.1248,33.9219 ,33.7187,33.516,33.3129,33.0018,32.7932 ,32.585,32.3771,32.0656,31.8584,31.6462 ,31.4342,31.3283,31.3247,31.3148, 31.3067,31.2998,31.2913,31.2827,31.2695 ,31.269,31.268,31.4809,31.6922,31.9014, 32.1083,32.3142,32.5214,32.8335,33.042, 33.2487,33.4528,33.6575,33.9639,34.1691 ,34.3744,34.6823,34.8865,35.29,35.6882, 35.8908,36.1972,36.4002,36.7044,37.1104 ,37.3161,37.625,37.8332,38.1366,38.4453 ,38.6514,38.8559,39.1642,39.3699, 39.5761,39.7828,40.0926,40.2992,40.6096 ,40.8167,41.0243,41.4392,41.5434, 41.4889)
FOOTPRINT_POINT_LONGITUDE = (229.046,228.771,228.493,228.213,227.93 ,227.644,227.281,227.263,227.195, 227.213,227.224,227.236,227.247,227.258 ,227.274,227.284,227.294,227.309,227.32 ,227.335,227.351,227.361,227.369, 227.376,227.387,227.401,227.412,227.422 ,227.432,227.445,227.457,227.473,227.48 ,227.486,227.49,227.494,227.498,227.501 ,227.504,227.508,227.513,227.517, 227.521,227.525,227.53,227.533,227.537, 227.54,227.541,227.541,227.912,228.204, 228.44,228.728,229.014,229.35,229.367, 229.376,229.371,229.365,229.36,229.354, 229.349,229.343,229.335,229.329,229.324 ,229.318,229.312,229.304,229.298, 229.292,229.283,229.277,229.264,229.252 ,229.246,229.236,229.23,229.22,229.206, 229.199,229.189,229.181,229.171,229.16, 229.152,229.145,229.133,229.126,229.118 ,229.11,229.098,229.09,229.077,229.069, 229.06,229.043,229.038,229.046)
ORBIT_NUMBER = 17911
ORBITAL_ECCENTRICITY = 0.573
ORBITAL_INCLINATION = 86.98
ORBITAL_SEMIMAJOR_AXIS = 8798.93
PERIAPSIS_ALTITUDE = 371.13
PERIAPSIS_ARGUMENT_ANGLE = 133.23
PERIAPSIS_TIME = 2018-02-25T06:10:40.000Z
SPACECRAFT_ORIENTATION = (0.0,-1.0,0.0)
^MEX_ORIENTATION_DESC = "MEX_ORIENTATION_DESC.TXT"
SPACECRAFT_POINTING_MODE = ACROSSTRACK
^MEX_POINTING_DESC = "MEX_POINTING_DESC.TXT"
RIGHT_ASCENSION = -1e+32
DECLINATION = -1e+32
OFFSET_ANGLE = -0.808
SPACECRAFT_SOLAR_DISTANCE = 2.35731e+08
TARGET_NAME = MARS
/* CAMERA DATA ELEMENTS */
DETECTOR_TEMPERATURE = 19.1861
FOCAL_PLANE_TEMPERATURE = 9.3989
INST_CMPRS_NAME = "DISCRETE COSINE TRANSFORMATION (DCT)"
INST_CMPRS_RATIO = 5.96015
INST_CMPRS_QUALITY = 0
INST_CMPRS_QUANTZ_TBL_ID = 0
INSTRUMENT_TEMPERATURE = 12.4574
LENS_TEMPERATURE = 10.0106
MACROPIXEL_SIZE = 1
MISSING_FRAMES = 0
PIXEL_SUBSAMPLING_FLAG = N
SIGNAL_CHAIN_ID = 1
/* RADIOMETRIC DATA ELEMENTS */
BANDWIDTH = 178.0
CENTER_FILTER_WAVELENGTH = 679.0
RADIANCE_OFFSET = 2.96503
RADIANCE_SCALING_FACTOR = 0.0332216
REFLECTANCE_SCALING_FACTOR = 0.00097765
MEX:REFLECTANCE_OFFSET = 0.0872553
/* IMAGE OBJECT DEFINITIONS */
OBJECT = IMAGE
  INTERCHANGE_FORMAT = BINARY
  LINES = 48959
  LINE_SAMPLES = 8153
  SAMPLE_TYPE = UNSIGNED_INTEGER
  SAMPLE_BITS = 8
  BANDS = 1
  BAND_STORAGE_TYPE = BAND_SEQUENTIAL
  MAXIMUM = 255
  MEAN = 153.016
  MINIMUM = 1
  STANDARD_DEVIATION = 20.7361
END_OBJECT = IMAGE
/* MAP OBJECT DEFINITIONS */
OBJECT = IMAGE_MAP_PROJECTION
  ^DATA_SET_MAP_PROJECTION_CATALOG= "DSMAP.CAT"
  A_AXIS_RADIUS = 3396.0
  B_AXIS_RADIUS = 3396.0
  C_AXIS_RADIUS = 3396.0
  CENTER_LATITUDE = 0.0
  CENTER_LONGITUDE = 228.0
  COORDINATE_SYSTEM_NAME = PLANETOGRAPHIC
  COORDINATE_SYSTEM_TYPE = "BODY-FIXED ROTATING"
  EASTERNMOST_LONGITUDE = 229.376
  FIRST_STANDARD_PARALLEL = "N/A"
  LINE_FIRST_PIXEL = 1
  LINE_LAST_PIXEL = 48959
  LINE_PROJECTION_OFFSET = 197200.0
  MAP_PROJECTION_ROTATION = 0.0
  MAP_PROJECTION_TYPE = SINUSOIDAL
  MAP_RESOLUTION = 4741.71043093333
  MAP_SCALE = 0.0125
  MAXIMUM_LATITUDE = 41.5749
  MINIMUM_LATITUDE = 31.268
  POSITIVE_LONGITUDE_DIRECTION = EAST
  REFERENCE_LATITUDE = "N/A"
  REFERENCE_LONGITUDE = "N/A"
  SAMPLE_FIRST_PIXEL = 1
  SAMPLE_LAST_PIXEL = 8153
  SAMPLE_PROJECTION_OFFSET = 2746.0
  SECOND_STANDARD_PARALLEL = "N/A"
  WESTERNMOST_LONGITUDE = 227.195
END_OBJECT = IMAGE_MAP_PROJECTION
END
