PDS_VERSION_ID = PDS3
/* FILE DATA ELEMENTS */
RECORD_TYPE = UNDEFINED
/* POINTERS TO DATA OBJECTS */
^IMAGE = ("HH912_0000_RE4.TIF")
/* IDENTIFICATION DATA ELEMENTS */
DATA_SET_ID = "MEX-M-HRSC-4-REFDR-MAPPROJECT-EXT6-V4.0"
DATA_SET_NAME = "MARS EXPRESS HRSC MAP PROJECTED REFDR EXTENSION6 V4.0"
DETECTOR_ID = MEX_HRSC_RED
EVENT_TYPE = "MARS-REGIONAL-MAPPING-Vo-Im-Pf"
INSTRUMENT_HOST_ID = MEX
INSTRUMENT_HOST_NAME = "MARS EXPRESS"
INSTRUMENT_ID = HRSC
INSTRUMENT_NAME = "HIGH RESOLUTION STEREO CAMERA"
MISSION_NAME = "MARS EXPRESS"
MISSION_PHASE_NAME = ME_Phase_38
PROCESSING_LEVEL_ID = 4
PRODUCT_CREATION_TIME = 2023-01-28T19:29:54.000Z
PRODUCT_ID = "HH912_0000_RE4.TIF"
RELEASE_ID = 0003
REVISION_ID = 0000
/* QUALITY DATA ELEMENTS */
DATA_QUALITY_ID = 1
DATA_QUALITY_DESC = "Data calculated based on original SPICE kernels"
/* TIME DATA ELEMENTS */
SPACECRAFT_CLOCK_START_COUNT = "1/0467644066.09105"
SPACECRAFT_CLOCK_STOP_COUNT = "1/0467644282.58611"
START_TIME = 2018-02-25T13:08:58.758Z
STOP_TIME = 2018-02-25T13:11:24.237Z
/* ORBITAL DATA ELEMENTS */
ASCENDING_NODE_LONGITUDE = 237.86
MAXIMUM_RESOLUTION = 0.063
FOOTPRINT_POINT_LATITUDE = (51.434,51.4299,51.4251,51.4197,51.4138 ,51.4073,51.3952,51.3947,51.4763, 51.2889,51.0078,50.8206,50.5395,50.3523 ,50.165,49.8841,49.6969,49.416,49.2293, 49.043,48.8563,48.6691,48.3894,48.2029, 47.9234,47.7371,47.5507,47.3643,47.1779 ,46.9914,46.8054,46.6194,46.4334, 46.2477,45.969,45.7834,45.5979,45.4124, 45.2271,45.0418,44.8568,44.6718,44.3943 ,44.0248,43.471,43.1024,42.5504,42.275, 42.1832,42.1693,42.172,42.1751,42.1772, 42.1783,42.1791,42.1796,42.1796,42.1806 ,42.4573,42.9183,43.4726,43.8424, 44.0274,44.3054,44.4907,44.6762,44.8618 ,45.1402,45.3262,45.5124,45.6986, 45.8848,46.0712,46.3508,46.5373,46.7238 ,46.9105,47.0973,47.284,47.4708,47.6576 ,47.8445,48.0318,48.219,48.4061,48.687, 48.9681,49.1554,49.343,49.5309,49.8127, 50.0943,50.3758,50.6578,50.8458,51.0339 ,51.2222,51.4104,51.5045,51.434)
FOOTPRINT_POINT_LONGITUDE = (127.007,126.705,126.402,126.098, 125.792,125.486,124.983,124.964,124.872 ,124.894,124.925,124.946,124.977, 124.997,125.017,125.047,125.066,125.094 ,125.112,125.13,125.147,125.165,125.19, 125.207,125.231,125.247,125.263,125.279 ,125.295,125.31,125.325,125.339,125.354 ,125.368,125.389,125.402,125.415, 125.429,125.441,125.454,125.466,125.479 ,125.497,125.52,125.553,125.574,125.605 ,125.619,125.624,125.624,125.882,126.26 ,126.635,126.889,127.142,127.428, 127.445,127.451,127.441,127.425,127.405 ,127.391,127.384,127.373,127.366, 127.359,127.351,127.34,127.333,127.325, 127.317,127.309,127.301,127.289,127.281 ,127.273,127.264,127.256,127.247, 127.238,127.23,127.221,127.212,127.202, 127.193,127.179,127.165,127.155,127.145 ,127.135,127.12,127.104,127.088,127.072 ,127.061,127.05,127.039,127.028,127.022 ,127.007)
ORBIT_NUMBER = 17912
ORBITAL_ECCENTRICITY = 0.573
ORBITAL_INCLINATION = 86.96
ORBITAL_SEMIMAJOR_AXIS = 8800.61
PERIAPSIS_ALTITUDE = 371.94
PERIAPSIS_ARGUMENT_ANGLE = 133.09
PERIAPSIS_TIME = 2018-02-25T13:09:43.000Z
SPACECRAFT_ORIENTATION = (0.0,-1.0,0.0)
^MEX_ORIENTATION_DESC = "MEX_ORIENTATION_DESC.TXT"
SPACECRAFT_POINTING_MODE = ACROSSTRACK
^MEX_POINTING_DESC = "MEX_POINTING_DESC.TXT"
RIGHT_ASCENSION = -1e+32
DECLINATION = -1e+32
OFFSET_ANGLE = -0.38
SPACECRAFT_SOLAR_DISTANCE = 2.3568e+08
TARGET_NAME = MARS
/* CAMERA DATA ELEMENTS */
DETECTOR_TEMPERATURE = 19.1861
FOCAL_PLANE_TEMPERATURE = 9.3989
INST_CMPRS_NAME = "DISCRETE COSINE TRANSFORMATION (DCT)"
INST_CMPRS_RATIO = 12.8931
INST_CMPRS_QUALITY = 0
INST_CMPRS_QUANTZ_TBL_ID = 0
INSTRUMENT_TEMPERATURE = 12.2535
LENS_TEMPERATURE = 9.6028
MACROPIXEL_SIZE = 4
MISSING_FRAMES = 0
PIXEL_SUBSAMPLING_FLAG = N
SIGNAL_CHAIN_ID = 2
/* RADIOMETRIC DATA ELEMENTS */
BANDWIDTH = 48.0
CENTER_FILTER_WAVELENGTH = 748.0
RADIANCE_OFFSET = 0.988932
RADIANCE_SCALING_FACTOR = 0.00483181
REFLECTANCE_SCALING_FACTOR = 0.000612468
MEX:REFLECTANCE_OFFSET = 0.125354
/* IMAGE OBJECT DEFINITIONS */
OBJECT = IMAGE
  INTERCHANGE_FORMAT = BINARY
  LINES = 11110
  LINE_SAMPLES = 2098
  SAMPLE_TYPE = UNSIGNED_INTEGER
  SAMPLE_BITS = 8
  BANDS = 1
  BAND_STORAGE_TYPE = BAND_SEQUENTIAL
  MAXIMUM = 255
  MEAN = 89.4338
  MINIMUM = 1
  STANDARD_DEVIATION = 56.3125
END_OBJECT = IMAGE
/* MAP OBJECT DEFINITIONS */
OBJECT = IMAGE_MAP_PROJECTION
  ^DATA_SET_MAP_PROJECTION_CATALOG= "DSMAP.CAT"
  A_AXIS_RADIUS = 3396.0
  B_AXIS_RADIUS = 3396.0
  C_AXIS_RADIUS = 3396.0
  CENTER_LATITUDE = 0.0
  CENTER_LONGITUDE = 126.0
  COORDINATE_SYSTEM_NAME = PLANETOGRAPHIC
  COORDINATE_SYSTEM_TYPE = "BODY-FIXED ROTATING"
  EASTERNMOST_LONGITUDE = 127.451
  FIRST_STANDARD_PARALLEL = "N/A"
  LINE_FIRST_PIXEL = 1
  LINE_LAST_PIXEL = 11110
  LINE_PROJECTION_OFFSET = 61068.125
  MAP_PROJECTION_ROTATION = 0.0
  MAP_PROJECTION_TYPE = SINUSOIDAL
  MAP_RESOLUTION = 1185.42760773333
  MAP_SCALE = 0.05
  MAXIMUM_LATITUDE = 51.5045
  MINIMUM_LATITUDE = 42.1693
  POSITIVE_LONGITUDE_DIRECTION = EAST
  REFERENCE_LATITUDE = "N/A"
  REFERENCE_LONGITUDE = "N/A"
  SAMPLE_FIRST_PIXEL = 1
  SAMPLE_LAST_PIXEL = 2098
  SAMPLE_PROJECTION_OFFSET = 835.375
  SECOND_STANDARD_PARALLEL = "N/A"
  WESTERNMOST_LONGITUDE = 124.872
END_OBJECT = IMAGE_MAP_PROJECTION
END
