PDS_VERSION_ID = PDS3
/* FILE DATA ELEMENTS */
RECORD_TYPE = UNDEFINED
/* POINTERS TO DATA OBJECTS */
^IMAGE = ("HH912_0000_S14.TIF")
/* IDENTIFICATION DATA ELEMENTS */
DATA_SET_ID = "MEX-M-HRSC-4-REFDR-MAPPROJECT-EXT6-V4.0"
DATA_SET_NAME = "MARS EXPRESS HRSC MAP PROJECTED REFDR EXTENSION6 V4.0"
DETECTOR_ID = MEX_HRSC_S1
EVENT_TYPE = "MARS-REGIONAL-MAPPING-Vo-Im-Pf"
INSTRUMENT_HOST_ID = MEX
INSTRUMENT_HOST_NAME = "MARS EXPRESS"
INSTRUMENT_ID = HRSC
INSTRUMENT_NAME = "HIGH RESOLUTION STEREO CAMERA"
MISSION_NAME = "MARS EXPRESS"
MISSION_PHASE_NAME = ME_Phase_38
PROCESSING_LEVEL_ID = 4
PRODUCT_CREATION_TIME = 2023-01-28T19:29:54.000Z
PRODUCT_ID = "HH912_0000_S14.TIF"
RELEASE_ID = 0003
REVISION_ID = 0000
/* QUALITY DATA ELEMENTS */
DATA_QUALITY_ID = 1
DATA_QUALITY_DESC = "Data calculated based on original SPICE kernels"
/* TIME DATA ELEMENTS */
SPACECRAFT_CLOCK_START_COUNT = "1/0467644066.09105"
SPACECRAFT_CLOCK_STOP_COUNT = "1/0467644282.58611"
START_TIME = 2018-02-25T13:07:55.486Z
STOP_TIME = 2018-02-25T13:10:21.479Z
/* ORBITAL DATA ELEMENTS */
ASCENDING_NODE_LONGITUDE = 237.86
MAXIMUM_RESOLUTION = 0.0319
FOOTPRINT_POINT_LATITUDE = (51.6012,51.5879,51.5736,51.5581, 51.5413,51.5233,51.4966,51.4953,51.3916 ,50.9368,50.4812,50.025,49.6597,49.2935 ,49.1096,48.834,48.4669,48.283,48.0062, 47.7295,47.4531,47.2689,47.0844,46.8995 ,46.7146,46.5297,46.3446,46.1593, 45.8811,45.6956,45.5101,45.3243,45.1384 ,44.8592,44.6731,44.487,44.2075,44.0211 ,43.8349,43.6483,43.4616,43.2748, 43.0883,42.8079,42.6208,42.4335,42.2462 ,42.1526,42.1047,42.1182,42.1418, 42.1553,42.172,42.1815,42.1821,42.1828, 42.4638,42.7453,42.9329,43.2143,43.4013 ,43.5884,43.7757,43.9633,44.2437, 44.4307,44.6176,44.8044,44.9909,45.1778 ,45.3642,45.5503,45.7364,45.9222, 46.1083,46.2943,46.5732,46.7587,46.9444 ,47.13,47.3155,47.5009,47.6862,47.9639, 48.1486,48.3336,48.5184,48.7029,48.8877 ,49.0721,49.3486,49.7161,49.8997, 50.0834,50.2673,50.6342,51.0005,51.366, 51.4574,51.6012)
FOOTPRINT_POINT_LONGITUDE = (127.023,126.701,126.379,126.055,125.73 ,125.404,124.952,124.932,124.859, 124.914,124.966,125.017,125.056,125.094 ,125.113,125.14,125.176,125.193,125.219 ,125.244,125.269,125.285,125.301, 125.317,125.332,125.347,125.362,125.377 ,125.399,125.413,125.427,125.441, 125.454,125.474,125.487,125.5,125.519, 125.531,125.543,125.555,125.567,125.578 ,125.59,125.607,125.618,125.628,125.639 ,125.644,125.646,125.908,126.396, 126.707,127.137,127.411,127.428,127.434 ,127.426,127.417,127.411,127.402, 127.396,127.39,127.384,127.377,127.368, 127.361,127.355,127.348,127.341,127.335 ,127.328,127.321,127.314,127.307,127.3, 127.292,127.281,127.274,127.266,127.259 ,127.251,127.243,127.235,127.223, 127.215,127.207,127.199,127.19,127.182, 127.173,127.16,127.142,127.133,127.124, 127.115,127.096,127.077,127.057,127.052 ,127.023)
ORBIT_NUMBER = 17912
ORBITAL_ECCENTRICITY = 0.573
ORBITAL_INCLINATION = 86.96
ORBITAL_SEMIMAJOR_AXIS = 8800.61
PERIAPSIS_ALTITUDE = 371.94
PERIAPSIS_ARGUMENT_ANGLE = 133.09
PERIAPSIS_TIME = 2018-02-25T13:09:43.000Z
SPACECRAFT_ORIENTATION = (0.0,-1.0,0.0)
^MEX_ORIENTATION_DESC = "MEX_ORIENTATION_DESC.TXT"
SPACECRAFT_POINTING_MODE = ACROSSTRACK
^MEX_POINTING_DESC = "MEX_POINTING_DESC.TXT"
RIGHT_ASCENSION = -1e+32
DECLINATION = -1e+32
OFFSET_ANGLE = -0.38
SPACECRAFT_SOLAR_DISTANCE = 2.3568e+08
TARGET_NAME = MARS
/* CAMERA DATA ELEMENTS */
DETECTOR_TEMPERATURE = 18.3705
FOCAL_PLANE_TEMPERATURE = 9.3989
INST_CMPRS_NAME = "DISCRETE COSINE TRANSFORMATION (DCT)"
INST_CMPRS_RATIO = 8.02087
INST_CMPRS_QUALITY = 0
INST_CMPRS_QUANTZ_TBL_ID = 0
INSTRUMENT_TEMPERATURE = 12.2535
LENS_TEMPERATURE = 9.6028
MACROPIXEL_SIZE = 2
MISSING_FRAMES = 0
PIXEL_SUBSAMPLING_FLAG = N
SIGNAL_CHAIN_ID = 1
/* RADIOMETRIC DATA ELEMENTS */
BANDWIDTH = 180.0
CENTER_FILTER_WAVELENGTH = 677.0
RADIANCE_OFFSET = 3.68906
RADIANCE_SCALING_FACTOR = 0.0168781
REFLECTANCE_SCALING_FACTOR = 0.000489116
MEX:REFLECTANCE_OFFSET = 0.106907
/* IMAGE OBJECT DEFINITIONS */
OBJECT = IMAGE
  INTERCHANGE_FORMAT = BINARY
  LINES = 22220
  LINE_SAMPLES = 4196
  SAMPLE_TYPE = UNSIGNED_INTEGER
  SAMPLE_BITS = 8
  BANDS = 1
  BAND_STORAGE_TYPE = BAND_SEQUENTIAL
  MAXIMUM = 255
  MEAN = 90.0934
  MINIMUM = 1
  STANDARD_DEVIATION = 54.1674
END_OBJECT = IMAGE
/* MAP OBJECT DEFINITIONS */
OBJECT = IMAGE_MAP_PROJECTION
  ^DATA_SET_MAP_PROJECTION_CATALOG= "DSMAP.CAT"
  A_AXIS_RADIUS = 3396.0
  B_AXIS_RADIUS = 3396.0
  C_AXIS_RADIUS = 3396.0
  CENTER_LATITUDE = 0.0
  CENTER_LONGITUDE = 126.0
  COORDINATE_SYSTEM_NAME = PLANETOGRAPHIC
  COORDINATE_SYSTEM_TYPE = "BODY-FIXED ROTATING"
  EASTERNMOST_LONGITUDE = 127.434
  FIRST_STANDARD_PARALLEL = "N/A"
  LINE_FIRST_PIXEL = 1
  LINE_LAST_PIXEL = 22220
  LINE_PROJECTION_OFFSET = 122136.75
  MAP_PROJECTION_ROTATION = 0.0
  MAP_PROJECTION_TYPE = SINUSOIDAL
  MAP_RESOLUTION = 2370.85521546667
  MAP_SCALE = 0.025
  MAXIMUM_LATITUDE = 51.6012
  MINIMUM_LATITUDE = 42.1047
  POSITIVE_LONGITUDE_DIRECTION = EAST
  REFERENCE_LATITUDE = "N/A"
  REFERENCE_LONGITUDE = "N/A"
  SAMPLE_FIRST_PIXEL = 1
  SAMPLE_LAST_PIXEL = 4196
  SAMPLE_PROJECTION_OFFSET = 1671.25
  SECOND_STANDARD_PARALLEL = "N/A"
  WESTERNMOST_LONGITUDE = 124.859
END_OBJECT = IMAGE_MAP_PROJECTION
END
