PDS_VERSION_ID = PDS3
/* FILE DATA ELEMENTS */
RECORD_TYPE = UNDEFINED
/* POINTERS TO DATA OBJECTS */
^IMAGE = ("HH913_0000_IR4.TIF")
/* IDENTIFICATION DATA ELEMENTS */
DATA_SET_ID = "MEX-M-HRSC-4-REFDR-MAPPROJECT-EXT6-V4.0"
DATA_SET_NAME = "MARS EXPRESS HRSC MAP PROJECTED REFDR EXTENSION6 V4.0"
DETECTOR_ID = MEX_HRSC_IR
EVENT_TYPE = "MARS-REGIONAL-MAPPING-Im-Gl-Pf"
INSTRUMENT_HOST_ID = MEX
INSTRUMENT_HOST_NAME = "MARS EXPRESS"
INSTRUMENT_ID = HRSC
INSTRUMENT_NAME = "HIGH RESOLUTION STEREO CAMERA"
MISSION_NAME = "MARS EXPRESS"
MISSION_PHASE_NAME = ME_Phase_38
PROCESSING_LEVEL_ID = 4
PRODUCT_CREATION_TIME = 2023-01-28T19:29:54.000Z
PRODUCT_ID = "HH913_0000_IR4.TIF"
RELEASE_ID = 0003
REVISION_ID = 0000
/* QUALITY DATA ELEMENTS */
DATA_QUALITY_ID = 1
DATA_QUALITY_DESC = "Data calculated based on original SPICE kernels"
/* TIME DATA ELEMENTS */
SPACECRAFT_CLOCK_START_COUNT = "1/0467669261.07357"
SPACECRAFT_CLOCK_STOP_COUNT = "1/0467669516.32696"
START_TIME = 2018-02-25T20:07:56.314Z
STOP_TIME = 2018-02-25T20:10:57.283Z
/* ORBITAL DATA ELEMENTS */
ASCENDING_NODE_LONGITUDE = 237.84
MAXIMUM_RESOLUTION = 0.0623
FOOTPRINT_POINT_LATITUDE = (48.0735,48.0726,48.0679,48.0597, 48.0593,47.9857,47.7562,47.5268,47.182, 46.9519,46.6065,46.3757,45.9191,45.6852 ,45.4555,45.1105,44.8815,44.6485, 44.2985,44.0658,43.8351,43.606,43.3716, 43.0209,42.5615,42.3246,42.0911,41.8626 ,41.626,41.3934,41.1624,40.9278,40.695, 40.3499,40.0016,39.7673,39.4159,39.1811 ,38.8319,38.4889,38.2563,38.0223, 37.7887,37.5556,37.319,37.0876,36.7379, 36.5049,36.387,36.3222,36.3252,36.3236, 36.319,36.3137,36.3134,36.3143,36.5491, 36.7801,37.0157,37.3678,37.6013,37.8353 ,38.0685,38.3031,38.6534,38.8868, 39.1204,39.4706,39.7022,39.9374,40.171, 40.4047,40.6383,40.8712,41.2137,41.4461 ,41.6802,42.0347,42.2653,42.5035,42.962 ,43.1936,43.5432,43.7754,44.1226, 44.4721,44.7081,44.9371,45.2837,45.5186 ,45.9769,46.2084,46.4435,46.7875, 47.1325,47.3629,47.5942,47.8243,47.939, 48.0735)
FOOTPRINT_POINT_LONGITUDE = (26.2755,25.5206,24.952,24.3885,24.3709 ,24.3571,24.372,24.3867,24.4082,24.422, 24.4423,24.4554,24.4814,24.4933,24.5055 ,24.5232,24.5348,24.5457,24.5614, 24.5717,24.582,24.5923,24.6016,24.6153, 24.6338,24.6418,24.65,24.6587,24.666, 24.6737,24.6814,24.6884,24.6954,24.7062 ,24.716,24.7221,24.7307,24.7362,24.7445 ,24.7532,24.7583,24.7629,24.7675, 24.7719,24.7756,24.7799,24.7857,24.7893 ,24.7909,24.7916,25.2422,25.5866, 26.1233,26.4579,26.4739,26.4792,26.4769 ,26.4774,26.4743,26.4707,26.4691, 26.4671,26.4656,26.463,26.4603,26.4585, 26.4564,26.4534,26.4528,26.4492,26.4468 ,26.4443,26.4417,26.4396,26.4419,26.44, 26.4366,26.4285,26.4277,26.4204,26.4206 ,26.4185,26.4133,26.4103,26.4067, 26.4007,26.3939,26.393,26.3888,26.3823, 26.3791,26.3752,26.3678,26.3642,26.3593 ,26.3553,26.3504,26.3464,26.3447, 26.2755)
ORBIT_NUMBER = 17913
ORBITAL_ECCENTRICITY = 0.573
ORBITAL_INCLINATION = 86.96
ORBITAL_SEMIMAJOR_AXIS = 8798.15
PERIAPSIS_ALTITUDE = 372.26
PERIAPSIS_ARGUMENT_ANGLE = 132.92
PERIAPSIS_TIME = 2018-02-25T20:08:40.000Z
SPACECRAFT_ORIENTATION = (0.0,-1.0,0.0)
^MEX_ORIENTATION_DESC = "MEX_ORIENTATION_DESC.TXT"
SPACECRAFT_POINTING_MODE = ACROSSTRACK
^MEX_POINTING_DESC = "MEX_POINTING_DESC.TXT"
RIGHT_ASCENSION = -1e+32
DECLINATION = -1e+32
OFFSET_ANGLE = 0.4
SPACECRAFT_SOLAR_DISTANCE = 2.35629e+08
TARGET_NAME = MARS
/* CAMERA DATA ELEMENTS */
DETECTOR_TEMPERATURE = 17.5549
FOCAL_PLANE_TEMPERATURE = 8.3794
INST_CMPRS_NAME = "DISCRETE COSINE TRANSFORMATION (DCT)"
INST_CMPRS_RATIO = 8.39478
INST_CMPRS_QUALITY = 0
INST_CMPRS_QUANTZ_TBL_ID = 0
INSTRUMENT_TEMPERATURE = 11.4379
LENS_TEMPERATURE = 8.7872
MACROPIXEL_SIZE = 4
MISSING_FRAMES = 0
PIXEL_SUBSAMPLING_FLAG = N
SIGNAL_CHAIN_ID = 2
/* RADIOMETRIC DATA ELEMENTS */
BANDWIDTH = 81.0
CENTER_FILTER_WAVELENGTH = 955.5
RADIANCE_OFFSET = 0.534964
RADIANCE_SCALING_FACTOR = 0.00745919
REFLECTANCE_SCALING_FACTOR = 0.000893465
MEX:REFLECTANCE_OFFSET = 0.0640782
/* IMAGE OBJECT DEFINITIONS */
OBJECT = IMAGE
  INTERCHANGE_FORMAT = BINARY
  LINES = 13877
  LINE_SAMPLES = 1775
  SAMPLE_TYPE = UNSIGNED_INTEGER
  SAMPLE_BITS = 8
  BANDS = 1
  BAND_STORAGE_TYPE = BAND_SEQUENTIAL
  MAXIMUM = 255
  MEAN = 112.677
  MINIMUM = 1
  STANDARD_DEVIATION = 35.231
END_OBJECT = IMAGE
/* MAP OBJECT DEFINITIONS */
OBJECT = IMAGE_MAP_PROJECTION
  ^DATA_SET_MAP_PROJECTION_CATALOG= "DSMAP.CAT"
  A_AXIS_RADIUS = 3396.0
  B_AXIS_RADIUS = 3396.0
  C_AXIS_RADIUS = 3396.0
  CENTER_LATITUDE = 0.0
  CENTER_LONGITUDE = 26.0
  COORDINATE_SYSTEM_NAME = PLANETOGRAPHIC
  COORDINATE_SYSTEM_TYPE = "BODY-FIXED ROTATING"
  EASTERNMOST_LONGITUDE = 26.4792
  FIRST_STANDARD_PARALLEL = "N/A"
  LINE_FIRST_PIXEL = 1
  LINE_LAST_PIXEL = 13877
  LINE_PROJECTION_OFFSET = 56939.625
  MAP_PROJECTION_ROTATION = 0.0
  MAP_PROJECTION_TYPE = SINUSOIDAL
  MAP_RESOLUTION = 1185.42760773333
  MAP_SCALE = 0.05
  MAXIMUM_LATITUDE = 48.0735
  MINIMUM_LATITUDE = 36.3134
  POSITIVE_LONGITUDE_DIRECTION = EAST
  REFERENCE_LATITUDE = "N/A"
  REFERENCE_LONGITUDE = "N/A"
  SAMPLE_FIRST_PIXEL = 1
  SAMPLE_LAST_PIXEL = 1775
  SAMPLE_PROJECTION_OFFSET = 1308.625
  SECOND_STANDARD_PARALLEL = "N/A"
  WESTERNMOST_LONGITUDE = 24.3571
END_OBJECT = IMAGE_MAP_PROJECTION
END
