PDS_VERSION_ID = PDS3
/* FILE DATA ELEMENTS */
RECORD_TYPE = UNDEFINED
/* POINTERS TO DATA OBJECTS */
^IMAGE = ("HH916_0000_BL4.TIF")
/* IDENTIFICATION DATA ELEMENTS */
DATA_SET_ID = "MEX-M-HRSC-4-REFDR-MAPPROJECT-EXT6-V4.0"
DATA_SET_NAME = "MARS EXPRESS HRSC MAP PROJECTED REFDR EXTENSION6 V4.0"
DETECTOR_ID = MEX_HRSC_BLUE
EVENT_TYPE = "MARS-REGIONAL-MAPPING-Te-Im-Eo"
INSTRUMENT_HOST_ID = MEX
INSTRUMENT_HOST_NAME = "MARS EXPRESS"
INSTRUMENT_ID = HRSC
INSTRUMENT_NAME = "HIGH RESOLUTION STEREO CAMERA"
MISSION_NAME = "MARS EXPRESS"
MISSION_PHASE_NAME = ME_Phase_38
PROCESSING_LEVEL_ID = 4
PRODUCT_CREATION_TIME = 2023-01-28T19:29:54.000Z
PRODUCT_ID = "HH916_0000_BL4.TIF"
RELEASE_ID = 0003
REVISION_ID = 0000
/* QUALITY DATA ELEMENTS */
DATA_QUALITY_ID = 1
DATA_QUALITY_DESC = "Data calculated based on original SPICE kernels"
/* TIME DATA ELEMENTS */
SPACECRAFT_CLOCK_START_COUNT = "1/0467744894.09045"
SPACECRAFT_CLOCK_STOP_COUNT = "1/0467745123.58148"
START_TIME = 2018-02-26T17:09:06.197Z
STOP_TIME = 2018-02-26T17:11:30.382Z
/* ORBITAL DATA ELEMENTS */
ASCENDING_NODE_LONGITUDE = 237.78
MAXIMUM_RESOLUTION = 0.0654
FOOTPRINT_POINT_LATITUDE = (34.3785,34.3776,34.3762,34.3743, 34.3719,34.369,34.3632,34.3629,34.3709, 33.8731,33.5382,33.1132,32.7737,32.4347 ,32.0959,31.9241,31.7507,31.5773, 31.3174,31.1442,30.9713,30.7982,30.6256 ,30.4502,30.2733,30.0968,29.9195, 29.7436,29.568,29.392,29.1253,28.9453, 28.7652,28.5855,28.3161,28.1363,27.9548 ,27.7719,27.4966,27.2221,27.0387, 26.8568,26.5763,26.3891,26.2028,26.0164 ,25.8303,25.6408,25.5458,25.5028, 25.5033,25.5035,25.5031,25.5032,25.5023 ,25.4998,25.4975,25.4974,25.4985, 25.6894,25.879,26.1579,26.4378,26.6248, 26.9053,27.1798,27.3628,27.5463,27.7308 ,27.9143,28.1882,28.3684,28.6386, 28.9078,29.0897,29.2701,29.4465,29.623, 29.9764,30.242,30.4191,30.5956,30.7687, 30.9419,31.1152,31.2885,31.4626,31.6356 ,31.8095,32.0697,32.3242,32.6641, 32.8343,33.0045,33.3449,33.5153,33.8517 ,34.2674,34.3509,34.3785)
FOOTPRINT_POINT_LONGITUDE = (78.7451,78.4963,78.2456,77.9929, 77.7384,77.4819,77.0602,77.0438,77.0006 ,77.0122,77.0204,77.0294,77.0358, 77.0421,77.0483,77.051,77.0538,77.0567, 77.0608,77.0635,77.0658,77.0693,77.0709 ,77.0733,77.0757,77.0766,77.0813, 77.0811,77.0798,77.0809,77.0835,77.0838 ,77.0853,77.0859,77.0867,77.0888,77.092 ,77.0903,77.0923,77.0926,77.0947, 77.0915,77.0923,77.0944,77.094,77.0944, 77.0942,77.0938,77.0936,77.0937,77.3019 ,77.5455,77.9416,78.2139,78.4182, 78.6892,78.9075,78.9242,78.9298,78.9267 ,78.9238,78.9189,78.914,78.9108,78.9059 ,78.901,78.8977,78.8943,78.8911,78.8876 ,78.8827,78.8793,78.8742,78.8688, 78.8653,78.8618,78.8582,78.8547,78.8474 ,78.8418,78.8381,78.8343,78.8306, 78.8268,78.823,78.8192,78.8153,78.8114, 78.8074,78.8015,78.7955,78.7874,78.7833 ,78.7792,78.7708,78.7666,78.758,78.7473 ,78.7451,78.7451)
ORBIT_NUMBER = 17916
ORBITAL_ECCENTRICITY = 0.573
ORBITAL_INCLINATION = 86.98
ORBITAL_SEMIMAJOR_AXIS = 8800.21
PERIAPSIS_ALTITUDE = 371.52
PERIAPSIS_ARGUMENT_ANGLE = 132.39
PERIAPSIS_TIME = 2018-02-26T17:05:34.000Z
SPACECRAFT_ORIENTATION = (0.0,-1.0,0.0)
^MEX_ORIENTATION_DESC = "MEX_ORIENTATION_DESC.TXT"
SPACECRAFT_POINTING_MODE = ACROSSTRACK
^MEX_POINTING_DESC = "MEX_POINTING_DESC.TXT"
RIGHT_ASCENSION = -1e+32
DECLINATION = -1e+32
OFFSET_ANGLE = -0.728
SPACECRAFT_SOLAR_DISTANCE = 2.35475e+08
TARGET_NAME = MARS
/* CAMERA DATA ELEMENTS */
DETECTOR_TEMPERATURE = 18.3705
FOCAL_PLANE_TEMPERATURE = 8.3794
INST_CMPRS_NAME = "DISCRETE COSINE TRANSFORMATION (DCT)"
INST_CMPRS_RATIO = 7.35899
INST_CMPRS_QUALITY = 0
INST_CMPRS_QUANTZ_TBL_ID = 0
INSTRUMENT_TEMPERATURE = 11.4379
LENS_TEMPERATURE = 8.7872
MACROPIXEL_SIZE = 4
MISSING_FRAMES = 0
PIXEL_SUBSAMPLING_FLAG = N
SIGNAL_CHAIN_ID = 2
/* RADIOMETRIC DATA ELEMENTS */
BANDWIDTH = 76.0
CENTER_FILTER_WAVELENGTH = 444.0
RADIANCE_OFFSET = 0.344977
RADIANCE_SCALING_FACTOR = 0.00228944
REFLECTANCE_SCALING_FACTOR = 0.000130429
MEX:REFLECTANCE_OFFSET = 0.0196533
/* IMAGE OBJECT DEFINITIONS */
OBJECT = IMAGE
  INTERCHANGE_FORMAT = BINARY
  LINES = 10552
  LINE_SAMPLES = 1970
  SAMPLE_TYPE = UNSIGNED_INTEGER
  SAMPLE_BITS = 8
  BANDS = 1
  BAND_STORAGE_TYPE = BAND_SEQUENTIAL
  MAXIMUM = 255
  MEAN = 128.152
  MINIMUM = 1
  STANDARD_DEVIATION = 20.0783
END_OBJECT = IMAGE
/* MAP OBJECT DEFINITIONS */
OBJECT = IMAGE_MAP_PROJECTION
  ^DATA_SET_MAP_PROJECTION_CATALOG= "DSMAP.CAT"
  A_AXIS_RADIUS = 3396.0
  B_AXIS_RADIUS = 3396.0
  C_AXIS_RADIUS = 3396.0
  CENTER_LATITUDE = 0.0
  CENTER_LONGITUDE = 78.0
  COORDINATE_SYSTEM_NAME = PLANETOGRAPHIC
  COORDINATE_SYSTEM_TYPE = "BODY-FIXED ROTATING"
  EASTERNMOST_LONGITUDE = 78.9298
  FIRST_STANDARD_PARALLEL = "N/A"
  LINE_FIRST_PIXEL = 1
  LINE_LAST_PIXEL = 10552
  LINE_PROJECTION_OFFSET = 40773.875
  MAP_PROJECTION_ROTATION = 0.0
  MAP_PROJECTION_TYPE = SINUSOIDAL
  MAP_RESOLUTION = 1185.42760773333
  MAP_SCALE = 0.05
  MAXIMUM_LATITUDE = 34.3785
  MINIMUM_LATITUDE = 25.4974
  POSITIVE_LONGITUDE_DIRECTION = EAST
  REFERENCE_LATITUDE = "N/A"
  REFERENCE_LONGITUDE = "N/A"
  SAMPLE_FIRST_PIXEL = 1
  SAMPLE_LAST_PIXEL = 1970
  SAMPLE_PROJECTION_OFFSET = 983.375
  SECOND_STANDARD_PARALLEL = "N/A"
  WESTERNMOST_LONGITUDE = 77.00060000000001
END_OBJECT = IMAGE_MAP_PROJECTION
END
