PDS_VERSION_ID = PDS3
/* FILE DATA ELEMENTS */
RECORD_TYPE = UNDEFINED
/* POINTERS TO DATA OBJECTS */
^IMAGE = ("HH916_0000_RE4.TIF")
/* IDENTIFICATION DATA ELEMENTS */
DATA_SET_ID = "MEX-M-HRSC-4-REFDR-MAPPROJECT-EXT6-V4.0"
DATA_SET_NAME = "MARS EXPRESS HRSC MAP PROJECTED REFDR EXTENSION6 V4.0"
DETECTOR_ID = MEX_HRSC_RED
EVENT_TYPE = "MARS-REGIONAL-MAPPING-Te-Im-Eo"
INSTRUMENT_HOST_ID = MEX
INSTRUMENT_HOST_NAME = "MARS EXPRESS"
INSTRUMENT_ID = HRSC
INSTRUMENT_NAME = "HIGH RESOLUTION STEREO CAMERA"
MISSION_NAME = "MARS EXPRESS"
MISSION_PHASE_NAME = ME_Phase_38
PROCESSING_LEVEL_ID = 4
PRODUCT_CREATION_TIME = 2023-01-28T19:29:54.000Z
PRODUCT_ID = "HH916_0000_RE4.TIF"
RELEASE_ID = 0003
REVISION_ID = 0000
/* QUALITY DATA ELEMENTS */
DATA_QUALITY_ID = 1
DATA_QUALITY_DESC = "Data calculated based on original SPICE kernels"
/* TIME DATA ELEMENTS */
SPACECRAFT_CLOCK_START_COUNT = "1/0467744894.09045"
SPACECRAFT_CLOCK_STOP_COUNT = "1/0467745123.58148"
START_TIME = 2018-02-26T17:09:32.092Z
STOP_TIME = 2018-02-26T17:12:02.453Z
/* ORBITAL DATA ELEMENTS */
ASCENDING_NODE_LONGITUDE = 237.78
MAXIMUM_RESOLUTION = 0.07
FOOTPRINT_POINT_LATITUDE = (34.3278,34.3325,34.3369,34.3411, 34.3451,34.3488,34.3542,34.3544,34.3982 ,34.1475,33.8965,33.5578,33.216,32.9603 ,32.6197,32.2796,32.1058,31.932,31.758, 31.5845,31.3244,31.1504,30.8879,30.711, 30.5335,30.3576,30.1804,30.0045,29.7398 ,29.563,29.3832,29.2034,29.0258,28.8474 ,28.669,28.4846,28.3053,28.1221,27.936, 27.7546,27.5717,27.3021,27.1139,26.9256 ,26.7447,26.5526,26.2698,26.0831, 25.8922,25.6097,25.5141,25.5119,25.503, 25.4958,25.4888,25.4842,25.47,25.4604, 25.4597,25.4606,25.6526,25.8463,26.1244 ,26.3109,26.4998,26.6873,26.8736, 27.0583,27.3346,27.5197,27.7965,27.9833 ,28.2611,28.4443,28.6273,28.8064, 28.9839,29.1681,29.3435,29.5266,29.7042 ,29.8794,30.059,30.2362,30.4127,30.6773 ,30.8549,31.0304,31.3785,31.6363, 31.8113,31.9857,32.2473,32.5888,33.0174 ,33.3588,33.8677,34.287,34.3717, 34.3278)
FOOTPRINT_POINT_LONGITUDE = (78.7679,78.5105,78.2515,77.9903, 77.7272,77.4621,77.0256,77.0087,76.9637 ,76.969,76.9747,76.9829,76.9895,76.9939 ,76.9997,77.0052,77.008,77.0104,77.0131 ,77.0154,77.0189,77.0217,77.0257, 77.0276,77.03,77.0312,77.0336,77.0349, 77.0367,77.0355,77.0368,77.0381,77.0379 ,77.0383,77.0386,77.0406,77.0386, 77.0398,77.0434,77.0434,77.0433,77.0368 ,77.0391,77.0415,77.0385,77.0419, 77.0416,77.0401,77.0418,77.0398,77.0393 ,77.0393,77.4235,77.6965,78.0923,78.343 ,78.6996,78.947,78.9646,78.9704,78.9669 ,78.9636,78.958,78.9542,78.9505,78.9469 ,78.9433,78.9396,78.9339,78.9301, 78.9245,78.9209,78.9154,78.9115,78.9076 ,78.9037,78.8998,78.896,78.8919,78.888, 78.8839,78.8799,78.8759,78.8719,78.8678 ,78.8616,78.8574,78.8533,78.845,78.8386 ,78.8343,78.83,78.8235,78.8148,78.8037, 78.7947,78.781,78.7694,78.767,78.7679)
ORBIT_NUMBER = 17916
ORBITAL_ECCENTRICITY = 0.573
ORBITAL_INCLINATION = 86.98
ORBITAL_SEMIMAJOR_AXIS = 8800.21
PERIAPSIS_ALTITUDE = 371.52
PERIAPSIS_ARGUMENT_ANGLE = 132.39
PERIAPSIS_TIME = 2018-02-26T17:05:34.000Z
SPACECRAFT_ORIENTATION = (0.0,-1.0,0.0)
^MEX_ORIENTATION_DESC = "MEX_ORIENTATION_DESC.TXT"
SPACECRAFT_POINTING_MODE = ACROSSTRACK
^MEX_POINTING_DESC = "MEX_POINTING_DESC.TXT"
RIGHT_ASCENSION = -1e+32
DECLINATION = -1e+32
OFFSET_ANGLE = -0.728
SPACECRAFT_SOLAR_DISTANCE = 2.35475e+08
TARGET_NAME = MARS
/* CAMERA DATA ELEMENTS */
DETECTOR_TEMPERATURE = 18.5744
FOCAL_PLANE_TEMPERATURE = 8.3794
INST_CMPRS_NAME = "DISCRETE COSINE TRANSFORMATION (DCT)"
INST_CMPRS_RATIO = 8.71022
INST_CMPRS_QUALITY = 0
INST_CMPRS_QUANTZ_TBL_ID = 0
INSTRUMENT_TEMPERATURE = 11.4379
LENS_TEMPERATURE = 8.7872
MACROPIXEL_SIZE = 4
MISSING_FRAMES = 0
PIXEL_SUBSAMPLING_FLAG = N
SIGNAL_CHAIN_ID = 2
/* RADIOMETRIC DATA ELEMENTS */
BANDWIDTH = 48.0
CENTER_FILTER_WAVELENGTH = 748.0
RADIANCE_OFFSET = 0.640756
RADIANCE_SCALING_FACTOR = 0.0075383
REFLECTANCE_SCALING_FACTOR = 0.000953868
MEX:REFLECTANCE_OFFSET = 0.0810788
/* IMAGE OBJECT DEFINITIONS */
OBJECT = IMAGE
  INTERCHANGE_FORMAT = BINARY
  LINES = 10552
  LINE_SAMPLES = 1970
  SAMPLE_TYPE = UNSIGNED_INTEGER
  SAMPLE_BITS = 8
  BANDS = 1
  BAND_STORAGE_TYPE = BAND_SEQUENTIAL
  MAXIMUM = 255
  MEAN = 145.372
  MINIMUM = 1
  STANDARD_DEVIATION = 25.4398
END_OBJECT = IMAGE
/* MAP OBJECT DEFINITIONS */
OBJECT = IMAGE_MAP_PROJECTION
  ^DATA_SET_MAP_PROJECTION_CATALOG= "DSMAP.CAT"
  A_AXIS_RADIUS = 3396.0
  B_AXIS_RADIUS = 3396.0
  C_AXIS_RADIUS = 3396.0
  CENTER_LATITUDE = 0.0
  CENTER_LONGITUDE = 78.0
  COORDINATE_SYSTEM_NAME = PLANETOGRAPHIC
  COORDINATE_SYSTEM_TYPE = "BODY-FIXED ROTATING"
  EASTERNMOST_LONGITUDE = 78.9704
  FIRST_STANDARD_PARALLEL = "N/A"
  LINE_FIRST_PIXEL = 1
  LINE_LAST_PIXEL = 10552
  LINE_PROJECTION_OFFSET = 40773.875
  MAP_PROJECTION_ROTATION = 0.0
  MAP_PROJECTION_TYPE = SINUSOIDAL
  MAP_RESOLUTION = 1185.42760773333
  MAP_SCALE = 0.05
  MAXIMUM_LATITUDE = 34.3982
  MINIMUM_LATITUDE = 25.4597
  POSITIVE_LONGITUDE_DIRECTION = EAST
  REFERENCE_LATITUDE = "N/A"
  REFERENCE_LONGITUDE = "N/A"
  SAMPLE_FIRST_PIXEL = 1
  SAMPLE_LAST_PIXEL = 1970
  SAMPLE_PROJECTION_OFFSET = 983.375
  SECOND_STANDARD_PARALLEL = "N/A"
  WESTERNMOST_LONGITUDE = 76.9637
END_OBJECT = IMAGE_MAP_PROJECTION
END
