PDS_VERSION_ID = PDS3
/* FILE DATA ELEMENTS */
RECORD_TYPE = UNDEFINED
/* POINTERS TO DATA OBJECTS */
^IMAGE = ("HH917_0000_P24.TIF")
/* IDENTIFICATION DATA ELEMENTS */
DATA_SET_ID = "MEX-M-HRSC-4-REFDR-MAPPROJECT-EXT6-V4.0"
DATA_SET_NAME = "MARS EXPRESS HRSC MAP PROJECTED REFDR EXTENSION6 V4.0"
DETECTOR_ID = MEX_HRSC_P2
EVENT_TYPE = "MARS-REGIONAL-MAPPING-Te-Im-Pf"
INSTRUMENT_HOST_ID = MEX
INSTRUMENT_HOST_NAME = "MARS EXPRESS"
INSTRUMENT_ID = HRSC
INSTRUMENT_NAME = "HIGH RESOLUTION STEREO CAMERA"
MISSION_NAME = "MARS EXPRESS"
MISSION_PHASE_NAME = ME_Phase_38
PROCESSING_LEVEL_ID = 4
PRODUCT_CREATION_TIME = 2023-01-28T19:29:54.000Z
PRODUCT_ID = "HH917_0000_P24.TIF"
RELEASE_ID = 0003
REVISION_ID = 0000
/* QUALITY DATA ELEMENTS */
DATA_QUALITY_ID = 1
DATA_QUALITY_DESC = "Data calculated based on original SPICE kernels"
/* TIME DATA ELEMENTS */
SPACECRAFT_CLOCK_START_COUNT = "1/0467769790.09061"
SPACECRAFT_CLOCK_STOP_COUNT = "1/0467770046.08371"
START_TIME = 2018-02-27T00:04:16.220Z
STOP_TIME = 2018-02-27T00:07:20.734Z
/* ORBITAL DATA ELEMENTS */
ASCENDING_NODE_LONGITUDE = 237.77
MAXIMUM_RESOLUTION = 0.0311
FOOTPRINT_POINT_LATITUDE = (49.9811,49.9692,49.9484,49.9318, 49.9312,49.9978,49.7601,49.5236,49.2866 ,48.9324,48.6964,48.4592,48.1034, 47.8674,47.6327,47.3966,47.16,46.9238, 46.5696,46.216,45.8645,45.6296,45.2784, 45.0432,44.8085,44.4564,44.1053,43.8713 ,43.6372,43.2863,43.0529,42.7027,42.353 ,42.1202,41.7711,41.4223,41.1903, 40.9583,40.7265,40.4949,40.1478,39.9166 ,39.4548,38.994,38.4189,38.3041,38.2675 ,38.2794,38.2832,38.2864,38.2889,38.289 ,38.2895,38.6351,39.0961,39.3272, 39.5585,39.9057,40.1371,40.3689,40.6009 ,40.8332,41.182,41.4146,41.6476,41.8806 ,42.114,42.3475,42.6981,42.9319,43.166, 43.4003,43.6347,43.8692,44.1039,44.4562 ,44.6913,44.9262,45.1621,45.3975, 45.6335,45.9876,46.2232,46.4597,46.695, 46.9315,47.1678,47.4044,47.641,47.8779, 48.1148,48.3519,48.5889,48.8257,49.0635 ,49.2987,49.5382,49.8952,50.0143, 49.9811)
FOOTPRINT_POINT_LONGITUDE = (337.121,336.548,335.728,335.175, 335.156,335.096,335.118,335.138,335.158 ,335.186,335.205,335.224,335.252, 335.269,335.285,335.302,335.319,335.335 ,335.359,335.382,335.403,335.417, 335.436,335.45,335.463,335.482,335.5, 335.512,335.523,335.54,335.551,335.566, 335.581,335.591,335.605,335.618,335.627 ,335.635,335.643,335.651,335.663,335.67 ,335.684,335.697,335.712,335.715, 335.716,336.512,336.841,337.17,337.482, 337.499,337.506,337.499,337.489,337.485 ,337.48,337.473,337.467,337.462,337.457 ,337.452,337.444,337.438,337.433, 337.427,337.422,337.416,337.407,337.401 ,337.395,337.389,337.382,337.376, 337.369,337.359,337.353,337.346,337.339 ,337.332,337.325,337.314,337.306, 337.299,337.291,337.283,337.275,337.267 ,337.258,337.25,337.241,337.233,337.224 ,337.215,337.206,337.195,337.187, 337.173,337.168,337.121)
ORBIT_NUMBER = 17917
ORBITAL_ECCENTRICITY = 0.573
ORBITAL_INCLINATION = 86.98
ORBITAL_SEMIMAJOR_AXIS = 8792.06
PERIAPSIS_ALTITUDE = 372.47
PERIAPSIS_ARGUMENT_ANGLE = 132.21
PERIAPSIS_TIME = 2018-02-27T00:04:29.000Z
SPACECRAFT_ORIENTATION = (0.0,-1.0,0.0)
^MEX_ORIENTATION_DESC = "MEX_ORIENTATION_DESC.TXT"
SPACECRAFT_POINTING_MODE = NADIR
^MEX_POINTING_DESC = "MEX_POINTING_DESC.TXT"
RIGHT_ASCENSION = -1e+32
DECLINATION = -1e+32
OFFSET_ANGLE = -1e+32
SPACECRAFT_SOLAR_DISTANCE = 2.35424e+08
TARGET_NAME = MARS
/* CAMERA DATA ELEMENTS */
DETECTOR_TEMPERATURE = 18.9822
FOCAL_PLANE_TEMPERATURE = 9.3989
INST_CMPRS_NAME = "DISCRETE COSINE TRANSFORMATION (DCT)"
INST_CMPRS_RATIO = 7.64269
INST_CMPRS_QUALITY = 0
INST_CMPRS_QUANTZ_TBL_ID = 0
INSTRUMENT_TEMPERATURE = 12.2535
LENS_TEMPERATURE = 9.3989
MACROPIXEL_SIZE = 2
MISSING_FRAMES = 0
PIXEL_SUBSAMPLING_FLAG = N
SIGNAL_CHAIN_ID = 3
/* RADIOMETRIC DATA ELEMENTS */
BANDWIDTH = 177.0
CENTER_FILTER_WAVELENGTH = 676.5
RADIANCE_OFFSET = 1.95088
RADIANCE_SCALING_FACTOR = 0.014368
REFLECTANCE_SCALING_FACTOR = 0.000422238
MEX:REFLECTANCE_OFFSET = 0.0573311
/* IMAGE OBJECT DEFINITIONS */
OBJECT = IMAGE
  INTERCHANGE_FORMAT = BINARY
  LINES = 27945
  LINE_SAMPLES = 4141
  SAMPLE_TYPE = UNSIGNED_INTEGER
  SAMPLE_BITS = 8
  BANDS = 1
  BAND_STORAGE_TYPE = BAND_SEQUENTIAL
  MAXIMUM = 255
  MEAN = 104.707
  MINIMUM = 1
  STANDARD_DEVIATION = 26.7063
END_OBJECT = IMAGE
/* MAP OBJECT DEFINITIONS */
OBJECT = IMAGE_MAP_PROJECTION
  ^DATA_SET_MAP_PROJECTION_CATALOG= "DSMAP.CAT"
  A_AXIS_RADIUS = 3396.0
  B_AXIS_RADIUS = 3396.0
  C_AXIS_RADIUS = 3396.0
  CENTER_LATITUDE = 0.0
  CENTER_LONGITUDE = 336.0
  COORDINATE_SYSTEM_NAME = PLANETOGRAPHIC
  COORDINATE_SYSTEM_TYPE = "BODY-FIXED ROTATING"
  EASTERNMOST_LONGITUDE = 337.506
  FIRST_STANDARD_PARALLEL = "N/A"
  LINE_FIRST_PIXEL = 1
  LINE_LAST_PIXEL = 27945
  LINE_PROJECTION_OFFSET = 118632.25
  MAP_PROJECTION_ROTATION = 0.0
  MAP_PROJECTION_TYPE = SINUSOIDAL
  MAP_RESOLUTION = 2370.85521546667
  MAP_SCALE = 0.025
  MAXIMUM_LATITUDE = 50.0143
  MINIMUM_LATITUDE = 38.2675
  POSITIVE_LONGITUDE_DIRECTION = EAST
  REFERENCE_LATITUDE = "N/A"
  REFERENCE_LONGITUDE = "N/A"
  SAMPLE_FIRST_PIXEL = 1
  SAMPLE_LAST_PIXEL = 4141
  SAMPLE_PROJECTION_OFFSET = 1374.75
  SECOND_STANDARD_PARALLEL = "N/A"
  WESTERNMOST_LONGITUDE = 335.096
END_OBJECT = IMAGE_MAP_PROJECTION
END
