PDS_VERSION_ID = PDS3
/* FILE DATA ELEMENTS */
RECORD_TYPE = UNDEFINED
/* POINTERS TO DATA OBJECTS */
^IMAGE = ("HH917_0000_RE4.TIF")
/* IDENTIFICATION DATA ELEMENTS */
DATA_SET_ID = "MEX-M-HRSC-4-REFDR-MAPPROJECT-EXT6-V4.0"
DATA_SET_NAME = "MARS EXPRESS HRSC MAP PROJECTED REFDR EXTENSION6 V4.0"
DETECTOR_ID = MEX_HRSC_RED
EVENT_TYPE = "MARS-REGIONAL-MAPPING-Te-Im-Pf"
INSTRUMENT_HOST_ID = MEX
INSTRUMENT_HOST_NAME = "MARS EXPRESS"
INSTRUMENT_ID = HRSC
INSTRUMENT_NAME = "HIGH RESOLUTION STEREO CAMERA"
MISSION_NAME = "MARS EXPRESS"
MISSION_PHASE_NAME = ME_Phase_38
PROCESSING_LEVEL_ID = 4
PRODUCT_CREATION_TIME = 2023-01-28T19:29:54.000Z
PRODUCT_ID = "HH917_0000_RE4.TIF"
RELEASE_ID = 0003
REVISION_ID = 0000
/* QUALITY DATA ELEMENTS */
DATA_QUALITY_ID = 1
DATA_QUALITY_DESC = "Data calculated based on original SPICE kernels"
/* TIME DATA ELEMENTS */
SPACECRAFT_CLOCK_START_COUNT = "1/0467769790.09061"
SPACECRAFT_CLOCK_STOP_COUNT = "1/0467770046.08371"
START_TIME = 2018-02-27T00:04:22.026Z
STOP_TIME = 2018-02-27T00:07:27.037Z
/* ORBITAL DATA ELEMENTS */
ASCENDING_NODE_LONGITUDE = 237.77
MAXIMUM_RESOLUTION = 0.0632
FOOTPRINT_POINT_LATITUDE = (49.9685,49.9585,49.9423,49.9204, 49.9198,50.0031,49.7641,49.4079,49.0526 ,48.8155,48.5778,48.3392,48.1012, 47.8648,47.6298,47.3928,47.037,46.7997, 46.563,46.3266,46.0909,45.8566,45.5054, 45.2697,44.9164,44.6813,44.4463,44.212, 43.9775,43.7433,43.5089,43.2749,43.0413 ,42.8077,42.4576,42.2248,41.9919, 41.7592,41.5266,41.2946,41.0626,40.8308 ,40.5994,40.3682,40.0215,39.6753, 39.2144,38.7549,38.4107,38.296,38.2784, 38.2841,38.2885,38.2947,38.2985,38.2987 ,38.2997,38.6445,38.9895,39.4509,39.682 ,40.0289,40.26,40.4918,40.7238,40.9561, 41.1885,41.4211,41.6541,41.8871,42.1203 ,42.471,42.8217,43.0558,43.4075,43.642, 43.8768,44.2292,44.4645,44.7,44.9352, 45.1716,45.526,45.7625,46.1166,46.3525, 46.7079,46.9451,47.182,47.4193,47.8942, 48.2508,48.4886,48.8452,49.084,49.3201, 49.5599,49.9192,50.0389,49.9685)
FOOTPRINT_POINT_LONGITUDE = (337.123,336.627,335.949,335.178,335.16 ,335.101,335.123,335.153,335.181,335.2, 335.219,335.238,335.256,335.273,335.289 ,335.306,335.331,335.347,335.363, 335.378,335.393,335.406,335.426,335.439 ,335.459,335.472,335.485,335.497, 335.508,335.52,335.531,335.542,335.553, 335.563,335.578,335.588,335.597,335.607 ,335.616,335.624,335.632,335.641, 335.648,335.656,335.667,335.678,335.691 ,335.704,335.712,335.715,335.716,336.1, 336.434,337.003,337.489,337.506,337.511 ,337.504,337.497,337.487,337.482, 337.475,337.47,337.464,337.459,337.454, 337.448,337.443,337.437,337.431,337.426 ,337.417,337.408,337.402,337.392, 337.386,337.379,337.369,337.363,337.356 ,337.349,337.342,337.331,337.324, 337.312,337.304,337.293,337.285,337.277 ,337.268,337.251,337.238,337.23,337.216 ,337.207,337.196,337.187,337.173, 337.169,337.123)
ORBIT_NUMBER = 17917
ORBITAL_ECCENTRICITY = 0.573
ORBITAL_INCLINATION = 86.98
ORBITAL_SEMIMAJOR_AXIS = 8792.06
PERIAPSIS_ALTITUDE = 372.47
PERIAPSIS_ARGUMENT_ANGLE = 132.21
PERIAPSIS_TIME = 2018-02-27T00:04:29.000Z
SPACECRAFT_ORIENTATION = (0.0,-1.0,0.0)
^MEX_ORIENTATION_DESC = "MEX_ORIENTATION_DESC.TXT"
SPACECRAFT_POINTING_MODE = NADIR
^MEX_POINTING_DESC = "MEX_POINTING_DESC.TXT"
RIGHT_ASCENSION = -1e+32
DECLINATION = -1e+32
OFFSET_ANGLE = -1e+32
SPACECRAFT_SOLAR_DISTANCE = 2.35424e+08
TARGET_NAME = MARS
/* CAMERA DATA ELEMENTS */
DETECTOR_TEMPERATURE = 18.9822
FOCAL_PLANE_TEMPERATURE = 9.3989
INST_CMPRS_NAME = "DISCRETE COSINE TRANSFORMATION (DCT)"
INST_CMPRS_RATIO = 13.6118
INST_CMPRS_QUALITY = 0
INST_CMPRS_QUANTZ_TBL_ID = 0
INSTRUMENT_TEMPERATURE = 12.2535
LENS_TEMPERATURE = 9.3989
MACROPIXEL_SIZE = 4
MISSING_FRAMES = 0
PIXEL_SUBSAMPLING_FLAG = N
SIGNAL_CHAIN_ID = 2
/* RADIOMETRIC DATA ELEMENTS */
BANDWIDTH = 48.0
CENTER_FILTER_WAVELENGTH = 748.0
RADIANCE_OFFSET = 0.534996
RADIANCE_SCALING_FACTOR = 0.00419605
REFLECTANCE_SCALING_FACTOR = 0.000530725
MEX:REFLECTANCE_OFFSET = 0.0676675
/* IMAGE OBJECT DEFINITIONS */
OBJECT = IMAGE
  INTERCHANGE_FORMAT = BINARY
  LINES = 13973
  LINE_SAMPLES = 2071
  SAMPLE_TYPE = UNSIGNED_INTEGER
  SAMPLE_BITS = 8
  BANDS = 1
  BAND_STORAGE_TYPE = BAND_SEQUENTIAL
  MAXIMUM = 255
  MEAN = 102.522
  MINIMUM = 1
  STANDARD_DEVIATION = 27.1862
END_OBJECT = IMAGE
/* MAP OBJECT DEFINITIONS */
OBJECT = IMAGE_MAP_PROJECTION
  ^DATA_SET_MAP_PROJECTION_CATALOG= "DSMAP.CAT"
  A_AXIS_RADIUS = 3396.0
  B_AXIS_RADIUS = 3396.0
  C_AXIS_RADIUS = 3396.0
  CENTER_LATITUDE = 0.0
  CENTER_LONGITUDE = 336.0
  COORDINATE_SYSTEM_NAME = PLANETOGRAPHIC
  COORDINATE_SYSTEM_TYPE = "BODY-FIXED ROTATING"
  EASTERNMOST_LONGITUDE = 337.511
  FIRST_STANDARD_PARALLEL = "N/A"
  LINE_FIRST_PIXEL = 1
  LINE_LAST_PIXEL = 13973
  LINE_PROJECTION_OFFSET = 59315.875
  MAP_PROJECTION_ROTATION = 0.0
  MAP_PROJECTION_TYPE = SINUSOIDAL
  MAP_RESOLUTION = 1185.42760773333
  MAP_SCALE = 0.05
  MAXIMUM_LATITUDE = 50.0389
  MINIMUM_LATITUDE = 38.2784
  POSITIVE_LONGITUDE_DIRECTION = EAST
  REFERENCE_LATITUDE = "N/A"
  REFERENCE_LONGITUDE = "N/A"
  SAMPLE_FIRST_PIXEL = 1
  SAMPLE_LAST_PIXEL = 2071
  SAMPLE_PROJECTION_OFFSET = 687.125
  SECOND_STANDARD_PARALLEL = "N/A"
  WESTERNMOST_LONGITUDE = 335.101
END_OBJECT = IMAGE_MAP_PROJECTION
END
