PDS_VERSION_ID = PDS3
/* FILE DATA ELEMENTS */
RECORD_TYPE = UNDEFINED
/* POINTERS TO DATA OBJECTS */
^IMAGE = ("HH917_0000_S24.TIF")
/* IDENTIFICATION DATA ELEMENTS */
DATA_SET_ID = "MEX-M-HRSC-4-REFDR-MAPPROJECT-EXT6-V4.0"
DATA_SET_NAME = "MARS EXPRESS HRSC MAP PROJECTED REFDR EXTENSION6 V4.0"
DETECTOR_ID = MEX_HRSC_S2
EVENT_TYPE = "MARS-REGIONAL-MAPPING-Te-Im-Pf"
INSTRUMENT_HOST_ID = MEX
INSTRUMENT_HOST_NAME = "MARS EXPRESS"
INSTRUMENT_ID = HRSC
INSTRUMENT_NAME = "HIGH RESOLUTION STEREO CAMERA"
MISSION_NAME = "MARS EXPRESS"
MISSION_PHASE_NAME = ME_Phase_38
PROCESSING_LEVEL_ID = 4
PRODUCT_CREATION_TIME = 2023-01-28T19:29:54.000Z
PRODUCT_ID = "HH917_0000_S24.TIF"
RELEASE_ID = 0003
REVISION_ID = 0000
/* QUALITY DATA ELEMENTS */
DATA_QUALITY_ID = 1
DATA_QUALITY_DESC = "Data calculated based on original SPICE kernels"
/* TIME DATA ELEMENTS */
SPACECRAFT_CLOCK_START_COUNT = "1/0467769790.09061"
SPACECRAFT_CLOCK_STOP_COUNT = "1/0467770046.08371"
START_TIME = 2018-02-27T00:04:27.840Z
STOP_TIME = 2018-02-27T00:07:33.490Z
/* ORBITAL DATA ELEMENTS */
ASCENDING_NODE_LONGITUDE = 237.77
MAXIMUM_RESOLUTION = 0.0322
FOOTPRINT_POINT_LATITUDE = (49.9579,49.9424,49.9293,49.9106, 49.9101,50.0122,49.7721,49.5341,49.1768 ,48.9385,48.5811,48.342,47.9841,47.7473 ,47.512,47.2738,46.9173,46.5606,46.2053 ,45.8531,45.6175,45.2657,45.0295, 44.7942,44.4411,44.2068,43.9723,43.6206 ,43.269,43.0355,42.8017,42.5682,42.3354 ,41.986,41.7536,41.4052,41.1735,40.9417 ,40.7105,40.4795,40.1331,39.7872, 39.5572,39.3271,39.0976,38.8683,38.6391 ,38.4104,38.296,38.2873,38.2921,38.2989 ,38.3029,38.3065,38.3067,38.3073, 38.5366,38.8807,39.2255,39.4558,39.6865 ,40.0328,40.2637,40.4952,40.7268, 41.0749,41.3072,41.6563,41.8891,42.1223 ,42.3559,42.5897,42.8235,43.0576, 43.2921,43.5268,43.7615,43.9965,44.3493 ,44.7031,45.0571,45.2933,45.5302, 45.8854,46.2402,46.4783,46.8332,47.0706 ,47.3084,47.6652,48.0228,48.2614, 48.4997,48.858,49.097,49.4554,49.695, 49.9355,50.0561,49.9579)
FOOTPRINT_POINT_LONGITUDE = (337.129,336.382,335.846,335.176, 335.157,335.095,335.116,335.136,335.165 ,335.184,335.213,335.231,335.259, 335.275,335.291,335.308,335.332,335.356 ,335.379,335.399,335.413,335.432, 335.446,335.459,335.478,335.489,335.501 ,335.518,335.535,335.545,335.556, 335.566,335.575,335.589,335.598,335.612 ,335.62,335.628,335.636,335.644,335.655 ,335.665,335.672,335.679,335.685, 335.691,335.697,335.703,335.705,335.706 ,336.057,336.618,337.023,337.497, 337.515,337.521,337.516,337.509,337.502 ,337.497,337.492,337.484,337.479, 337.473,337.468,337.46,337.454,337.446, 337.44,337.434,337.428,337.422,337.416, 337.409,337.403,337.397,337.39,337.384, 337.373,337.363,337.353,337.345,337.338 ,337.327,337.315,337.308,337.295, 337.287,337.279,337.266,337.253,337.245 ,337.235,337.222,337.212,337.198, 337.188,337.179,337.174,337.129)
ORBIT_NUMBER = 17917
ORBITAL_ECCENTRICITY = 0.573
ORBITAL_INCLINATION = 86.98
ORBITAL_SEMIMAJOR_AXIS = 8792.06
PERIAPSIS_ALTITUDE = 372.47
PERIAPSIS_ARGUMENT_ANGLE = 132.21
PERIAPSIS_TIME = 2018-02-27T00:04:29.000Z
SPACECRAFT_ORIENTATION = (0.0,-1.0,0.0)
^MEX_ORIENTATION_DESC = "MEX_ORIENTATION_DESC.TXT"
SPACECRAFT_POINTING_MODE = NADIR
^MEX_POINTING_DESC = "MEX_POINTING_DESC.TXT"
RIGHT_ASCENSION = -1e+32
DECLINATION = -1e+32
OFFSET_ANGLE = -1e+32
SPACECRAFT_SOLAR_DISTANCE = 2.35424e+08
TARGET_NAME = MARS
/* CAMERA DATA ELEMENTS */
DETECTOR_TEMPERATURE = 18.9822
FOCAL_PLANE_TEMPERATURE = 9.3989
INST_CMPRS_NAME = "DISCRETE COSINE TRANSFORMATION (DCT)"
INST_CMPRS_RATIO = 11.1866
INST_CMPRS_QUALITY = 0
INST_CMPRS_QUANTZ_TBL_ID = 0
INSTRUMENT_TEMPERATURE = 12.2535
LENS_TEMPERATURE = 9.3989
MACROPIXEL_SIZE = 2
MISSING_FRAMES = 0
PIXEL_SUBSAMPLING_FLAG = N
SIGNAL_CHAIN_ID = 1
/* RADIOMETRIC DATA ELEMENTS */
BANDWIDTH = 178.0
CENTER_FILTER_WAVELENGTH = 679.0
RADIANCE_OFFSET = 2.01571
RADIANCE_SCALING_FACTOR = 0.0155837
REFLECTANCE_SCALING_FACTOR = 0.000457405
MEX:REFLECTANCE_OFFSET = 0.0591643
/* IMAGE OBJECT DEFINITIONS */
OBJECT = IMAGE
  INTERCHANGE_FORMAT = BINARY
  LINES = 27945
  LINE_SAMPLES = 4141
  SAMPLE_TYPE = UNSIGNED_INTEGER
  SAMPLE_BITS = 8
  BANDS = 1
  BAND_STORAGE_TYPE = BAND_SEQUENTIAL
  MAXIMUM = 255
  MEAN = 104.822
  MINIMUM = 1
  STANDARD_DEVIATION = 27.3146
END_OBJECT = IMAGE
/* MAP OBJECT DEFINITIONS */
OBJECT = IMAGE_MAP_PROJECTION
  ^DATA_SET_MAP_PROJECTION_CATALOG= "DSMAP.CAT"
  A_AXIS_RADIUS = 3396.0
  B_AXIS_RADIUS = 3396.0
  C_AXIS_RADIUS = 3396.0
  CENTER_LATITUDE = 0.0
  CENTER_LONGITUDE = 336.0
  COORDINATE_SYSTEM_NAME = PLANETOGRAPHIC
  COORDINATE_SYSTEM_TYPE = "BODY-FIXED ROTATING"
  EASTERNMOST_LONGITUDE = 337.521
  FIRST_STANDARD_PARALLEL = "N/A"
  LINE_FIRST_PIXEL = 1
  LINE_LAST_PIXEL = 27945
  LINE_PROJECTION_OFFSET = 118632.25
  MAP_PROJECTION_ROTATION = 0.0
  MAP_PROJECTION_TYPE = SINUSOIDAL
  MAP_RESOLUTION = 2370.85521546667
  MAP_SCALE = 0.025
  MAXIMUM_LATITUDE = 50.0561
  MINIMUM_LATITUDE = 38.2873
  POSITIVE_LONGITUDE_DIRECTION = EAST
  REFERENCE_LATITUDE = "N/A"
  REFERENCE_LONGITUDE = "N/A"
  SAMPLE_FIRST_PIXEL = 1
  SAMPLE_LAST_PIXEL = 4141
  SAMPLE_PROJECTION_OFFSET = 1374.75
  SECOND_STANDARD_PARALLEL = "N/A"
  WESTERNMOST_LONGITUDE = 335.095
END_OBJECT = IMAGE_MAP_PROJECTION
END
