PDS_VERSION_ID = PDS3
/* FILE DATA ELEMENTS */
RECORD_TYPE = UNDEFINED
/* POINTERS TO DATA OBJECTS */
^IMAGE = ("HH924_0000_P14.TIF")
/* IDENTIFICATION DATA ELEMENTS */
DATA_SET_ID = "MEX-M-HRSC-4-REFDR-MAPPROJECT-EXT6-V4.0"
DATA_SET_NAME = "MARS EXPRESS HRSC MAP PROJECTED REFDR EXTENSION6 V4.0"
DETECTOR_ID = MEX_HRSC_P1
EVENT_TYPE = "MARS-REGIONAL-MAPPING-Vo-Im-Pf"
INSTRUMENT_HOST_ID = MEX
INSTRUMENT_HOST_NAME = "MARS EXPRESS"
INSTRUMENT_ID = HRSC
INSTRUMENT_NAME = "HIGH RESOLUTION STEREO CAMERA"
MISSION_NAME = "MARS EXPRESS"
MISSION_PHASE_NAME = ME_Phase_38
PROCESSING_LEVEL_ID = 4
PRODUCT_CREATION_TIME = 2023-01-28T19:29:54.000Z
PRODUCT_ID = "HH924_0000_P14.TIF"
RELEASE_ID = 0003
REVISION_ID = 0000
/* QUALITY DATA ELEMENTS */
DATA_QUALITY_ID = 1
DATA_QUALITY_DESC = "Data calculated based on original SPICE kernels"
/* TIME DATA ELEMENTS */
SPACECRAFT_CLOCK_START_COUNT = "1/0467945806.44378"
SPACECRAFT_CLOCK_STOP_COUNT = "1/0467946017.31270"
START_TIME = 2018-03-01T00:57:07.594Z
STOP_TIME = 2018-03-01T00:59:09.199Z
/* ORBITAL DATA ELEMENTS */
ASCENDING_NODE_LONGITUDE = 237.64
MAXIMUM_RESOLUTION = 0.031
FOOTPRINT_POINT_LATITUDE = (47.9983,47.9875,47.9758,47.9675, 47.9583,47.9501,47.9495,47.8857,47.652, 47.2617,46.9499,46.6378,46.2471,45.9347 ,45.7001,45.5436,45.3872,45.2308, 45.0743,44.918,44.7615,44.605,44.4483, 44.2918,44.0567,43.8216,43.6649,43.5081 ,43.3514,43.1945,42.9593,42.8025, 42.6457,42.4105,42.2535,42.0966,41.9395 ,41.704,41.5472,41.3119,41.155,40.998, 40.8409,40.684,40.527,40.37,40.1345, 40.056,40.0529,40.0628,40.0685,40.0729, 40.0786,40.0832,40.0834,40.0839,40.2413 ,40.3987,40.5561,40.7921,41.0281, 41.1854,41.3427,41.5001,41.6574,41.8147 ,41.972,42.1293,42.3653,42.5226,42.7584 ,42.9942,43.1515,43.3087,43.4657, 43.7014,43.8586,44.0942,44.2513,44.4083 ,44.6438,44.8792,45.0362,45.1933, 45.3502,45.5854,45.7422,45.8991,46.0558 ,46.2908,46.5256,46.6822,46.8389, 46.9956,47.1521,47.3086,47.4651,47.8561 ,47.9344,47.9983)
FOOTPRINT_POINT_LONGITUDE = (342.356,341.789,341.313,341.021, 340.728,340.49,340.472,340.428,340.445, 340.473,340.495,340.516,340.542,340.562 ,340.576,340.586,340.595,340.605, 340.614,340.623,340.632,340.64,340.649, 340.657,340.67,340.682,340.69,340.698, 340.705,340.713,340.724,340.731,340.738 ,340.749,340.756,340.762,340.769, 340.778,340.785,340.794,340.8,340.806, 340.812,340.818,340.823,340.829,340.837 ,340.839,340.84,341.233,341.507,341.746 ,342.123,342.586,342.603,342.609, 342.606,342.603,342.6,342.595,342.59, 342.586,342.583,342.58,342.576,342.573, 342.569,342.565,342.56,342.556,342.551, 342.545,342.541,342.537,342.533,342.527 ,342.523,342.517,342.513,342.509, 342.503,342.496,342.492,342.487,342.483 ,342.476,342.472,342.467,342.462, 342.455,342.448,342.444,342.439,342.433 ,342.428,342.423,342.418,342.405, 342.402,342.356)
ORBIT_NUMBER = 17924
ORBITAL_ECCENTRICITY = 0.572
ORBITAL_INCLINATION = 86.98
ORBITAL_SEMIMAJOR_AXIS = 8790.5
PERIAPSIS_ALTITUDE = 373.26
PERIAPSIS_ARGUMENT_ANGLE = 130.99
PERIAPSIS_TIME = 2018-03-01T00:57:14.000Z
SPACECRAFT_ORIENTATION = (0.0,-1.0,0.0)
^MEX_ORIENTATION_DESC = "MEX_ORIENTATION_DESC.TXT"
SPACECRAFT_POINTING_MODE = NADIR
^MEX_POINTING_DESC = "MEX_POINTING_DESC.TXT"
RIGHT_ASCENSION = -1e+32
DECLINATION = -1e+32
OFFSET_ANGLE = -1e+32
SPACECRAFT_SOLAR_DISTANCE = 2.35063e+08
TARGET_NAME = MARS
/* CAMERA DATA ELEMENTS */
DETECTOR_TEMPERATURE = 0.0
FOCAL_PLANE_TEMPERATURE = 0.0
INST_CMPRS_NAME = "DISCRETE COSINE TRANSFORMATION (DCT)"
INST_CMPRS_RATIO = 10.2462
INST_CMPRS_QUALITY = 0
INST_CMPRS_QUANTZ_TBL_ID = 0
INSTRUMENT_TEMPERATURE = 0.0
LENS_TEMPERATURE = 0.0
MACROPIXEL_SIZE = 2
MISSING_FRAMES = 0
PIXEL_SUBSAMPLING_FLAG = N
SIGNAL_CHAIN_ID = 3
/* RADIOMETRIC DATA ELEMENTS */
BANDWIDTH = 174.0
CENTER_FILTER_WAVELENGTH = 675.0
RADIANCE_OFFSET = 2.3283
RADIANCE_SCALING_FACTOR = 0.0117937
REFLECTANCE_SCALING_FACTOR = 0.000350514
MEX:REFLECTANCE_OFFSET = 0.0691982
/* IMAGE OBJECT DEFINITIONS */
OBJECT = IMAGE
  INTERCHANGE_FORMAT = BINARY
  LINES = 15241
  LINE_SAMPLES = 3543
  SAMPLE_TYPE = UNSIGNED_INTEGER
  SAMPLE_BITS = 8
  BANDS = 1
  BAND_STORAGE_TYPE = BAND_SEQUENTIAL
  MAXIMUM = 255
  MEAN = 88.13
  MINIMUM = 1
  STANDARD_DEVIATION = 24.8548
END_OBJECT = IMAGE
/* MAP OBJECT DEFINITIONS */
OBJECT = IMAGE_MAP_PROJECTION
  ^DATA_SET_MAP_PROJECTION_CATALOG= "DSMAP.CAT"
  A_AXIS_RADIUS = 3396.0
  B_AXIS_RADIUS = 3396.0
  C_AXIS_RADIUS = 3396.0
  CENTER_LATITUDE = 0.0
  CENTER_LONGITUDE = 342.0
  COORDINATE_SYSTEM_NAME = PLANETOGRAPHIC
  COORDINATE_SYSTEM_TYPE = "BODY-FIXED ROTATING"
  EASTERNMOST_LONGITUDE = 342.609
  FIRST_STANDARD_PARALLEL = "N/A"
  LINE_FIRST_PIXEL = 1
  LINE_LAST_PIXEL = 15241
  LINE_PROJECTION_OFFSET = 113699.75
  MAP_PROJECTION_ROTATION = 0.0
  MAP_PROJECTION_TYPE = SINUSOIDAL
  MAP_RESOLUTION = 2370.85521546667
  MAP_SCALE = 0.025
  MAXIMUM_LATITUDE = 47.9983
  MINIMUM_LATITUDE = 40.0529
  POSITIVE_LONGITUDE_DIRECTION = EAST
  REFERENCE_LATITUDE = "N/A"
  REFERENCE_LONGITUDE = "N/A"
  SAMPLE_FIRST_PIXEL = 1
  SAMPLE_LAST_PIXEL = 3543
  SAMPLE_PROJECTION_OFFSET = 2506.75
  SECOND_STANDARD_PARALLEL = "N/A"
  WESTERNMOST_LONGITUDE = 340.428
END_OBJECT = IMAGE_MAP_PROJECTION
END
