PDS_VERSION_ID = PDS3
/* FILE DATA ELEMENTS */
RECORD_TYPE = UNDEFINED
/* POINTERS TO DATA OBJECTS */
^IMAGE = ("HH926_0000_BL4.TIF")
/* IDENTIFICATION DATA ELEMENTS */
DATA_SET_ID = "MEX-M-HRSC-4-REFDR-MAPPROJECT-EXT6-V4.0"
DATA_SET_NAME = "MARS EXPRESS HRSC MAP PROJECTED REFDR EXTENSION6 V4.0"
DETECTOR_ID = MEX_HRSC_BLUE
EVENT_TYPE = "MARS-REGIONAL-MAPPING-Vo-Im-Pf"
INSTRUMENT_HOST_ID = MEX
INSTRUMENT_HOST_NAME = "MARS EXPRESS"
INSTRUMENT_ID = HRSC
INSTRUMENT_NAME = "HIGH RESOLUTION STEREO CAMERA"
MISSION_NAME = "MARS EXPRESS"
MISSION_PHASE_NAME = ME_Phase_38
PROCESSING_LEVEL_ID = 4
PRODUCT_CREATION_TIME = 2023-01-28T19:29:54.000Z
PRODUCT_ID = "HH926_0000_BL4.TIF"
RELEASE_ID = 0003
REVISION_ID = 0000
/* QUALITY DATA ELEMENTS */
DATA_QUALITY_ID = 1
DATA_QUALITY_DESC = "Data calculated based on original SPICE kernels"
/* TIME DATA ELEMENTS */
SPACECRAFT_CLOCK_START_COUNT = "1/0467996045.07322"
SPACECRAFT_CLOCK_STOP_COUNT = "1/0467996335.46884"
START_TIME = 2018-03-01T14:54:50.898Z
STOP_TIME = 2018-03-01T14:58:33.799Z
/* ORBITAL DATA ELEMENTS */
ASCENDING_NODE_LONGITUDE = 237.59
MAXIMUM_RESOLUTION = 0.0631
FOOTPRINT_POINT_LATITUDE = (53.0515,53.0284,53.0005,52.9999, 53.1126,52.787,52.4621,52.1376,51.6511, 51.3272,51.0038,50.6812,50.3586,49.8751 ,49.5533,49.232,48.7505,48.2692,47.9492 ,47.6293,47.3096,46.9902,46.6713, 46.3524,46.0337,45.5561,45.2381,44.9202 ,44.4449,44.128,43.811,43.4944,43.1779, 42.8616,42.3887,42.0718,41.7564,41.2836 ,40.811,40.4961,40.1814,39.7097,39.2383 ,38.9239,38.6099,38.2961,37.6693, 37.3559,37.1993,37.1793,37.1987,37.211, 37.2112,37.2123,37.6826,38.1534,38.4673 ,38.7814,39.0958,39.5673,39.8818, 40.3543,40.6693,40.9846,41.3,41.6156, 41.9313,42.2473,42.5633,42.8797,43.1962 ,43.5131,43.9886,44.3056,44.623,45.1001 ,45.4184,45.7368,46.0554,46.533,46.8496 ,47.1693,47.4958,47.8207,48.1416,48.772 ,49.2552,49.5797,49.9028,50.2254, 50.5484,50.8719,51.1957,51.5195,51.8442 ,52.1692,52.6576,52.9833,53.1463, 53.0515)
FOOTPRINT_POINT_LONGITUDE = (139.022,137.839,136.769,136.748, 136.731,136.76,136.788,136.815,136.854, 136.879,136.904,136.928,136.952,136.986 ,137.008,137.03,137.061,137.091,137.11, 137.129,137.148,137.166,137.183,137.2, 137.217,137.241,137.257,137.273,137.295 ,137.309,137.323,137.337,137.35,137.363 ,137.382,137.394,137.406,137.423,137.44 ,137.451,137.461,137.476,137.491,137.5, 137.509,137.518,137.536,137.544,137.548 ,137.548,138.484,139.344,139.361, 139.367,139.358,139.35,139.344,139.339, 139.333,139.325,139.319,139.312,139.306 ,139.301,139.296,139.291,139.286, 139.281,139.276,139.271,139.265,139.261 ,139.253,139.248,139.243,139.236, 139.231,139.227,139.222,139.214,139.206 ,139.202,139.204,139.205,139.201,139.18 ,139.174,139.172,139.169,139.165,139.16 ,139.156,139.152,139.148,139.144,139.14 ,139.134,139.13,139.128,139.022)
ORBIT_NUMBER = 17926
ORBITAL_ECCENTRICITY = 0.573
ORBITAL_INCLINATION = 86.96
ORBITAL_SEMIMAJOR_AXIS = 8794.68
PERIAPSIS_ALTITUDE = 373.77
PERIAPSIS_ARGUMENT_ANGLE = 130.67
PERIAPSIS_TIME = 2018-03-01T14:55:13.000Z
SPACECRAFT_ORIENTATION = (0.0,-1.0,0.0)
^MEX_ORIENTATION_DESC = "MEX_ORIENTATION_DESC.TXT"
SPACECRAFT_POINTING_MODE = INERT
^MEX_POINTING_DESC = "MEX_POINTING_DESC.TXT"
RIGHT_ASCENSION = 222.386
DECLINATION = -67.366
OFFSET_ANGLE = -1e+32
SPACECRAFT_SOLAR_DISTANCE = 2.34959e+08
TARGET_NAME = MARS
/* CAMERA DATA ELEMENTS */
DETECTOR_TEMPERATURE = 19.1861
FOCAL_PLANE_TEMPERATURE = 9.195
INST_CMPRS_NAME = "DISCRETE COSINE TRANSFORMATION (DCT)"
INST_CMPRS_RATIO = 7.84319
INST_CMPRS_QUALITY = 0
INST_CMPRS_QUANTZ_TBL_ID = 0
INSTRUMENT_TEMPERATURE = 12.4574
LENS_TEMPERATURE = 10.2145
MACROPIXEL_SIZE = 4
MISSING_FRAMES = 0
PIXEL_SUBSAMPLING_FLAG = N
SIGNAL_CHAIN_ID = 2
/* RADIOMETRIC DATA ELEMENTS */
BANDWIDTH = 76.0
CENTER_FILTER_WAVELENGTH = 444.0
RADIANCE_OFFSET = 0.481238
RADIANCE_SCALING_FACTOR = 0.00185627
REFLECTANCE_SCALING_FACTOR = 0.000105289
MEX:REFLECTANCE_OFFSET = 0.0272962
/* IMAGE OBJECT DEFINITIONS */
OBJECT = IMAGE
  INTERCHANGE_FORMAT = BINARY
  LINES = 18936
  LINE_SAMPLES = 2196
  SAMPLE_TYPE = UNSIGNED_INTEGER
  SAMPLE_BITS = 8
  BANDS = 1
  BAND_STORAGE_TYPE = BAND_SEQUENTIAL
  MAXIMUM = 255
  MEAN = 153.536
  MINIMUM = 1
  STANDARD_DEVIATION = 14.9213
END_OBJECT = IMAGE
/* MAP OBJECT DEFINITIONS */
OBJECT = IMAGE_MAP_PROJECTION
  ^DATA_SET_MAP_PROJECTION_CATALOG= "DSMAP.CAT"
  A_AXIS_RADIUS = 3396.0
  B_AXIS_RADIUS = 3396.0
  C_AXIS_RADIUS = 3396.0
  CENTER_LATITUDE = 0.0
  CENTER_LONGITUDE = 138.0
  COORDINATE_SYSTEM_NAME = PLANETOGRAPHIC
  COORDINATE_SYSTEM_TYPE = "BODY-FIXED ROTATING"
  EASTERNMOST_LONGITUDE = 139.367
  FIRST_STANDARD_PARALLEL = "N/A"
  LINE_FIRST_PIXEL = 1
  LINE_LAST_PIXEL = 18936
  LINE_PROJECTION_OFFSET = 63008.375
  MAP_PROJECTION_ROTATION = 0.0
  MAP_PROJECTION_TYPE = SINUSOIDAL
  MAP_RESOLUTION = 1185.42760773333
  MAP_SCALE = 0.05
  MAXIMUM_LATITUDE = 53.1463
  MINIMUM_LATITUDE = 37.1793
  POSITIVE_LONGITUDE_DIRECTION = EAST
  REFERENCE_LATITUDE = "N/A"
  REFERENCE_LONGITUDE = "N/A"
  SAMPLE_FIRST_PIXEL = 1
  SAMPLE_LAST_PIXEL = 2196
  SAMPLE_PROJECTION_OFFSET = 916.875
  SECOND_STANDARD_PARALLEL = "N/A"
  WESTERNMOST_LONGITUDE = 136.731
END_OBJECT = IMAGE_MAP_PROJECTION
END
