PDS_VERSION_ID = PDS3
/* FILE DATA ELEMENTS */
RECORD_TYPE = UNDEFINED
/* POINTERS TO DATA OBJECTS */
^IMAGE = ("HH935_0000_P14.TIF")
/* IDENTIFICATION DATA ELEMENTS */
DATA_SET_ID = "MEX-M-HRSC-4-REFDR-MAPPROJECT-EXT6-V4.0"
DATA_SET_NAME = "MARS EXPRESS HRSC MAP PROJECTED REFDR EXTENSION6 V4.0"
DETECTOR_ID = MEX_HRSC_P1
EVENT_TYPE = "MARS-REGIONAL-STEREO-Te"
INSTRUMENT_HOST_ID = MEX
INSTRUMENT_HOST_NAME = "MARS EXPRESS"
INSTRUMENT_ID = HRSC
INSTRUMENT_NAME = "HIGH RESOLUTION STEREO CAMERA"
MISSION_NAME = "MARS EXPRESS"
MISSION_PHASE_NAME = ME_Phase_38
PROCESSING_LEVEL_ID = 4
PRODUCT_CREATION_TIME = 2023-01-28T19:29:54.000Z
PRODUCT_ID = "HH935_0000_P14.TIF"
RELEASE_ID = 0003
REVISION_ID = 0000
/* QUALITY DATA ELEMENTS */
DATA_QUALITY_ID = 1
DATA_QUALITY_DESC = "Data calculated based on original SPICE kernels"
/* TIME DATA ELEMENTS */
SPACECRAFT_CLOCK_START_COUNT = "1/0468222301.07359"
SPACECRAFT_CLOCK_STOP_COUNT = "1/0468222466.16268"
START_TIME = 2018-03-04T05:45:22.218Z
STOP_TIME = 2018-03-04T05:46:56.365Z
/* ORBITAL DATA ELEMENTS */
ASCENDING_NODE_LONGITUDE = 237.43
MAXIMUM_RESOLUTION = 0.0308
FOOTPRINT_POINT_LATITUDE = (52.0594,52.0551,52.0448,52.0365, 52.0298,52.0192,52.0075,51.9973,51.9965 ,51.9382,51.817,51.6356,51.3987,51.1587 ,50.9785,50.8582,50.6187,50.3191, 50.0788,49.899,49.7789,49.5985,49.4177, 49.2972,49.1772,49.0564,48.9329,48.7484 ,48.6274,48.5069,48.3281,48.0888, 47.8508,47.6112,47.4298,47.2489,47.128, 46.9468,46.7648,46.6441,46.5232,46.4025 ,46.2813,46.1602,45.9788,45.9185, 45.9052,45.9132,45.9187,45.9237,45.9304 ,45.937,45.9443,45.9482,45.9485,45.9491 ,46.1311,46.2525,46.3738,46.5557, 46.7377,46.859,46.9803,47.1621,47.2834, 47.4045,47.5858,47.7069,47.828,47.9491, 48.0709,48.1919,48.3735,48.4939,48.675, 48.7963,48.9172,49.0985,49.219,49.4577, 49.5788,49.7002,49.8204,50.0003,50.1209 ,50.2415,50.3622,50.4829,50.6033, 50.7239,50.8443,50.9659,51.2064,51.386, 51.5063,51.6269,51.747,51.9256,51.9858, 52.0594)
FOOTPRINT_POINT_LONGITUDE = (298.793,298.592,298.172,297.871, 297.651,297.332,297.012,296.752,296.732 ,296.689,296.701,296.718,296.744, 296.768,296.785,296.797,296.82,296.848, 296.87,296.886,296.897,296.912,296.927, 296.937,296.948,296.957,296.965,296.977 ,296.987,296.996,297.011,297.031, 297.051,297.069,297.082,297.095,297.103 ,297.115,297.127,297.135,297.143, 297.151,297.158,297.166,297.177,297.181 ,297.182,297.437,297.621,297.804, 298.079,298.372,298.776,299.052,299.07, 299.077,299.071,299.067,299.063,299.057 ,299.051,299.047,299.043,299.036, 299.032,299.028,299.022,299.018,299.013 ,299.009,299.004,298.999,298.993, 298.988,298.982,298.977,298.972,298.965 ,298.961,298.953,298.948,298.943, 298.938,298.931,298.926,298.921,298.916 ,298.911,298.906,298.9,298.895,298.889, 298.878,298.871,298.865,298.859,298.854 ,298.847,298.844,298.793)
ORBIT_NUMBER = 17935
ORBITAL_ECCENTRICITY = 0.572
ORBITAL_INCLINATION = 86.97
ORBITAL_SEMIMAJOR_AXIS = 8789.61
PERIAPSIS_ALTITUDE = 374.37
PERIAPSIS_ARGUMENT_ANGLE = 129.12
PERIAPSIS_TIME = 2018-03-04T05:46:03.000Z
SPACECRAFT_ORIENTATION = (0.0,-1.0,0.0)
^MEX_ORIENTATION_DESC = "MEX_ORIENTATION_DESC.TXT"
SPACECRAFT_POINTING_MODE = NADIR
^MEX_POINTING_DESC = "MEX_POINTING_DESC.TXT"
RIGHT_ASCENSION = -1e+32
DECLINATION = -1e+32
OFFSET_ANGLE = -1e+32
SPACECRAFT_SOLAR_DISTANCE = 2.3449e+08
TARGET_NAME = MARS
/* CAMERA DATA ELEMENTS */
DETECTOR_TEMPERATURE = 17.351
FOCAL_PLANE_TEMPERATURE = 8.1755
INST_CMPRS_NAME = "DISCRETE COSINE TRANSFORMATION (DCT)"
INST_CMPRS_RATIO = 9.80587
INST_CMPRS_QUALITY = 0
INST_CMPRS_QUANTZ_TBL_ID = 0
INSTRUMENT_TEMPERATURE = 12.0496
LENS_TEMPERATURE = 8.5833
MACROPIXEL_SIZE = 2
MISSING_FRAMES = 0
PIXEL_SUBSAMPLING_FLAG = N
SIGNAL_CHAIN_ID = 3
/* RADIOMETRIC DATA ELEMENTS */
BANDWIDTH = 174.0
CENTER_FILTER_WAVELENGTH = 675.0
RADIANCE_OFFSET = 3.10408
RADIANCE_SCALING_FACTOR = 0.0182593
REFLECTANCE_SCALING_FACTOR = 0.000540032
MEX:REFLECTANCE_OFFSET = 0.0918054
/* IMAGE OBJECT DEFINITIONS */
OBJECT = IMAGE
  INTERCHANGE_FORMAT = BINARY
  LINES = 14446
  LINE_SAMPLES = 3694
  SAMPLE_TYPE = UNSIGNED_INTEGER
  SAMPLE_BITS = 8
  BANDS = 1
  BAND_STORAGE_TYPE = BAND_SEQUENTIAL
  MAXIMUM = 255
  MEAN = 135.451
  MINIMUM = 1
  STANDARD_DEVIATION = 19.5039
END_OBJECT = IMAGE
/* MAP OBJECT DEFINITIONS */
OBJECT = IMAGE_MAP_PROJECTION
  ^DATA_SET_MAP_PROJECTION_CATALOG= "DSMAP.CAT"
  A_AXIS_RADIUS = 3396.0
  B_AXIS_RADIUS = 3396.0
  C_AXIS_RADIUS = 3396.0
  CENTER_LATITUDE = 0.0
  CENTER_LONGITUDE = 298.0
  COORDINATE_SYSTEM_NAME = PLANETOGRAPHIC
  COORDINATE_SYSTEM_TYPE = "BODY-FIXED ROTATING"
  EASTERNMOST_LONGITUDE = 299.077
  FIRST_STANDARD_PARALLEL = "N/A"
  LINE_FIRST_PIXEL = 1
  LINE_LAST_PIXEL = 14446
  LINE_PROJECTION_OFFSET = 123314.75
  MAP_PROJECTION_ROTATION = 0.0
  MAP_PROJECTION_TYPE = SINUSOIDAL
  MAP_RESOLUTION = 2370.85521546667
  MAP_SCALE = 0.025
  MAXIMUM_LATITUDE = 52.0594
  MINIMUM_LATITUDE = 45.9052
  POSITIVE_LONGITUDE_DIRECTION = EAST
  REFERENCE_LATITUDE = "N/A"
  REFERENCE_LONGITUDE = "N/A"
  SAMPLE_FIRST_PIXEL = 1
  SAMPLE_LAST_PIXEL = 3694
  SAMPLE_PROJECTION_OFFSET = 1916.75
  SECOND_STANDARD_PARALLEL = "N/A"
  WESTERNMOST_LONGITUDE = 296.689
END_OBJECT = IMAGE_MAP_PROJECTION
END
