PDS_VERSION_ID = PDS3
/* FILE DATA ELEMENTS */
RECORD_TYPE = UNDEFINED
/* POINTERS TO DATA OBJECTS */
^IMAGE = ("HH936_0000_BL4.TIF")
/* IDENTIFICATION DATA ELEMENTS */
DATA_SET_ID = "MEX-M-HRSC-4-REFDR-MAPPROJECT-EXT6-V4.0"
DATA_SET_NAME = "MARS EXPRESS HRSC MAP PROJECTED REFDR EXTENSION6 V4.0"
DETECTOR_ID = MEX_HRSC_BLUE
EVENT_TYPE = "MARS-REGIONAL-MAPPING-Vo-Im-Pf"
INSTRUMENT_HOST_ID = MEX
INSTRUMENT_HOST_NAME = "MARS EXPRESS"
INSTRUMENT_ID = HRSC
INSTRUMENT_NAME = "HIGH RESOLUTION STEREO CAMERA"
MISSION_NAME = "MARS EXPRESS"
MISSION_PHASE_NAME = ME_Phase_38
PROCESSING_LEVEL_ID = 4
PRODUCT_CREATION_TIME = 2023-01-28T19:29:54.000Z
PRODUCT_ID = "HH936_0000_BL4.TIF"
RELEASE_ID = 0003
REVISION_ID = 0000
/* QUALITY DATA ELEMENTS */
DATA_QUALITY_ID = 1
DATA_QUALITY_DESC = "Data calculated based on original SPICE kernels"
/* TIME DATA ELEMENTS */
SPACECRAFT_CLOCK_START_COUNT = "1/0468247304.08272"
SPACECRAFT_CLOCK_STOP_COUNT = "1/0468247573.64364"
START_TIME = 2018-03-04T12:42:36.886Z
STOP_TIME = 2018-03-04T12:45:52.758Z
/* ORBITAL DATA ELEMENTS */
ASCENDING_NODE_LONGITUDE = 237.41
MAXIMUM_RESOLUTION = 0.0605
FOOTPRINT_POINT_LATITUDE = (60.3927,60.3689,60.3366,60.2961,60.295 ,60.312,59.8136,59.3147,58.9403,58.4405 ,57.9405,57.4399,57.1895,56.939,56.6885 ,56.4378,56.1871,55.8108,55.56,55.3091, 55.058,54.807,54.5559,54.3047,53.928, 53.5512,53.2999,53.0486,52.7972,52.5459 ,52.2945,51.9176,51.6662,51.2892, 51.0379,50.7866,50.5353,50.284,49.9071, 49.6559,49.4048,49.1537,48.9026,48.4006 ,47.8987,47.7733,47.7673,47.7903, 47.8056,47.8137,47.8139,47.815,48.0667, 48.3183,48.5701,48.8219,49.0737,49.3256 ,49.5775,49.8295,50.0815,50.3337, 50.5858,50.838,51.0902,51.3424,51.5947, 51.9731,52.2254,52.4777,52.73,52.9823, 53.3608,53.7393,53.9916,54.2438,54.496, 54.7483,55.0005,55.2527,55.5049,55.757, 56.135,56.3871,56.6389,56.8909,57.1428, 57.3946,57.6464,57.898,58.2754,58.5268, 58.7782,59.0295,59.2808,59.5319,59.783, 60.2848,60.4102,60.3927)
FOOTPRINT_POINT_LONGITUDE = (196.078,195.284,194.392,193.452, 193.427,193.348,193.45,193.549,193.619, 193.711,193.798,193.881,193.922,193.961 ,194.0,194.038,194.076,194.13,194.165, 194.199,194.233,194.267,194.299,194.331 ,194.377,194.421,194.45,194.479,194.507 ,194.534,194.561,194.6,194.625,194.662, 194.686,194.709,194.732,194.754,194.787 ,194.808,194.829,194.849,194.868, 194.906,194.943,194.952,194.952,195.758 ,196.437,196.896,196.914,196.92,196.911 ,196.901,196.891,196.881,196.871,196.86 ,196.849,196.838,196.827,196.816, 196.805,196.793,196.781,196.769,196.757 ,196.738,196.725,196.712,196.698, 196.685,196.664,196.643,196.628,196.613 ,196.598,196.583,196.567,196.551, 196.535,196.518,196.492,196.475,196.457 ,196.439,196.421,196.402,196.383, 196.364,196.334,196.314,196.293,196.272 ,196.25,196.228,196.206,196.159,196.147 ,196.078)
ORBIT_NUMBER = 17936
ORBITAL_ECCENTRICITY = 0.572
ORBITAL_INCLINATION = 86.98
ORBITAL_SEMIMAJOR_AXIS = 8786.58
PERIAPSIS_ALTITUDE = 374.33
PERIAPSIS_ARGUMENT_ANGLE = 128.93
PERIAPSIS_TIME = 2018-03-04T12:44:57.000Z
SPACECRAFT_ORIENTATION = (0.0,-1.0,0.0)
^MEX_ORIENTATION_DESC = "MEX_ORIENTATION_DESC.TXT"
SPACECRAFT_POINTING_MODE = NADIR
^MEX_POINTING_DESC = "MEX_POINTING_DESC.TXT"
RIGHT_ASCENSION = -1e+32
DECLINATION = -1e+32
OFFSET_ANGLE = -1e+32
SPACECRAFT_SOLAR_DISTANCE = 2.34438e+08
TARGET_NAME = MARS
/* CAMERA DATA ELEMENTS */
DETECTOR_TEMPERATURE = 18.5744
FOCAL_PLANE_TEMPERATURE = 8.3794
INST_CMPRS_NAME = "DISCRETE COSINE TRANSFORMATION (DCT)"
INST_CMPRS_RATIO = 8.74727
INST_CMPRS_QUALITY = 0
INST_CMPRS_QUANTZ_TBL_ID = 0
INSTRUMENT_TEMPERATURE = 11.234
LENS_TEMPERATURE = 8.5833
MACROPIXEL_SIZE = 4
MISSING_FRAMES = 0
PIXEL_SUBSAMPLING_FLAG = N
SIGNAL_CHAIN_ID = 2
/* RADIOMETRIC DATA ELEMENTS */
BANDWIDTH = 76.0
CENTER_FILTER_WAVELENGTH = 444.0
RADIANCE_OFFSET = 0.426015
RADIANCE_SCALING_FACTOR = 0.00173252
REFLECTANCE_SCALING_FACTOR = 9.78344e-05
MEX:REFLECTANCE_OFFSET = 0.0240568
/* IMAGE OBJECT DEFINITIONS */
OBJECT = IMAGE
  INTERCHANGE_FORMAT = BINARY
  LINES = 14982
  LINE_SAMPLES = 2510
  SAMPLE_TYPE = UNSIGNED_INTEGER
  SAMPLE_BITS = 8
  BANDS = 1
  BAND_STORAGE_TYPE = BAND_SEQUENTIAL
  MAXIMUM = 255
  MEAN = 124.308
  MINIMUM = 1
  STANDARD_DEVIATION = 19.1397
END_OBJECT = IMAGE
/* MAP OBJECT DEFINITIONS */
OBJECT = IMAGE_MAP_PROJECTION
  ^DATA_SET_MAP_PROJECTION_CATALOG= "DSMAP.CAT"
  A_AXIS_RADIUS = 3396.0
  B_AXIS_RADIUS = 3396.0
  C_AXIS_RADIUS = 3396.0
  CENTER_LATITUDE = 0.0
  CENTER_LONGITUDE = 195.0
  COORDINATE_SYSTEM_NAME = PLANETOGRAPHIC
  COORDINATE_SYSTEM_TYPE = "BODY-FIXED ROTATING"
  EASTERNMOST_LONGITUDE = 196.92
  FIRST_STANDARD_PARALLEL = "N/A"
  LINE_FIRST_PIXEL = 1
  LINE_LAST_PIXEL = 14982
  LINE_PROJECTION_OFFSET = 71607.875
  MAP_PROJECTION_ROTATION = 0.0
  MAP_PROJECTION_TYPE = SINUSOIDAL
  MAP_RESOLUTION = 1185.42760773333
  MAP_SCALE = 0.05
  MAXIMUM_LATITUDE = 60.4102
  MINIMUM_LATITUDE = 47.7673
  POSITIVE_LONGITUDE_DIRECTION = EAST
  REFERENCE_LATITUDE = "N/A"
  REFERENCE_LONGITUDE = "N/A"
  SAMPLE_FIRST_PIXEL = 1
  SAMPLE_LAST_PIXEL = 2510
  SAMPLE_PROJECTION_OFFSET = 982.375
  SECOND_STANDARD_PARALLEL = "N/A"
  WESTERNMOST_LONGITUDE = 193.348
END_OBJECT = IMAGE_MAP_PROJECTION
END
