PDS_VERSION_ID = PDS3
/* FILE DATA ELEMENTS */
RECORD_TYPE = UNDEFINED
/* POINTERS TO DATA OBJECTS */
^IMAGE = ("HH936_0000_GR4.TIF")
/* IDENTIFICATION DATA ELEMENTS */
DATA_SET_ID = "MEX-M-HRSC-4-REFDR-MAPPROJECT-EXT6-V4.0"
DATA_SET_NAME = "MARS EXPRESS HRSC MAP PROJECTED REFDR EXTENSION6 V4.0"
DETECTOR_ID = MEX_HRSC_GREEN
EVENT_TYPE = "MARS-REGIONAL-MAPPING-Vo-Im-Pf"
INSTRUMENT_HOST_ID = MEX
INSTRUMENT_HOST_NAME = "MARS EXPRESS"
INSTRUMENT_ID = HRSC
INSTRUMENT_NAME = "HIGH RESOLUTION STEREO CAMERA"
MISSION_NAME = "MARS EXPRESS"
MISSION_PHASE_NAME = ME_Phase_38
PROCESSING_LEVEL_ID = 4
PRODUCT_CREATION_TIME = 2023-01-28T19:29:54.000Z
PRODUCT_ID = "HH936_0000_GR4.TIF"
RELEASE_ID = 0003
REVISION_ID = 0000
/* QUALITY DATA ELEMENTS */
DATA_QUALITY_ID = 1
DATA_QUALITY_DESC = "Data calculated based on original SPICE kernels"
/* TIME DATA ELEMENTS */
SPACECRAFT_CLOCK_START_COUNT = "1/0468247304.08272"
SPACECRAFT_CLOCK_STOP_COUNT = "1/0468247573.64364"
START_TIME = 2018-03-04T12:42:24.635Z
STOP_TIME = 2018-03-04T12:45:41.139Z
/* ORBITAL DATA ELEMENTS */
ASCENDING_NODE_LONGITUDE = 237.41
MAXIMUM_RESOLUTION = 0.0604
FOOTPRINT_POINT_LATITUDE = (60.4226,60.3856,60.3523,60.3242,60.323 ,60.3005,59.8072,59.3131,58.8181, 58.3226,57.8263,57.3294,56.8319,56.5829 ,56.3338,56.0846,55.8352,55.5857, 55.3361,55.0863,54.8365,54.5865,54.3365 ,54.0862,53.8359,53.5856,53.3351, 53.0845,52.834,52.5833,52.3326,52.0817, 51.8308,51.5798,51.3288,51.0777,50.8265 ,50.5754,50.3241,50.0729,49.8216, 49.5702,49.3189,48.9418,48.6904,48.439, 47.9362,47.8105,47.7638,47.7826,47.8024 ,47.8108,47.8111,47.8123,48.0644, 48.3166,48.6949,49.0732,49.3254,49.5776 ,49.8298,50.082,50.3341,50.5862,50.8382 ,51.0903,51.3423,51.5942,51.8462, 52.0981,52.3499,52.6017,52.8534,53.105, 53.4824,53.7339,53.9853,54.2367,54.488, 54.7391,54.9902,55.2412,55.492,55.7429, 55.9936,56.2442,56.4947,56.7451,56.9954 ,57.2455,57.4954,57.7453,57.9951, 58.2447,58.7436,59.2418,59.7394,60.2364 ,60.3606,60.4226)
FOOTPRINT_POINT_LONGITUDE = (196.085,194.907,194.058,193.434, 193.409,193.336,193.439,193.537,193.631 ,193.721,193.807,193.89,193.97,194.008, 194.046,194.083,194.119,194.155,194.189 ,194.223,194.257,194.289,194.321, 194.352,194.383,194.413,194.442,194.471 ,194.499,194.527,194.554,194.58,194.606 ,194.631,194.656,194.68,194.703,194.727 ,194.749,194.771,194.793,194.814, 194.835,194.865,194.885,194.904,194.941 ,194.95,194.953,195.574,196.416,196.893 ,196.911,196.917,196.908,196.898, 196.883,196.868,196.858,196.847,196.837 ,196.826,196.815,196.803,196.792,196.78 ,196.769,196.757,196.744,196.732, 196.719,196.706,196.693,196.68,196.659, 196.645,196.631,196.616,196.601,196.586 ,196.571,196.555,196.539,196.523, 196.506,196.49,196.472,196.455,196.437, 196.419,196.401,196.382,196.363,196.344 ,196.303,196.262,196.219,196.174, 196.162,196.085)
ORBIT_NUMBER = 17936
ORBITAL_ECCENTRICITY = 0.572
ORBITAL_INCLINATION = 86.98
ORBITAL_SEMIMAJOR_AXIS = 8786.58
PERIAPSIS_ALTITUDE = 374.33
PERIAPSIS_ARGUMENT_ANGLE = 128.93
PERIAPSIS_TIME = 2018-03-04T12:44:57.000Z
SPACECRAFT_ORIENTATION = (0.0,-1.0,0.0)
^MEX_ORIENTATION_DESC = "MEX_ORIENTATION_DESC.TXT"
SPACECRAFT_POINTING_MODE = NADIR
^MEX_POINTING_DESC = "MEX_POINTING_DESC.TXT"
RIGHT_ASCENSION = -1e+32
DECLINATION = -1e+32
OFFSET_ANGLE = -1e+32
SPACECRAFT_SOLAR_DISTANCE = 2.34438e+08
TARGET_NAME = MARS
/* CAMERA DATA ELEMENTS */
DETECTOR_TEMPERATURE = 18.5744
FOCAL_PLANE_TEMPERATURE = 8.3794
INST_CMPRS_NAME = "DISCRETE COSINE TRANSFORMATION (DCT)"
INST_CMPRS_RATIO = 14.6796
INST_CMPRS_QUALITY = 0
INST_CMPRS_QUANTZ_TBL_ID = 0
INSTRUMENT_TEMPERATURE = 11.234
LENS_TEMPERATURE = 8.5833
MACROPIXEL_SIZE = 4
MISSING_FRAMES = 0
PIXEL_SUBSAMPLING_FLAG = N
SIGNAL_CHAIN_ID = 2
/* RADIOMETRIC DATA ELEMENTS */
BANDWIDTH = 88.0
CENTER_FILTER_WAVELENGTH = 538.0
RADIANCE_OFFSET = 0.976405
RADIANCE_SCALING_FACTOR = 0.00567518
REFLECTANCE_SCALING_FACTOR = 0.000268551
MEX:REFLECTANCE_OFFSET = 0.0462037
/* IMAGE OBJECT DEFINITIONS */
OBJECT = IMAGE
  INTERCHANGE_FORMAT = BINARY
  LINES = 14982
  LINE_SAMPLES = 2510
  SAMPLE_TYPE = UNSIGNED_INTEGER
  SAMPLE_BITS = 8
  BANDS = 1
  BAND_STORAGE_TYPE = BAND_SEQUENTIAL
  MAXIMUM = 255
  MEAN = 114.11
  MINIMUM = 1
  STANDARD_DEVIATION = 31.0004
END_OBJECT = IMAGE
/* MAP OBJECT DEFINITIONS */
OBJECT = IMAGE_MAP_PROJECTION
  ^DATA_SET_MAP_PROJECTION_CATALOG= "DSMAP.CAT"
  A_AXIS_RADIUS = 3396.0
  B_AXIS_RADIUS = 3396.0
  C_AXIS_RADIUS = 3396.0
  CENTER_LATITUDE = 0.0
  CENTER_LONGITUDE = 195.0
  COORDINATE_SYSTEM_NAME = PLANETOGRAPHIC
  COORDINATE_SYSTEM_TYPE = "BODY-FIXED ROTATING"
  EASTERNMOST_LONGITUDE = 196.917
  FIRST_STANDARD_PARALLEL = "N/A"
  LINE_FIRST_PIXEL = 1
  LINE_LAST_PIXEL = 14982
  LINE_PROJECTION_OFFSET = 71607.875
  MAP_PROJECTION_ROTATION = 0.0
  MAP_PROJECTION_TYPE = SINUSOIDAL
  MAP_RESOLUTION = 1185.42760773333
  MAP_SCALE = 0.05
  MAXIMUM_LATITUDE = 60.4226
  MINIMUM_LATITUDE = 47.7638
  POSITIVE_LONGITUDE_DIRECTION = EAST
  REFERENCE_LATITUDE = "N/A"
  REFERENCE_LONGITUDE = "N/A"
  SAMPLE_FIRST_PIXEL = 1
  SAMPLE_LAST_PIXEL = 2510
  SAMPLE_PROJECTION_OFFSET = 982.375
  SECOND_STANDARD_PARALLEL = "N/A"
  WESTERNMOST_LONGITUDE = 193.336
END_OBJECT = IMAGE_MAP_PROJECTION
END
