PDS_VERSION_ID = PDS3
/* FILE DATA ELEMENTS */
RECORD_TYPE = UNDEFINED
/* POINTERS TO DATA OBJECTS */
^IMAGE = ("HH936_0000_P14.TIF")
/* IDENTIFICATION DATA ELEMENTS */
DATA_SET_ID = "MEX-M-HRSC-4-REFDR-MAPPROJECT-EXT6-V4.0"
DATA_SET_NAME = "MARS EXPRESS HRSC MAP PROJECTED REFDR EXTENSION6 V4.0"
DETECTOR_ID = MEX_HRSC_P1
EVENT_TYPE = "MARS-REGIONAL-MAPPING-Vo-Im-Pf"
INSTRUMENT_HOST_ID = MEX
INSTRUMENT_HOST_NAME = "MARS EXPRESS"
INSTRUMENT_ID = HRSC
INSTRUMENT_NAME = "HIGH RESOLUTION STEREO CAMERA"
MISSION_NAME = "MARS EXPRESS"
MISSION_PHASE_NAME = ME_Phase_38
PROCESSING_LEVEL_ID = 4
PRODUCT_CREATION_TIME = 2023-01-28T19:29:54.000Z
PRODUCT_ID = "HH936_0000_P14.TIF"
RELEASE_ID = 0003
REVISION_ID = 0000
/* QUALITY DATA ELEMENTS */
DATA_QUALITY_ID = 1
DATA_QUALITY_DESC = "Data calculated based on original SPICE kernels"
/* TIME DATA ELEMENTS */
SPACECRAFT_CLOCK_START_COUNT = "1/0468247304.08272"
SPACECRAFT_CLOCK_STOP_COUNT = "1/0468247573.64364"
START_TIME = 2018-03-04T12:42:06.515Z
STOP_TIME = 2018-03-04T12:45:24.606Z
/* ORBITAL DATA ELEMENTS */
ASCENDING_NODE_LONGITUDE = 237.41
MAXIMUM_RESOLUTION = 0.031
FOOTPRINT_POINT_LATITUDE = (60.4706,60.4351,60.4022,60.3662, 60.3649,60.2856,59.7969,59.3075,58.816, 58.324,58.0775,57.7071,57.46,57.2129, 56.9651,56.7174,56.4694,56.0968,55.8483 ,55.5994,55.3502,55.1009,54.8516, 54.6019,54.352,54.1018,53.8474,53.5969, 53.3461,53.0953,52.8446,52.5935,52.3422 ,52.0905,51.8389,51.5871,51.335,51.0829 ,50.8306,50.5782,50.3256,50.073,49.8201 ,49.5672,49.3141,49.0609,48.8076, 48.5542,48.1699,47.9163,47.7896,47.7499 ,47.7764,47.7915,47.8005,47.8008, 47.8014,48.183,48.6957,48.9499,49.204, 49.458,49.712,49.966,50.2196,50.4729, 50.7263,50.9795,51.2327,51.4858,51.7386 ,52.1178,52.3704,52.6228,52.8751,53.127 ,53.505,53.8824,54.2637,54.515,54.7659, 55.0167,55.2674,55.6429,55.8932,56.2682 ,56.5179,56.892,57.141,57.39,57.6385, 58.0112,58.2592,58.6313,58.8788,59.3731 ,59.8665,60.236,60.359,60.4706)
FOOTPRINT_POINT_LONGITUDE = (196.106,194.99,194.169,193.401,193.375 ,193.311,193.413,193.512,193.606, 193.697,193.741,193.806,193.847,193.888 ,193.929,193.968,194.007,194.063,194.1, 194.136,194.171,194.205,194.239,194.272 ,194.304,194.336,194.368,194.398, 194.428,194.457,194.486,194.514,194.541 ,194.568,194.594,194.62,194.645,194.67, 194.694,194.718,194.741,194.763,194.786 ,194.807,194.828,194.849,194.869, 194.889,194.918,194.937,194.946,194.949 ,195.787,196.417,196.894,196.913,196.92 ,196.906,196.887,196.877,196.867, 196.857,196.847,196.836,196.825,196.815 ,196.804,196.792,196.781,196.769, 196.758,196.739,196.727,196.714,196.701 ,196.689,196.669,196.648,196.627, 196.612,196.598,196.583,196.568,196.545 ,196.529,196.504,196.488,196.462, 196.445,196.428,196.41,196.382,196.364, 196.335,196.315,196.275,196.233,196.2, 196.189,196.106)
ORBIT_NUMBER = 17936
ORBITAL_ECCENTRICITY = 0.572
ORBITAL_INCLINATION = 86.98
ORBITAL_SEMIMAJOR_AXIS = 8786.58
PERIAPSIS_ALTITUDE = 374.33
PERIAPSIS_ARGUMENT_ANGLE = 128.93
PERIAPSIS_TIME = 2018-03-04T12:44:57.000Z
SPACECRAFT_ORIENTATION = (0.0,-1.0,0.0)
^MEX_ORIENTATION_DESC = "MEX_ORIENTATION_DESC.TXT"
SPACECRAFT_POINTING_MODE = NADIR
^MEX_POINTING_DESC = "MEX_POINTING_DESC.TXT"
RIGHT_ASCENSION = -1e+32
DECLINATION = -1e+32
OFFSET_ANGLE = -1e+32
SPACECRAFT_SOLAR_DISTANCE = 2.34438e+08
TARGET_NAME = MARS
/* CAMERA DATA ELEMENTS */
DETECTOR_TEMPERATURE = 16.9432
FOCAL_PLANE_TEMPERATURE = 8.3794
INST_CMPRS_NAME = "DISCRETE COSINE TRANSFORMATION (DCT)"
INST_CMPRS_RATIO = 10.7272
INST_CMPRS_QUALITY = 0
INST_CMPRS_QUANTZ_TBL_ID = 0
INSTRUMENT_TEMPERATURE = 11.234
LENS_TEMPERATURE = 8.5833
MACROPIXEL_SIZE = 2
PIXEL_SUBSAMPLING_FLAG = N
SIGNAL_CHAIN_ID = 3
/* RADIOMETRIC DATA ELEMENTS */
BANDWIDTH = 174.0
CENTER_FILTER_WAVELENGTH = 675.0
RADIANCE_OFFSET = 2.66757
RADIANCE_SCALING_FACTOR = 0.0241555
REFLECTANCE_SCALING_FACTOR = 0.000714099
MEX:REFLECTANCE_OFFSET = 0.0788601
/* IMAGE OBJECT DEFINITIONS */
OBJECT = IMAGE
  INTERCHANGE_FORMAT = BINARY
  LINES = 29963
  LINE_SAMPLES = 5020
  SAMPLE_TYPE = UNSIGNED_INTEGER
  SAMPLE_BITS = 8
  BANDS = 1
  BAND_STORAGE_TYPE = BAND_SEQUENTIAL
  MAXIMUM = 255
  MEAN = 105.697
  MINIMUM = 1
  STANDARD_DEVIATION = 42.488
END_OBJECT = IMAGE
/* MAP OBJECT DEFINITIONS */
OBJECT = IMAGE_MAP_PROJECTION
  ^DATA_SET_MAP_PROJECTION_CATALOG= "DSMAP.CAT"
  A_AXIS_RADIUS = 3396.0
  B_AXIS_RADIUS = 3396.0
  C_AXIS_RADIUS = 3396.0
  CENTER_LATITUDE = 0.0
  CENTER_LONGITUDE = 195.0
  COORDINATE_SYSTEM_NAME = PLANETOGRAPHIC
  COORDINATE_SYSTEM_TYPE = "BODY-FIXED ROTATING"
  EASTERNMOST_LONGITUDE = 196.92
  FIRST_STANDARD_PARALLEL = "N/A"
  LINE_FIRST_PIXEL = 1
  LINE_LAST_PIXEL = 29963
  LINE_PROJECTION_OFFSET = 143216.25
  MAP_PROJECTION_ROTATION = 0.0
  MAP_PROJECTION_TYPE = SINUSOIDAL
  MAP_RESOLUTION = 2370.85521546667
  MAP_SCALE = 0.025
  MAXIMUM_LATITUDE = 60.4706
  MINIMUM_LATITUDE = 47.7499
  POSITIVE_LONGITUDE_DIRECTION = EAST
  REFERENCE_LATITUDE = "N/A"
  REFERENCE_LONGITUDE = "N/A"
  SAMPLE_FIRST_PIXEL = 1
  SAMPLE_LAST_PIXEL = 5020
  SAMPLE_PROJECTION_OFFSET = 1965.25
  SECOND_STANDARD_PARALLEL = "N/A"
  WESTERNMOST_LONGITUDE = 193.311
END_OBJECT = IMAGE_MAP_PROJECTION
END
