PDS_VERSION_ID = PDS3
/* FILE DATA ELEMENTS */
RECORD_TYPE = UNDEFINED
/* POINTERS TO DATA OBJECTS */
^IMAGE = ("HH937_0000_RE4.TIF")
/* IDENTIFICATION DATA ELEMENTS */
DATA_SET_ID = "MEX-M-HRSC-4-REFDR-MAPPROJECT-EXT6-V4.0"
DATA_SET_NAME = "MARS EXPRESS HRSC MAP PROJECTED REFDR EXTENSION6 V4.0"
DETECTOR_ID = MEX_HRSC_RED
EVENT_TYPE = "MARS-REGIONAL-MAPPING-Vo-Im-Pf"
INSTRUMENT_HOST_ID = MEX
INSTRUMENT_HOST_NAME = "MARS EXPRESS"
INSTRUMENT_ID = HRSC
INSTRUMENT_NAME = "HIGH RESOLUTION STEREO CAMERA"
MISSION_NAME = "MARS EXPRESS"
MISSION_PHASE_NAME = ME_Phase_38
PROCESSING_LEVEL_ID = 4
PRODUCT_CREATION_TIME = 2023-01-28T19:29:54.000Z
PRODUCT_ID = "HH937_0000_RE4.TIF"
RELEASE_ID = 0003
REVISION_ID = 0000
/* QUALITY DATA ELEMENTS */
DATA_QUALITY_ID = 1
DATA_QUALITY_DESC = "Data calculated based on original SPICE kernels"
/* TIME DATA ELEMENTS */
SPACECRAFT_CLOCK_START_COUNT = "1/0468272474.09097"
SPACECRAFT_CLOCK_STOP_COUNT = "1/0468272688.49292"
START_TIME = 2018-03-04T19:42:29.078Z
STOP_TIME = 2018-03-04T19:44:50.264Z
/* ORBITAL DATA ELEMENTS */
ASCENDING_NODE_LONGITUDE = 237.39
MAXIMUM_RESOLUTION = 0.0632
FOOTPRINT_POINT_LATITUDE = (58.6193,58.6078,58.5975,58.5857, 58.5737,58.5608,58.5425,58.5416,58.6287 ,58.3566,58.1752,57.9033,57.7219, 57.5404,57.3591,57.0871,56.9057,56.7244 ,56.5432,56.3619,56.1807,55.9996, 55.8185,55.6374,55.4563,55.2749,55.0035 ,54.8225,54.6416,54.3702,54.1893, 53.9181,53.647,53.4664,53.2858,53.1052, 52.9247,52.7444,52.4738,52.2935,52.1133 ,51.9332,51.663,51.3032,50.8536,50.4044 ,50.0455,49.6868,49.5973,49.5549, 49.5742,49.5818,49.5875,49.5963,49.5965 ,49.5976,49.9574,50.4079,50.7685, 50.9489,51.1295,51.4001,51.6709,51.8515 ,52.0324,52.2133,52.3943,52.5753, 52.8471,53.0283,53.2095,53.3907,53.572, 53.7535,53.935,54.1168,54.2983,54.48, 54.6617,54.8435,55.0253,55.2071,55.3891 ,55.571,55.844,56.1172,56.2992,56.4815, 56.6637,56.846,57.0282,57.3016,57.4839, 57.6662,57.8486,58.1224,58.3961,58.5786 ,58.6698,58.6193)
FOOTPRINT_POINT_LONGITUDE = (93.7099,93.2507,92.883,92.4914,92.1224 ,91.7529,91.2656,91.2424,91.1383, 91.1896,91.2231,91.2724,91.3047,91.3366 ,91.3678,91.4139,91.4441,91.4737, 91.5029,91.5316,91.5599,91.5877,91.6151 ,91.6421,91.6687,91.6951,91.7335, 91.7588,91.7835,91.8201,91.8439,91.8791 ,91.9134,91.9358,91.9579,91.9796,92.001 ,92.022,92.053,92.0733,92.0932,92.1127, 92.1416,92.1789,92.2241,92.2676,92.301, 92.3335,92.3413,92.3451,93.1326,93.4964 ,93.8024,94.3741,94.3931,94.3994, 94.3805,94.3564,94.3365,94.3264,94.3161 ,94.3004,94.2844,94.2736,94.2626, 94.2516,94.2404,94.229,94.2117,94.2, 94.1881,94.176,94.1638,94.1515,94.139, 94.1264,94.1135,94.1006,94.0874,94.0741 ,94.0605,94.0468,94.033,94.0189,93.9974 ,93.9755,93.9607,93.9457,93.9304,93.915 ,93.8993,93.8754,93.8592,93.8427, 93.8261,93.8007,93.7747,93.7571,93.7482 ,93.7099)
ORBIT_NUMBER = 17937
ORBITAL_ECCENTRICITY = 0.573
ORBITAL_INCLINATION = 86.98
ORBITAL_SEMIMAJOR_AXIS = 8795.02
PERIAPSIS_ALTITUDE = 373.63
PERIAPSIS_ARGUMENT_ANGLE = 128.74
PERIAPSIS_TIME = 2018-03-04T19:43:57.000Z
SPACECRAFT_ORIENTATION = (0.0,-1.0,0.0)
^MEX_ORIENTATION_DESC = "MEX_ORIENTATION_DESC.TXT"
SPACECRAFT_POINTING_MODE = ACROSSTRACK
^MEX_POINTING_DESC = "MEX_POINTING_DESC.TXT"
RIGHT_ASCENSION = -1e+32
DECLINATION = -1e+32
OFFSET_ANGLE = -0.2
SPACECRAFT_SOLAR_DISTANCE = 2.34385e+08
TARGET_NAME = MARS
/* CAMERA DATA ELEMENTS */
DETECTOR_TEMPERATURE = 18.5744
FOCAL_PLANE_TEMPERATURE = 8.5833
INST_CMPRS_NAME = "DISCRETE COSINE TRANSFORMATION (DCT)"
INST_CMPRS_RATIO = 23.365
INST_CMPRS_QUALITY = 0
INST_CMPRS_QUANTZ_TBL_ID = 0
INSTRUMENT_TEMPERATURE = 11.8457
LENS_TEMPERATURE = 8.9911
MACROPIXEL_SIZE = 4
MISSING_FRAMES = 0
PIXEL_SUBSAMPLING_FLAG = N
SIGNAL_CHAIN_ID = 2
/* RADIOMETRIC DATA ELEMENTS */
BANDWIDTH = 48.0
CENTER_FILTER_WAVELENGTH = 748.0
RADIANCE_OFFSET = 0.72954
RADIANCE_SCALING_FACTOR = 0.00336955
REFLECTANCE_SCALING_FACTOR = 0.000422435
MEX:REFLECTANCE_OFFSET = 0.0914612
/* IMAGE OBJECT DEFINITIONS */
OBJECT = IMAGE
  INTERCHANGE_FORMAT = BINARY
  LINES = 10889
  LINE_SAMPLES = 2227
  SAMPLE_TYPE = UNSIGNED_INTEGER
  SAMPLE_BITS = 8
  BANDS = 1
  BAND_STORAGE_TYPE = BAND_SEQUENTIAL
  MAXIMUM = 255
  MEAN = 103.405
  MINIMUM = 1
  STANDARD_DEVIATION = 22.9774
END_OBJECT = IMAGE
/* MAP OBJECT DEFINITIONS */
OBJECT = IMAGE_MAP_PROJECTION
  ^DATA_SET_MAP_PROJECTION_CATALOG= "DSMAP.CAT"
  A_AXIS_RADIUS = 3396.0
  B_AXIS_RADIUS = 3396.0
  C_AXIS_RADIUS = 3396.0
  CENTER_LATITUDE = 0.0
  CENTER_LONGITUDE = 93.0
  COORDINATE_SYSTEM_NAME = PLANETOGRAPHIC
  COORDINATE_SYSTEM_TYPE = "BODY-FIXED ROTATING"
  EASTERNMOST_LONGITUDE = 94.3994
  FIRST_STANDARD_PARALLEL = "N/A"
  LINE_FIRST_PIXEL = 1
  LINE_LAST_PIXEL = 10889
  LINE_PROJECTION_OFFSET = 69606.375
  MAP_PROJECTION_ROTATION = 0.0
  MAP_PROJECTION_TYPE = SINUSOIDAL
  MAP_RESOLUTION = 1185.42760773333
  MAP_SCALE = 0.05
  MAXIMUM_LATITUDE = 58.6698
  MINIMUM_LATITUDE = 49.5549
  POSITIVE_LONGITUDE_DIRECTION = EAST
  REFERENCE_LATITUDE = "N/A"
  REFERENCE_LONGITUDE = "N/A"
  SAMPLE_FIRST_PIXEL = 1
  SAMPLE_LAST_PIXEL = 2227
  SAMPLE_PROJECTION_OFFSET = 1158.875
  SECOND_STANDARD_PARALLEL = "N/A"
  WESTERNMOST_LONGITUDE = 91.1383
END_OBJECT = IMAGE_MAP_PROJECTION
END
