PDS_VERSION_ID = PDS3
/* FILE DATA ELEMENTS */
RECORD_TYPE = UNDEFINED
/* POINTERS TO DATA OBJECTS */
^IMAGE = ("HH939_0000_S24.TIF")
/* IDENTIFICATION DATA ELEMENTS */
DATA_SET_ID = "MEX-M-HRSC-4-REFDR-MAPPROJECT-EXT6-V4.0"
DATA_SET_NAME = "MARS EXPRESS HRSC MAP PROJECTED REFDR EXTENSION6 V4.0"
DETECTOR_ID = MEX_HRSC_S2
EVENT_TYPE = "MARS-REGIONAL-MAPPING-Vo-Im-Pf"
INSTRUMENT_HOST_ID = MEX
INSTRUMENT_HOST_NAME = "MARS EXPRESS"
INSTRUMENT_ID = HRSC
INSTRUMENT_NAME = "HIGH RESOLUTION STEREO CAMERA"
MISSION_NAME = "MARS EXPRESS"
MISSION_PHASE_NAME = ME_Phase_38
PROCESSING_LEVEL_ID = 4
PRODUCT_CREATION_TIME = 2023-01-28T19:29:54.000Z
PRODUCT_ID = "HH939_0000_S24.TIF"
RELEASE_ID = 0003
REVISION_ID = 0000
/* QUALITY DATA ELEMENTS */
DATA_QUALITY_ID = 1
DATA_QUALITY_DESC = "Data calculated based on original SPICE kernels"
/* TIME DATA ELEMENTS */
SPACECRAFT_CLOCK_START_COUNT = "1/0468322686.09064"
SPACECRAFT_CLOCK_STOP_COUNT = "1/0468322951.08923"
START_TIME = 2018-03-05T09:39:30.928Z
STOP_TIME = 2018-03-05T09:42:38.536Z
/* ORBITAL DATA ELEMENTS */
ASCENDING_NODE_LONGITUDE = 237.36
MAXIMUM_RESOLUTION = 0.032
FOOTPRINT_POINT_LATITUDE = (62.9171,62.881,62.8509,62.8083,62.807, 62.9195,62.6767,62.3127,62.0701,61.8275 ,61.4634,61.2207,60.8566,60.6139, 60.3711,60.0068,59.7638,59.5213,59.2786 ,58.9143,58.5503,58.3074,58.065,57.8228 ,57.4591,57.2169,56.975,56.7331,56.4911 ,56.1283,55.8863,55.5235,55.2821, 55.0405,54.6785,54.4375,54.0758,53.8351 ,53.5943,53.2332,52.8722,52.6317, 52.3914,52.1516,51.7917,51.4321,51.1928 ,50.9535,50.8338,50.8006,50.8263, 50.8434,50.8537,50.8541,50.8547,51.0947 ,51.335,51.5754,51.936,52.2974,52.5383, 52.7793,53.1415,53.3829,53.6244,53.8662 ,54.2291,54.4712,54.8348,55.0771, 55.4414,55.6842,55.9267,56.2913,56.5343 ,56.7773,57.0204,57.2638,57.6292, 57.8729,58.1166,58.4826,58.7266,58.9706 ,59.2146,59.5805,59.8249,60.0689, 60.3134,60.6803,61.0471,61.2914,61.5358 ,61.7802,62.0246,62.3914,62.636,62.8804 ,63.0027,62.9171)
FOOTPRINT_POINT_LONGITUDE = (249.392,248.287,247.496,246.509,246.48 ,246.368,246.431,246.523,246.582, 246.641,246.726,246.781,246.862,246.914 ,246.965,247.04,247.089,247.136,247.183 ,247.251,247.317,247.36,247.401,247.442 ,247.502,247.541,247.578,247.615, 247.652,247.705,247.739,247.79,247.823, 247.855,247.901,247.932,247.976,248.005 ,248.033,248.074,248.114,248.14,248.165 ,248.19,248.226,248.261,248.284,248.306 ,248.317,248.32,249.193,249.884,250.392 ,250.412,250.419,250.408,250.396, 250.383,250.364,250.345,250.332,250.318 ,250.298,250.284,250.269,250.255, 250.233,250.217,250.194,250.178,250.154 ,250.137,250.12,250.095,250.077,250.059 ,250.04,250.021,249.993,249.973,249.953 ,249.922,249.902,249.88,249.858,249.825 ,249.802,249.778,249.755,249.718,249.68 ,249.655,249.628,249.601,249.574, 249.531,249.502,249.473,249.458, 249.392)
ORBIT_NUMBER = 17939
ORBITAL_ECCENTRICITY = 0.573
ORBITAL_INCLINATION = 86.97
ORBITAL_SEMIMAJOR_AXIS = 8792.62
PERIAPSIS_ALTITUDE = 374.06
PERIAPSIS_ARGUMENT_ANGLE = 128.39
PERIAPSIS_TIME = 2018-03-05T09:41:53.000Z
SPACECRAFT_ORIENTATION = (0.0,-1.0,0.0)
^MEX_ORIENTATION_DESC = "MEX_ORIENTATION_DESC.TXT"
SPACECRAFT_POINTING_MODE = NADIR
^MEX_POINTING_DESC = "MEX_POINTING_DESC.TXT"
RIGHT_ASCENSION = -1e+32
DECLINATION = -1e+32
OFFSET_ANGLE = -1e+32
SPACECRAFT_SOLAR_DISTANCE = 2.3428e+08
TARGET_NAME = MARS
/* CAMERA DATA ELEMENTS */
DETECTOR_TEMPERATURE = 18.7783
FOCAL_PLANE_TEMPERATURE = 8.1755
INST_CMPRS_NAME = "DISCRETE COSINE TRANSFORMATION (DCT)"
INST_CMPRS_RATIO = 14.1302
INST_CMPRS_QUALITY = 0
INST_CMPRS_QUANTZ_TBL_ID = 0
INSTRUMENT_TEMPERATURE = 11.234
LENS_TEMPERATURE = 8.5833
MACROPIXEL_SIZE = 2
MISSING_FRAMES = 0
PIXEL_SUBSAMPLING_FLAG = N
SIGNAL_CHAIN_ID = 1
/* RADIOMETRIC DATA ELEMENTS */
BANDWIDTH = 178.0
CENTER_FILTER_WAVELENGTH = 679.0
RADIANCE_OFFSET = 3.68588
RADIANCE_SCALING_FACTOR = 0.0144544
REFLECTANCE_SCALING_FACTOR = 0.000420149
MEX:REFLECTANCE_OFFSET = 0.107138
/* IMAGE OBJECT DEFINITIONS */
OBJECT = IMAGE
  INTERCHANGE_FORMAT = BINARY
  LINES = 29008
  LINE_SAMPLES = 4976
  SAMPLE_TYPE = UNSIGNED_INTEGER
  SAMPLE_BITS = 8
  BANDS = 1
  BAND_STORAGE_TYPE = BAND_SEQUENTIAL
  MAXIMUM = 255
  MEAN = 154.985
  MINIMUM = 1
  STANDARD_DEVIATION = 31.0056
END_OBJECT = IMAGE
/* MAP OBJECT DEFINITIONS */
OBJECT = IMAGE_MAP_PROJECTION
  ^DATA_SET_MAP_PROJECTION_CATALOG= "DSMAP.CAT"
  A_AXIS_RADIUS = 3396.0
  B_AXIS_RADIUS = 3396.0
  C_AXIS_RADIUS = 3396.0
  CENTER_LATITUDE = 0.0
  CENTER_LONGITUDE = 249.0
  COORDINATE_SYSTEM_NAME = PLANETOGRAPHIC
  COORDINATE_SYSTEM_TYPE = "BODY-FIXED ROTATING"
  EASTERNMOST_LONGITUDE = 250.419
  FIRST_STANDARD_PARALLEL = "N/A"
  LINE_FIRST_PIXEL = 1
  LINE_LAST_PIXEL = 29008
  LINE_PROJECTION_OFFSET = 149432.75
  MAP_PROJECTION_ROTATION = 0.0
  MAP_PROJECTION_TYPE = SINUSOIDAL
  MAP_RESOLUTION = 2370.85521546667
  MAP_SCALE = 0.025
  MAXIMUM_LATITUDE = 63.0027
  MINIMUM_LATITUDE = 50.8006
  POSITIVE_LONGITUDE_DIRECTION = EAST
  REFERENCE_LATITUDE = "N/A"
  REFERENCE_LONGITUDE = "N/A"
  SAMPLE_FIRST_PIXEL = 1
  SAMPLE_LAST_PIXEL = 4976
  SAMPLE_PROJECTION_OFFSET = 2876.25
  SECOND_STANDARD_PARALLEL = "N/A"
  WESTERNMOST_LONGITUDE = 246.368
END_OBJECT = IMAGE_MAP_PROJECTION
END
