PDS_VERSION_ID = PDS3
/* FILE DATA ELEMENTS */
RECORD_TYPE = UNDEFINED
/* POINTERS TO DATA OBJECTS */
^IMAGE = ("HH940_0000_RE4.TIF")
/* IDENTIFICATION DATA ELEMENTS */
DATA_SET_ID = "MEX-M-HRSC-4-REFDR-MAPPROJECT-EXT6-V4.0"
DATA_SET_NAME = "MARS EXPRESS HRSC MAP PROJECTED REFDR EXTENSION6 V4.0"
DETECTOR_ID = MEX_HRSC_RED
EVENT_TYPE = "MARS-REGIONAL-MAPPING-Vo-Im-Pf"
INSTRUMENT_HOST_ID = MEX
INSTRUMENT_HOST_NAME = "MARS EXPRESS"
INSTRUMENT_ID = HRSC
INSTRUMENT_NAME = "HIGH RESOLUTION STEREO CAMERA"
MISSION_NAME = "MARS EXPRESS"
MISSION_PHASE_NAME = ME_Phase_38
PROCESSING_LEVEL_ID = 4
PRODUCT_CREATION_TIME = 2023-01-28T19:29:54.000Z
PRODUCT_ID = "HH940_0000_RE4.TIF"
RELEASE_ID = 0003
REVISION_ID = 0000
/* QUALITY DATA ELEMENTS */
DATA_QUALITY_ID = 1
DATA_QUALITY_DESC = "Data calculated based on original SPICE kernels"
/* TIME DATA ELEMENTS */
SPACECRAFT_CLOCK_START_COUNT = "1/0468347922.09049"
SPACECRAFT_CLOCK_STOP_COUNT = "1/0468348185.41383"
START_TIME = 2018-03-05T16:39:56.201Z
STOP_TIME = 2018-03-05T16:43:06.769Z
/* ORBITAL DATA ELEMENTS */
ASCENDING_NODE_LONGITUDE = 237.33
MAXIMUM_RESOLUTION = 0.0635
FOOTPRINT_POINT_LATITUDE = (57.2113,57.1974,57.1733,57.1391, 57.1382,57.2268,56.9825,56.6163,56.372, 56.1281,55.8841,55.64,55.3963,55.0305, 54.6646,54.421,54.0555,53.8121,53.569, 53.2043,52.84,52.4757,52.233,51.99, 51.7475,51.5053,51.2632,50.8998,50.6582 ,50.4166,50.1747,49.9334,49.6921, 49.3304,48.9678,48.7272,48.3675,48.1273 ,47.8874,47.6476,47.2879,47.0485, 46.8093,46.5703,46.3317,46.0931,45.8547 ,45.2597,45.1408,45.0715,45.0787, 45.0898,45.0982,45.1026,45.1028,45.1038 ,45.581,45.8196,46.1784,46.4176,46.6571 ,47.017,47.3772,47.6174,47.858,48.0988, 48.4604,48.7015,49.0638,49.3055,49.6682 ,49.9101,50.1523,50.3948,50.6371,50.88, 51.2445,51.4875,51.7307,51.9744,52.3399 ,52.5831,52.8268,53.0708,53.4369, 53.8036,54.048,54.2925,54.537,54.7818, 55.0266,55.2716,55.5165,55.7615,56.1293 ,56.3746,56.7429,57.1112,57.2338, 57.2113)
FOOTPRINT_POINT_LONGITUDE = (147.58,147.031,146.216,145.245,145.223 ,145.13,145.17,145.228,145.266,145.303, 145.34,145.376,145.41,145.461,145.511, 145.543,145.59,145.621,145.651,145.694, 145.736,145.777,145.804,145.83,145.855, 145.88,145.904,145.94,145.963,145.985, 146.008,146.029,146.05,146.081,146.112, 146.131,146.158,146.177,146.194,146.212 ,146.237,146.254,146.27,146.285,146.301 ,146.315,146.33,146.365,146.372,146.376 ,146.74,147.34,147.938,148.301,148.319, 148.325,148.307,148.297,148.283,148.273 ,148.263,148.248,148.233,148.222, 148.211,148.201,148.184,148.173,148.155 ,148.143,148.125,148.113,148.101, 148.088,148.075,148.062,148.042,148.028 ,148.014,148.0,147.978,147.963,147.948, 147.933,147.91,147.886,147.869,147.853, 147.835,147.818,147.801,147.783,147.764 ,147.746,147.717,147.698,147.668, 147.637,147.627,147.58)
ORBIT_NUMBER = 17940
ORBITAL_ECCENTRICITY = 0.572
ORBITAL_INCLINATION = 86.97
ORBITAL_SEMIMAJOR_AXIS = 8789.01
PERIAPSIS_ALTITUDE = 375.4
PERIAPSIS_ARGUMENT_ANGLE = 128.25
PERIAPSIS_TIME = 2018-03-05T16:40:55.000Z
SPACECRAFT_ORIENTATION = (0.0,-1.0,0.0)
^MEX_ORIENTATION_DESC = "MEX_ORIENTATION_DESC.TXT"
SPACECRAFT_POINTING_MODE = ACROSSTRACK
^MEX_POINTING_DESC = "MEX_POINTING_DESC.TXT"
RIGHT_ASCENSION = -1e+32
DECLINATION = -1e+32
OFFSET_ANGLE = -0.13
SPACECRAFT_SOLAR_DISTANCE = 2.34228e+08
TARGET_NAME = MARS
/* CAMERA DATA ELEMENTS */
DETECTOR_TEMPERATURE = 18.5744
FOCAL_PLANE_TEMPERATURE = 7.9716
INST_CMPRS_NAME = "DISCRETE COSINE TRANSFORMATION (DCT)"
INST_CMPRS_RATIO = 19.9223
INST_CMPRS_QUALITY = 0
INST_CMPRS_QUANTZ_TBL_ID = 0
INSTRUMENT_TEMPERATURE = 11.234
LENS_TEMPERATURE = 8.3794
MACROPIXEL_SIZE = 4
MISSING_FRAMES = 0
PIXEL_SUBSAMPLING_FLAG = N
SIGNAL_CHAIN_ID = 2
/* RADIOMETRIC DATA ELEMENTS */
BANDWIDTH = 48.0
CENTER_FILTER_WAVELENGTH = 748.0
RADIANCE_OFFSET = 1.02136
RADIANCE_SCALING_FACTOR = 0.00508612
REFLECTANCE_SCALING_FACTOR = 0.000636781
MEX:REFLECTANCE_OFFSET = 0.127874
/* IMAGE OBJECT DEFINITIONS */
OBJECT = IMAGE
  INTERCHANGE_FORMAT = BINARY
  LINES = 14529
  LINE_SAMPLES = 2300
  SAMPLE_TYPE = UNSIGNED_INTEGER
  SAMPLE_BITS = 8
  BANDS = 1
  BAND_STORAGE_TYPE = BAND_SEQUENTIAL
  MAXIMUM = 255
  MEAN = 107.751
  MINIMUM = 1
  STANDARD_DEVIATION = 62.3005
END_OBJECT = IMAGE
/* MAP OBJECT DEFINITIONS */
OBJECT = IMAGE_MAP_PROJECTION
  ^DATA_SET_MAP_PROJECTION_CATALOG= "DSMAP.CAT"
  A_AXIS_RADIUS = 3396.0
  B_AXIS_RADIUS = 3396.0
  C_AXIS_RADIUS = 3396.0
  CENTER_LATITUDE = 0.0
  CENTER_LONGITUDE = 147.0
  COORDINATE_SYSTEM_NAME = PLANETOGRAPHIC
  COORDINATE_SYSTEM_TYPE = "BODY-FIXED ROTATING"
  EASTERNMOST_LONGITUDE = 148.325
  FIRST_STANDARD_PARALLEL = "N/A"
  LINE_FIRST_PIXEL = 1
  LINE_LAST_PIXEL = 14529
  LINE_PROJECTION_OFFSET = 67932.125
  MAP_PROJECTION_ROTATION = 0.0
  MAP_PROJECTION_TYPE = SINUSOIDAL
  MAP_RESOLUTION = 1185.42760773333
  MAP_SCALE = 0.05
  MAXIMUM_LATITUDE = 57.2338
  MINIMUM_LATITUDE = 45.0715
  POSITIVE_LONGITUDE_DIRECTION = EAST
  REFERENCE_LATITUDE = "N/A"
  REFERENCE_LONGITUDE = "N/A"
  SAMPLE_FIRST_PIXEL = 1
  SAMPLE_LAST_PIXEL = 2300
  SAMPLE_PROJECTION_OFFSET = 1207.625
  SECOND_STANDARD_PARALLEL = "N/A"
  WESTERNMOST_LONGITUDE = 145.13
END_OBJECT = IMAGE_MAP_PROJECTION
END
