PDS_VERSION_ID = PDS3
/* FILE DATA ELEMENTS */
RECORD_TYPE = UNDEFINED
/* POINTERS TO DATA OBJECTS */
^IMAGE = ("HH941_0000_RE4.TIF")
/* IDENTIFICATION DATA ELEMENTS */
DATA_SET_ID = "MEX-M-HRSC-4-REFDR-MAPPROJECT-EXT6-V4.0"
DATA_SET_NAME = "MARS EXPRESS HRSC MAP PROJECTED REFDR EXTENSION6 V4.0"
DETECTOR_ID = MEX_HRSC_RED
EVENT_TYPE = "MARS-REGIONAL-MAPPING-Im-Gl-Pf"
INSTRUMENT_HOST_ID = MEX
INSTRUMENT_HOST_NAME = "MARS EXPRESS"
INSTRUMENT_ID = HRSC
INSTRUMENT_NAME = "HIGH RESOLUTION STEREO CAMERA"
MISSION_NAME = "MARS EXPRESS"
MISSION_PHASE_NAME = ME_Phase_38
PROCESSING_LEVEL_ID = 4
PRODUCT_CREATION_TIME = 2023-01-28T19:29:54.000Z
PRODUCT_ID = "HH941_0000_RE4.TIF"
RELEASE_ID = 0003
REVISION_ID = 0000
/* QUALITY DATA ELEMENTS */
DATA_QUALITY_ID = 1
DATA_QUALITY_DESC = "Data calculated based on original SPICE kernels"
/* TIME DATA ELEMENTS */
SPACECRAFT_CLOCK_START_COUNT = "1/0468373086.09054"
SPACECRAFT_CLOCK_STOP_COUNT = "1/0468373298.40925"
START_TIME = 2018-03-05T23:39:19.463Z
STOP_TIME = 2018-03-05T23:41:39.764Z
/* ORBITAL DATA ELEMENTS */
ASCENDING_NODE_LONGITUDE = 237.31
MAXIMUM_RESOLUTION = 0.0632
FOOTPRINT_POINT_LATITUDE = (55.7374,55.7175,55.7044,55.6906, 55.6763,55.6614,55.6457,55.6447,55.7299 ,55.5504,55.281,55.1011,54.9224,54.7433 ,54.5642,54.2955,54.1165,53.9376, 53.6687,53.4898,53.3108,53.1321,52.9533 ,52.7744,52.5958,52.4174,52.2389, 51.9711,51.7037,51.5254,51.3474,51.1692 ,50.9914,50.8139,50.6364,50.4586,50.192 ,50.0141,49.8363,49.4823,49.2166, 49.0396,48.774,48.4208,48.1559,47.8032, 47.5391,47.2749,46.9227,46.8342,46.7471 ,46.7701,46.7876,46.8009,46.8188, 46.8194,46.8206,47.085,47.4373,47.7911, 48.056,48.4079,48.5866,48.8519,49.03, 49.2073,49.3843,49.5623,49.7398,50.0072 ,50.1855,50.3636,50.5417,50.72,50.8982, 51.0756,51.2545,51.4332,51.6117,51.7904 ,51.9694,52.1482,52.4168,52.5959, 52.8646,53.0439,53.2232,53.492,53.6712, 53.8509,54.0303,54.3002,54.4799,54.6597 ,54.9292,55.1093,55.3791,55.6495, 55.7398,55.7374)
FOOTPRINT_POINT_LONGITUDE = (46.967,46.4024,46.0588,45.7179,45.3801 ,45.0447,44.7113,44.6905,44.676,44.6951 ,44.7232,44.7415,44.7595,44.7771, 44.7945,44.82,44.8367,44.8531,44.8771, 44.8928,44.9082,44.9233,44.9382,44.9528 ,44.9672,44.9813,44.9951,45.0155, 45.0352,45.0481,45.0608,45.0732,45.0854 ,45.0973,45.1091,45.1206,45.1375, 45.1486,45.1594,45.1803,45.1955,45.2054 ,45.2199,45.2386,45.2521,45.2695,45.282 ,45.2942,45.3099,45.3137,45.3175, 45.8836,46.3285,46.7221,47.2917,47.3109 ,47.3172,47.3125,47.3053,47.2991, 47.2935,47.2841,47.282,47.2758,47.2728, 47.2687,47.2642,47.2605,47.2562,47.2506 ,47.2468,47.2425,47.2381,47.2338, 47.2292,47.2235,47.2194,47.2148,47.2099 ,47.205,47.2003,47.1953,47.1878,47.1827 ,47.1747,47.1694,47.1639,47.1553, 47.1493,47.1437,47.1377,47.1292,47.1231 ,47.1169,47.1071,47.1008,47.0908, 47.0811,47.0779,46.967)
ORBIT_NUMBER = 17941
ORBITAL_ECCENTRICITY = 0.572
ORBITAL_INCLINATION = 86.97
ORBITAL_SEMIMAJOR_AXIS = 8791.64
PERIAPSIS_ALTITUDE = 374.87
PERIAPSIS_ARGUMENT_ANGLE = 128.08
PERIAPSIS_TIME = 2018-03-05T23:39:52.000Z
SPACECRAFT_ORIENTATION = (0.0,-1.0,0.0)
^MEX_ORIENTATION_DESC = "MEX_ORIENTATION_DESC.TXT"
SPACECRAFT_POINTING_MODE = ACROSSTRACK
^MEX_POINTING_DESC = "MEX_POINTING_DESC.TXT"
RIGHT_ASCENSION = -1e+32
DECLINATION = -1e+32
OFFSET_ANGLE = 0.62
SPACECRAFT_SOLAR_DISTANCE = 2.34175e+08
TARGET_NAME = MARS
/* CAMERA DATA ELEMENTS */
DETECTOR_TEMPERATURE = 19.5939
FOCAL_PLANE_TEMPERATURE = 8.3794
INST_CMPRS_NAME = "DISCRETE COSINE TRANSFORMATION (DCT)"
INST_CMPRS_RATIO = 13.1848
INST_CMPRS_QUALITY = 0
INST_CMPRS_QUANTZ_TBL_ID = 0
INSTRUMENT_TEMPERATURE = 11.4379
LENS_TEMPERATURE = 8.5833
MACROPIXEL_SIZE = 4
MISSING_FRAMES = 0
PIXEL_SUBSAMPLING_FLAG = N
SIGNAL_CHAIN_ID = 2
/* RADIOMETRIC DATA ELEMENTS */
BANDWIDTH = 48.0
CENTER_FILTER_WAVELENGTH = 748.0
RADIANCE_OFFSET = 0.859236
RADIANCE_SCALING_FACTOR = 0.00705699
REFLECTANCE_SCALING_FACTOR = 0.000883134
MEX:REFLECTANCE_OFFSET = 0.107527
/* IMAGE OBJECT DEFINITIONS */
OBJECT = IMAGE
  INTERCHANGE_FORMAT = BINARY
  LINES = 10730
  LINE_SAMPLES = 1946
  SAMPLE_TYPE = UNSIGNED_INTEGER
  SAMPLE_BITS = 8
  BANDS = 1
  BAND_STORAGE_TYPE = BAND_SEQUENTIAL
  MAXIMUM = 255
  MEAN = 110.309
  MINIMUM = 1
  STANDARD_DEVIATION = 37.9015
END_OBJECT = IMAGE
/* MAP OBJECT DEFINITIONS */
OBJECT = IMAGE_MAP_PROJECTION
  ^DATA_SET_MAP_PROJECTION_CATALOG= "DSMAP.CAT"
  A_AXIS_RADIUS = 3396.0
  B_AXIS_RADIUS = 3396.0
  C_AXIS_RADIUS = 3396.0
  CENTER_LATITUDE = 0.0
  CENTER_LONGITUDE = 46.0
  COORDINATE_SYSTEM_NAME = PLANETOGRAPHIC
  COORDINATE_SYSTEM_TYPE = "BODY-FIXED ROTATING"
  EASTERNMOST_LONGITUDE = 47.3172
  FIRST_STANDARD_PARALLEL = "N/A"
  LINE_FIRST_PIXEL = 1
  LINE_LAST_PIXEL = 10730
  LINE_PROJECTION_OFFSET = 66155.875
  MAP_PROJECTION_ROTATION = 0.0
  MAP_PROJECTION_TYPE = SINUSOIDAL
  MAP_RESOLUTION = 1185.42760773333
  MAP_SCALE = 0.05
  MAXIMUM_LATITUDE = 55.7398
  MINIMUM_LATITUDE = 46.7471
  POSITIVE_LONGITUDE_DIRECTION = EAST
  REFERENCE_LATITUDE = "N/A"
  REFERENCE_LONGITUDE = "N/A"
  SAMPLE_FIRST_PIXEL = 1
  SAMPLE_LAST_PIXEL = 1946
  SAMPLE_PROJECTION_OFFSET = 894.875
  SECOND_STANDARD_PARALLEL = "N/A"
  WESTERNMOST_LONGITUDE = 44.676
END_OBJECT = IMAGE_MAP_PROJECTION
END
