PDS_VERSION_ID = PDS3
/* FILE DATA ELEMENTS */
RECORD_TYPE = UNDEFINED
/* POINTERS TO DATA OBJECTS */
^IMAGE = ("HH943_0000_RE4.TIF")
/* IDENTIFICATION DATA ELEMENTS */
DATA_SET_ID = "MEX-M-HRSC-4-REFDR-MAPPROJECT-EXT6-V4.0"
DATA_SET_NAME = "MARS EXPRESS HRSC MAP PROJECTED REFDR EXTENSION6 V4.0"
DETECTOR_ID = MEX_HRSC_RED
EVENT_TYPE = "MARS-REGIONAL-MAPPING-Vo-Im-Pf"
INSTRUMENT_HOST_ID = MEX
INSTRUMENT_HOST_NAME = "MARS EXPRESS"
INSTRUMENT_ID = HRSC
INSTRUMENT_NAME = "HIGH RESOLUTION STEREO CAMERA"
MISSION_NAME = "MARS EXPRESS"
MISSION_PHASE_NAME = ME_Phase_38
PROCESSING_LEVEL_ID = 4
PRODUCT_CREATION_TIME = 2023-01-28T19:29:54.000Z
PRODUCT_ID = "HH943_0000_RE4.TIF"
RELEASE_ID = 0003
REVISION_ID = 0000
/* QUALITY DATA ELEMENTS */
DATA_QUALITY_ID = 1
DATA_QUALITY_DESC = "Data calculated based on original SPICE kernels"
/* TIME DATA ELEMENTS */
SPACECRAFT_CLOCK_START_COUNT = "1/0468423289.07315"
SPACECRAFT_CLOCK_STOP_COUNT = "1/0468423562.15706"
START_TIME = 2018-03-06T13:36:05.110Z
STOP_TIME = 2018-03-06T13:39:23.509Z
/* ORBITAL DATA ELEMENTS */
ASCENDING_NODE_LONGITUDE = 237.28
MAXIMUM_RESOLUTION = 0.0634
FOOTPRINT_POINT_LATITUDE = (60.4625,60.4434,60.4203,60.3836, 60.3827,60.474,60.2199,59.966,59.7121, 59.458,59.204,58.9499,58.5688,58.3146, 58.0605,57.8068,57.5525,57.2986,56.918, 56.6641,56.4105,56.1568,55.9032,55.5231 ,55.2696,54.8895,54.5097,54.2564, 54.0034,53.7507,53.4979,53.1189,52.8665 ,52.6142,52.2354,51.9835,51.7321, 51.4802,51.2288,50.978,50.7261,50.4746, 49.9727,49.4717,48.9715,48.5965,47.9727 ,47.8482,47.7823,47.7895,47.7959, 47.7997,47.8033,47.8034,47.8044,48.3049 ,48.8061,49.308,49.5592,49.8106,50.0622 ,50.314,50.566,50.8183,51.0706,51.3232, 51.5759,51.8288,52.0818,52.3349,52.5881 ,52.8418,53.0952,53.3491,53.6029, 53.9838,54.238,54.4923,54.7467,55.0011, 55.2555,55.6378,55.8927,56.2751,56.5302 ,56.7854,57.0406,57.2965,57.6791, 57.9349,58.3184,58.5742,58.9581,59.2137 ,59.4695,59.8534,60.1093,60.365,60.493, 60.4625)
FOOTPRINT_POINT_LONGITUDE = (200.087,199.305,198.515,197.464, 197.439,197.279,197.341,197.401,197.46, 197.518,197.575,197.631,197.712,197.765 ,197.817,197.867,197.917,197.965, 198.035,198.081,198.126,198.17,198.213, 198.276,198.316,198.376,198.434,198.472 ,198.508,198.544,198.579,198.63,198.664 ,198.696,198.744,198.775,198.805, 198.835,198.863,198.891,198.919,198.947 ,199.0,199.05,199.098,199.133,199.188, 199.199,199.204,199.685,200.219,200.615 ,201.214,201.232,201.238,201.209, 201.179,201.147,201.131,201.115,201.098 ,201.081,201.064,201.047,201.029, 201.011,200.993,200.974,200.955,200.936 ,200.916,200.896,200.876,200.855, 200.834,200.802,200.78,200.758,200.735, 200.712,200.688,200.652,200.627,200.59, 200.564,200.537,200.511,200.483,200.441 ,200.413,200.369,200.339,200.293, 200.261,200.229,200.18,200.146,200.111, 200.094,200.087)
ORBIT_NUMBER = 17943
ORBITAL_ECCENTRICITY = 0.572
ORBITAL_INCLINATION = 86.98
ORBITAL_SEMIMAJOR_AXIS = 8784.93
PERIAPSIS_ALTITUDE = 374.82
PERIAPSIS_ARGUMENT_ANGLE = 127.72
PERIAPSIS_TIME = 2018-03-06T13:37:46.000Z
SPACECRAFT_ORIENTATION = (0.0,-1.0,0.0)
^MEX_ORIENTATION_DESC = "MEX_ORIENTATION_DESC.TXT"
SPACECRAFT_POINTING_MODE = ACROSSTRACK
^MEX_POINTING_DESC = "MEX_POINTING_DESC.TXT"
RIGHT_ASCENSION = -1e+32
DECLINATION = -1e+32
OFFSET_ANGLE = -0.539
SPACECRAFT_SOLAR_DISTANCE = 2.34069e+08
TARGET_NAME = MARS
/* CAMERA DATA ELEMENTS */
DETECTOR_TEMPERATURE = 17.9627
FOCAL_PLANE_TEMPERATURE = 7.3599
INST_CMPRS_NAME = "DISCRETE COSINE TRANSFORMATION (DCT)"
INST_CMPRS_RATIO = 19.3936
INST_CMPRS_QUALITY = 0
INST_CMPRS_QUANTZ_TBL_ID = 0
INSTRUMENT_TEMPERATURE = 11.0301
LENS_TEMPERATURE = 8.3794
MACROPIXEL_SIZE = 4
MISSING_FRAMES = 0
PIXEL_SUBSAMPLING_FLAG = N
SIGNAL_CHAIN_ID = 2
/* RADIOMETRIC DATA ELEMENTS */
BANDWIDTH = 48.0
CENTER_FILTER_WAVELENGTH = 748.0
RADIANCE_OFFSET = 0.875448
RADIANCE_SCALING_FACTOR = 0.0056583
REFLECTANCE_SCALING_FACTOR = 0.000707463
MEX:REFLECTANCE_OFFSET = 0.109458
/* IMAGE OBJECT DEFINITIONS */
OBJECT = IMAGE
  INTERCHANGE_FORMAT = BINARY
  LINES = 15208
  LINE_SAMPLES = 2573
  SAMPLE_TYPE = UNSIGNED_INTEGER
  SAMPLE_BITS = 8
  BANDS = 1
  BAND_STORAGE_TYPE = BAND_SEQUENTIAL
  MAXIMUM = 255
  MEAN = 130.557
  MINIMUM = 1
  STANDARD_DEVIATION = 56.2167
END_OBJECT = IMAGE
/* MAP OBJECT DEFINITIONS */
OBJECT = IMAGE_MAP_PROJECTION
  ^DATA_SET_MAP_PROJECTION_CATALOG= "DSMAP.CAT"
  A_AXIS_RADIUS = 3396.0
  B_AXIS_RADIUS = 3396.0
  C_AXIS_RADIUS = 3396.0
  CENTER_LATITUDE = 0.0
  CENTER_LONGITUDE = 200.0
  COORDINATE_SYSTEM_NAME = PLANETOGRAPHIC
  COORDINATE_SYSTEM_TYPE = "BODY-FIXED ROTATING"
  EASTERNMOST_LONGITUDE = 201.238
  FIRST_STANDARD_PARALLEL = "N/A"
  LINE_FIRST_PIXEL = 1
  LINE_LAST_PIXEL = 15208
  LINE_PROJECTION_OFFSET = 71804.875
  MAP_PROJECTION_ROTATION = 0.0
  MAP_PROJECTION_TYPE = SINUSOIDAL
  MAP_RESOLUTION = 1185.42760773333
  MAP_SCALE = 0.05
  MAXIMUM_LATITUDE = 60.493
  MINIMUM_LATITUDE = 47.7823
  POSITIVE_LONGITUDE_DIRECTION = EAST
  REFERENCE_LATITUDE = "N/A"
  REFERENCE_LONGITUDE = "N/A"
  SAMPLE_FIRST_PIXEL = 1
  SAMPLE_LAST_PIXEL = 2573
  SAMPLE_PROJECTION_OFFSET = 1597.125
  SECOND_STANDARD_PARALLEL = "N/A"
  WESTERNMOST_LONGITUDE = 197.279
END_OBJECT = IMAGE_MAP_PROJECTION
END
