PDS_VERSION_ID = PDS3
/* FILE DATA ELEMENTS */
RECORD_TYPE = UNDEFINED
/* POINTERS TO DATA OBJECTS */
^IMAGE = ("HH947_0000_S14.TIF")
/* IDENTIFICATION DATA ELEMENTS */
DATA_SET_ID = "MEX-M-HRSC-4-REFDR-MAPPROJECT-EXT6-V4.0"
DATA_SET_NAME = "MARS EXPRESS HRSC MAP PROJECTED REFDR EXTENSION6 V4.0"
DETECTOR_ID = MEX_HRSC_S1
EVENT_TYPE = "MARS-REGIONAL-MAPPING-Vo-Gl-Pf"
INSTRUMENT_HOST_ID = MEX
INSTRUMENT_HOST_NAME = "MARS EXPRESS"
INSTRUMENT_ID = HRSC
INSTRUMENT_NAME = "HIGH RESOLUTION STEREO CAMERA"
MISSION_NAME = "MARS EXPRESS"
MISSION_PHASE_NAME = ME_Phase_38
PROCESSING_LEVEL_ID = 4
PRODUCT_CREATION_TIME = 2023-01-28T19:29:54.000Z
PRODUCT_ID = "HH947_0000_S14.TIF"
RELEASE_ID = 0003
REVISION_ID = 0000
/* QUALITY DATA ELEMENTS */
DATA_QUALITY_ID = 1
DATA_QUALITY_DESC = "Data calculated based on original SPICE kernels"
/* TIME DATA ELEMENTS */
SPACECRAFT_CLOCK_START_COUNT = "1/0468524118.09035"
SPACECRAFT_CLOCK_STOP_COUNT = "1/0468524358.33014"
START_TIME = 2018-03-07T17:35:27.550Z
STOP_TIME = 2018-03-07T17:38:11.312Z
/* ORBITAL DATA ELEMENTS */
ASCENDING_NODE_LONGITUDE = 237.2
MAXIMUM_RESOLUTION = 0.031
FOOTPRINT_POINT_LATITUDE = (45.7788,45.7761,45.7726,45.765,45.7576 ,45.7572,45.7394,45.3941,45.0488, 44.8185,44.4731,44.1275,43.7818,43.5513 ,43.2055,42.9748,42.744,42.5132,42.1669 ,41.936,41.705,41.3586,41.1275,40.8962, 40.6649,40.3179,40.0865,39.8548,39.6233 ,39.3916,39.1598,38.928,38.6959,38.4602 ,38.2218,37.8639,37.6253,37.2671, 37.0282,36.7892,36.5501,36.3107,36.0698 ,35.8241,35.5782,35.3321,34.9625, 34.7161,34.4694,34.0997,33.9735,33.9548 ,33.9629,33.9631,33.962,33.9619,33.9625 ,34.213,34.4591,34.7057,34.9527,35.3226 ,35.692,35.9382,36.1831,36.4226,36.6619 ,36.9012,37.2602,37.6188,37.8579,38.097 ,38.3357,38.6917,38.9238,39.2719, 39.5041,39.7361,40.084,40.3159,40.6631, 40.8947,41.2419,41.4734,41.8204,42.1674 ,42.5141,42.7452,42.9762,43.3228, 43.6692,43.9001,44.2463,44.477,44.7077, 45.0537,45.3996,45.6302,45.7454, 45.7788)
FOOTPRINT_POINT_LONGITUDE = (153.657,153.228,152.867,152.32,151.91, 151.893,151.858,151.879,151.899,151.912 ,151.932,151.95,151.969,151.98,151.998, 152.009,152.019,152.03,152.046,152.056, 152.066,152.08,152.09,152.099,152.108, 152.121,152.129,152.137,152.145,152.153 ,152.161,152.168,152.175,152.183,152.19 ,152.2,152.206,152.216,152.222,152.228, 152.234,152.24,152.245,152.251,152.256, 152.261,152.268,152.273,152.277,152.284 ,152.286,152.286,153.117,153.622, 154.058,154.075,154.081,154.075,154.068 ,154.062,154.055,154.044,154.034, 154.027,154.02,154.013,154.007,154.0, 153.989,153.979,153.971,153.964,153.957 ,153.946,153.939,153.928,153.921, 153.913,153.902,153.895,153.884,153.876 ,153.864,153.857,153.845,153.833, 153.821,153.812,153.804,153.791,153.779 ,153.77,153.757,153.748,153.739,153.726 ,153.712,153.703,153.698,153.657)
ORBIT_NUMBER = 17947
ORBITAL_ECCENTRICITY = 0.572
ORBITAL_INCLINATION = 86.97
ORBITAL_SEMIMAJOR_AXIS = 8786.17
PERIAPSIS_ALTITUDE = 376.06
PERIAPSIS_ARGUMENT_ANGLE = 127.05
PERIAPSIS_TIME = 2018-03-07T17:33:44.000Z
SPACECRAFT_ORIENTATION = (0.0,-1.0,0.0)
^MEX_ORIENTATION_DESC = "MEX_ORIENTATION_DESC.TXT"
SPACECRAFT_POINTING_MODE = INERT
^MEX_POINTING_DESC = "MEX_POINTING_DESC.TXT"
RIGHT_ASCENSION = 212.949
DECLINATION = -68.022
OFFSET_ANGLE = -1e+32
SPACECRAFT_SOLAR_DISTANCE = 2.33858e+08
TARGET_NAME = MARS
/* CAMERA DATA ELEMENTS */
DETECTOR_TEMPERATURE = 16.9432
FOCAL_PLANE_TEMPERATURE = 8.7872
INST_CMPRS_NAME = "DISCRETE COSINE TRANSFORMATION (DCT)"
INST_CMPRS_RATIO = 6.8777
INST_CMPRS_QUALITY = 0
INST_CMPRS_QUANTZ_TBL_ID = 0
INSTRUMENT_TEMPERATURE = 11.234
LENS_TEMPERATURE = 8.7872
MACROPIXEL_SIZE = 2
MISSING_FRAMES = 0
PIXEL_SUBSAMPLING_FLAG = N
SIGNAL_CHAIN_ID = 1
/* RADIOMETRIC DATA ELEMENTS */
BANDWIDTH = 180.0
CENTER_FILTER_WAVELENGTH = 677.0
RADIANCE_OFFSET = 4.08455
RADIANCE_SCALING_FACTOR = 0.0255475
REFLECTANCE_SCALING_FACTOR = 0.000728942
MEX:REFLECTANCE_OFFSET = 0.116544
/* IMAGE OBJECT DEFINITIONS */
OBJECT = IMAGE
  INTERCHANGE_FORMAT = BINARY
  LINES = 28000
  LINE_SAMPLES = 4239
  SAMPLE_TYPE = UNSIGNED_INTEGER
  SAMPLE_BITS = 8
  BANDS = 1
  BAND_STORAGE_TYPE = BAND_SEQUENTIAL
  MAXIMUM = 255
  MEAN = 148.774
  MINIMUM = 1
  STANDARD_DEVIATION = 10.672
END_OBJECT = IMAGE
/* MAP OBJECT DEFINITIONS */
OBJECT = IMAGE_MAP_PROJECTION
  ^DATA_SET_MAP_PROJECTION_CATALOG= "DSMAP.CAT"
  A_AXIS_RADIUS = 3396.0
  B_AXIS_RADIUS = 3396.0
  C_AXIS_RADIUS = 3396.0
  CENTER_LATITUDE = 0.0
  CENTER_LONGITUDE = 153.0
  COORDINATE_SYSTEM_NAME = PLANETOGRAPHIC
  COORDINATE_SYSTEM_TYPE = "BODY-FIXED ROTATING"
  EASTERNMOST_LONGITUDE = 154.081
  FIRST_STANDARD_PARALLEL = "N/A"
  LINE_FIRST_PIXEL = 1
  LINE_LAST_PIXEL = 28000
  LINE_PROJECTION_OFFSET = 108539.75
  MAP_PROJECTION_ROTATION = 0.0
  MAP_PROJECTION_TYPE = SINUSOIDAL
  MAP_RESOLUTION = 2370.85521546667
  MAP_SCALE = 0.025
  MAXIMUM_LATITUDE = 45.7788
  MINIMUM_LATITUDE = 33.9548
  POSITIVE_LONGITUDE_DIRECTION = EAST
  REFERENCE_LATITUDE = "N/A"
  REFERENCE_LONGITUDE = "N/A"
  SAMPLE_FIRST_PIXEL = 1
  SAMPLE_LAST_PIXEL = 4239
  SAMPLE_PROJECTION_OFFSET = 1963.25
  SECOND_STANDARD_PARALLEL = "N/A"
  WESTERNMOST_LONGITUDE = 151.858
END_OBJECT = IMAGE_MAP_PROJECTION
END
