PDS_VERSION_ID = PDS3
/* FILE DATA ELEMENTS */
RECORD_TYPE = UNDEFINED
/* POINTERS TO DATA OBJECTS */
^IMAGE = ("HH947_0000_S24.TIF")
/* IDENTIFICATION DATA ELEMENTS */
DATA_SET_ID = "MEX-M-HRSC-4-REFDR-MAPPROJECT-EXT6-V4.0"
DATA_SET_NAME = "MARS EXPRESS HRSC MAP PROJECTED REFDR EXTENSION6 V4.0"
DETECTOR_ID = MEX_HRSC_S2
EVENT_TYPE = "MARS-REGIONAL-MAPPING-Vo-Gl-Pf"
INSTRUMENT_HOST_ID = MEX
INSTRUMENT_HOST_NAME = "MARS EXPRESS"
INSTRUMENT_ID = HRSC
INSTRUMENT_NAME = "HIGH RESOLUTION STEREO CAMERA"
MISSION_NAME = "MARS EXPRESS"
MISSION_PHASE_NAME = ME_Phase_38
PROCESSING_LEVEL_ID = 4
PRODUCT_CREATION_TIME = 2023-01-28T19:29:54.000Z
PRODUCT_ID = "HH947_0000_S24.TIF"
RELEASE_ID = 0003
REVISION_ID = 0000
/* QUALITY DATA ELEMENTS */
DATA_QUALITY_ID = 1
DATA_QUALITY_DESC = "Data calculated based on original SPICE kernels"
/* TIME DATA ELEMENTS */
SPACECRAFT_CLOCK_START_COUNT = "1/0468524118.09035"
SPACECRAFT_CLOCK_STOP_COUNT = "1/0468524358.33014"
START_TIME = 2018-03-07T17:36:36.066Z
STOP_TIME = 2018-03-07T17:39:25.925Z
/* ORBITAL DATA ELEMENTS */
ASCENDING_NODE_LONGITUDE = 237.2
MAXIMUM_RESOLUTION = 0.0378
FOOTPRINT_POINT_LATITUDE = (45.6596,45.6516,45.6456,45.6393, 45.6266,45.6189,45.6185,45.7647,45.5376 ,44.9702,44.5175,44.0661,43.7282, 43.5012,43.2702,43.0402,42.8101,42.5809 ,42.3513,42.0074,41.6642,41.3209, 41.0905,40.8566,40.5062,40.2729,40.0399 ,39.6911,39.4583,39.2261,38.9881, 38.6318,38.2758,38.0388,37.8023,37.4447 ,37.2026,36.9607,36.598,36.3567,35.9923 ,35.7458,35.376,35.13,34.8845,34.6362, 34.3849,34.1334,34.0074,33.9888,33.9948 ,34.0012,34.0064,34.0144,34.0195, 34.0198,34.0203,34.2723,34.6504,34.8992 ,35.1449,35.3911,35.7612,36.0079, 36.3733,36.615,36.8566,37.2199,37.4621, 37.8203,38.1751,38.4126,38.6498,38.8877 ,39.1258,39.3615,39.5942,39.9433, 40.2932,40.6437,40.8779,41.2288,41.4572 ,41.6863,42.0299,42.3742,42.604,42.834, 43.0642,43.2952,43.5257,43.7533,44.091, 44.43,44.7699,45.11,45.4505,45.6782, 45.7926,45.6596)
FOOTPRINT_POINT_LONGITUDE = (153.965,153.483,153.148,152.814,152.19 ,151.836,151.815,151.767,151.782, 151.816,151.843,151.868,151.887,151.899 ,151.911,151.922,151.934,151.945, 151.956,151.971,151.987,152.002,152.011 ,152.021,152.035,152.044,152.053, 152.066,152.074,152.082,152.09,152.102, 152.113,152.12,152.127,152.137,152.144, 152.15,152.16,152.166,152.175,152.18, 152.189,152.194,152.199,152.204,152.209 ,152.213,152.216,152.216,152.545, 152.953,153.284,153.811,154.202,154.222 ,154.229,154.225,154.22,154.216,154.212 ,154.208,154.202,154.198,154.192, 154.188,154.184,154.178,154.174,154.168 ,154.162,154.158,154.154,154.15,154.145 ,154.141,154.137,154.131,154.124, 154.118,154.114,154.107,154.103,154.099 ,154.092,154.085,154.081,154.076, 154.072,154.067,154.062,154.058,154.051 ,154.044,154.036,154.029,154.022, 154.017,154.014,153.965)
ORBIT_NUMBER = 17947
ORBITAL_ECCENTRICITY = 0.572
ORBITAL_INCLINATION = 86.97
ORBITAL_SEMIMAJOR_AXIS = 8786.17
PERIAPSIS_ALTITUDE = 376.06
PERIAPSIS_ARGUMENT_ANGLE = 127.05
PERIAPSIS_TIME = 2018-03-07T17:33:44.000Z
SPACECRAFT_ORIENTATION = (0.0,-1.0,0.0)
^MEX_ORIENTATION_DESC = "MEX_ORIENTATION_DESC.TXT"
SPACECRAFT_POINTING_MODE = INERT
^MEX_POINTING_DESC = "MEX_POINTING_DESC.TXT"
RIGHT_ASCENSION = 212.949
DECLINATION = -68.022
OFFSET_ANGLE = -1e+32
SPACECRAFT_SOLAR_DISTANCE = 2.33858e+08
TARGET_NAME = MARS
/* CAMERA DATA ELEMENTS */
DETECTOR_TEMPERATURE = 18.1666
FOCAL_PLANE_TEMPERATURE = 8.7872
INST_CMPRS_NAME = "DISCRETE COSINE TRANSFORMATION (DCT)"
INST_CMPRS_RATIO = 8.17764
INST_CMPRS_QUALITY = 0
INST_CMPRS_QUANTZ_TBL_ID = 0
INSTRUMENT_TEMPERATURE = 11.234
LENS_TEMPERATURE = 8.7872
MACROPIXEL_SIZE = 2
MISSING_FRAMES = 0
PIXEL_SUBSAMPLING_FLAG = N
SIGNAL_CHAIN_ID = 1
/* RADIOMETRIC DATA ELEMENTS */
BANDWIDTH = 178.0
CENTER_FILTER_WAVELENGTH = 679.0
RADIANCE_OFFSET = 4.26186
RADIANCE_SCALING_FACTOR = 0.0246811
REFLECTANCE_SCALING_FACTOR = 0.000714816
MEX:REFLECTANCE_OFFSET = 0.123432
/* IMAGE OBJECT DEFINITIONS */
OBJECT = IMAGE
  INTERCHANGE_FORMAT = BINARY
  LINES = 28000
  LINE_SAMPLES = 4239
  SAMPLE_TYPE = UNSIGNED_INTEGER
  SAMPLE_BITS = 8
  BANDS = 1
  BAND_STORAGE_TYPE = BAND_SEQUENTIAL
  MAXIMUM = 255
  MEAN = 154.579
  MINIMUM = 1
  STANDARD_DEVIATION = 11.1598
END_OBJECT = IMAGE
/* MAP OBJECT DEFINITIONS */
OBJECT = IMAGE_MAP_PROJECTION
  ^DATA_SET_MAP_PROJECTION_CATALOG= "DSMAP.CAT"
  A_AXIS_RADIUS = 3396.0
  B_AXIS_RADIUS = 3396.0
  C_AXIS_RADIUS = 3396.0
  CENTER_LATITUDE = 0.0
  CENTER_LONGITUDE = 153.0
  COORDINATE_SYSTEM_NAME = PLANETOGRAPHIC
  COORDINATE_SYSTEM_TYPE = "BODY-FIXED ROTATING"
  EASTERNMOST_LONGITUDE = 154.229
  FIRST_STANDARD_PARALLEL = "N/A"
  LINE_FIRST_PIXEL = 1
  LINE_LAST_PIXEL = 28000
  LINE_PROJECTION_OFFSET = 108539.75
  MAP_PROJECTION_ROTATION = 0.0
  MAP_PROJECTION_TYPE = SINUSOIDAL
  MAP_RESOLUTION = 2370.85521546667
  MAP_SCALE = 0.025
  MAXIMUM_LATITUDE = 45.7926
  MINIMUM_LATITUDE = 33.9888
  POSITIVE_LONGITUDE_DIRECTION = EAST
  REFERENCE_LATITUDE = "N/A"
  REFERENCE_LONGITUDE = "N/A"
  SAMPLE_FIRST_PIXEL = 1
  SAMPLE_LAST_PIXEL = 4239
  SAMPLE_PROJECTION_OFFSET = 1963.25
  SECOND_STANDARD_PARALLEL = "N/A"
  WESTERNMOST_LONGITUDE = 151.767
END_OBJECT = IMAGE_MAP_PROJECTION
END
