PDS_VERSION_ID = PDS3
/* FILE DATA ELEMENTS */
RECORD_TYPE = UNDEFINED
/* POINTERS TO DATA OBJECTS */
^IMAGE = ("HH951_0000_GR4.TIF")
/* IDENTIFICATION DATA ELEMENTS */
DATA_SET_ID = "MEX-M-HRSC-4-REFDR-MAPPROJECT-EXT6-V4.0"
DATA_SET_NAME = "MARS EXPRESS HRSC MAP PROJECTED REFDR EXTENSION6 V4.0"
DETECTOR_ID = MEX_HRSC_GREEN
EVENT_TYPE = "MARS-REGIONAL-MAPPING-Vo-Im-Pf"
INSTRUMENT_HOST_ID = MEX
INSTRUMENT_HOST_NAME = "MARS EXPRESS"
INSTRUMENT_ID = HRSC
INSTRUMENT_NAME = "HIGH RESOLUTION STEREO CAMERA"
MISSION_NAME = "MARS EXPRESS"
MISSION_PHASE_NAME = ME_Phase_38
PROCESSING_LEVEL_ID = 4
PRODUCT_CREATION_TIME = 2023-01-28T19:29:54.000Z
PRODUCT_ID = "HH951_0000_GR4.TIF"
RELEASE_ID = 0003
REVISION_ID = 0000
/* QUALITY DATA ELEMENTS */
DATA_QUALITY_ID = 1
DATA_QUALITY_DESC = "Data calculated based on original SPICE kernels"
/* TIME DATA ELEMENTS */
SPACECRAFT_CLOCK_START_COUNT = "1/0468624501.07358"
SPACECRAFT_CLOCK_STOP_COUNT = "1/0468624712.15279"
START_TIME = 2018-03-08T21:28:55.199Z
STOP_TIME = 2018-03-08T21:31:22.194Z
/* ORBITAL DATA ELEMENTS */
ASCENDING_NODE_LONGITUDE = 237.13
MAXIMUM_RESOLUTION = 0.0607
FOOTPRINT_POINT_LATITUDE = (56.9353,56.9223,56.9114,56.8927, 56.8794,56.8786,56.9228,56.712,56.3961, 56.1855,55.975,55.7648,55.5544,55.3441, 55.1339,54.9237,54.7136,54.3983,54.0832 ,53.8732,53.6632,53.4532,53.2432, 52.9284,52.7186,52.5087,52.2989,52.0892 ,51.8795,51.5649,51.2504,51.0408, 50.7264,50.5168,50.3072,49.9929,49.7833 ,49.5738,49.1548,48.7358,48.3168, 47.7931,47.3742,46.9463,46.5273,46.4226 ,46.4203,46.4315,46.4432,46.452,46.4555 ,46.4557,46.4569,46.6667,46.8765, 47.0863,47.4101,47.6199,47.8297,48.0396 ,48.2494,48.5642,48.774,49.0889,49.2987 ,49.5087,49.7186,49.9285,50.1385, 50.3485,50.5585,50.7686,51.0836,51.2937 ,51.6089,51.819,52.0292,52.2394,52.4497 ,52.66,52.8703,53.1858,53.3963,53.6068, 53.8172,54.0278,54.3437,54.5544,54.7652 ,55.0813,55.2922,55.5031,55.7138,55.925 ,56.2417,56.4528,56.6642,56.8754, 56.9811,56.9353)
FOOTPRINT_POINT_LONGITUDE = (105.075,104.37,103.888,103.192,102.759 ,102.738,102.695,102.724,102.768, 102.796,102.824,102.851,102.878,102.904 ,102.93,102.955,102.98,103.017,103.053, 103.076,103.099,103.122,103.144,103.176 ,103.198,103.219,103.239,103.259, 103.279,103.308,103.337,103.355,103.383 ,103.4,103.418,103.444,103.46,103.477, 103.509,103.54,103.57,103.606,103.634, 103.661,103.687,103.694,103.694,104.145 ,104.727,105.315,105.629,105.648, 105.654,105.646,105.638,105.63,105.618, 105.61,105.602,105.594,105.586,105.573, 105.565,105.552,105.543,105.535,105.526 ,105.517,105.508,105.499,105.49,105.481 ,105.467,105.457,105.443,105.433, 105.424,105.414,105.404,105.394,105.384 ,105.368,105.358,105.347,105.336, 105.325,105.309,105.298,105.287,105.269 ,105.258,105.246,105.234,105.222, 105.204,105.191,105.179,105.166,105.16, 105.075)
ORBIT_NUMBER = 17951
ORBITAL_ECCENTRICITY = 0.572
ORBITAL_INCLINATION = 86.97
ORBITAL_SEMIMAJOR_AXIS = 8790.8
PERIAPSIS_ALTITUDE = 375.02
PERIAPSIS_ARGUMENT_ANGLE = 126.33
PERIAPSIS_TIME = 2018-03-08T21:29:33.000Z
SPACECRAFT_ORIENTATION = (0.0,-1.0,0.0)
^MEX_ORIENTATION_DESC = "MEX_ORIENTATION_DESC.TXT"
SPACECRAFT_POINTING_MODE = INERT
^MEX_POINTING_DESC = "MEX_POINTING_DESC.TXT"
RIGHT_ASCENSION = 211.018
DECLINATION = -68.1
OFFSET_ANGLE = -1e+32
SPACECRAFT_SOLAR_DISTANCE = 2.33645e+08
TARGET_NAME = MARS
/* CAMERA DATA ELEMENTS */
DETECTOR_TEMPERATURE = 18.5744
FOCAL_PLANE_TEMPERATURE = 8.3794
INST_CMPRS_NAME = "DISCRETE COSINE TRANSFORMATION (DCT)"
INST_CMPRS_RATIO = 16.4541
INST_CMPRS_QUALITY = 0
INST_CMPRS_QUANTZ_TBL_ID = 0
INSTRUMENT_TEMPERATURE = 11.6418
LENS_TEMPERATURE = 8.7872
MACROPIXEL_SIZE = 4
MISSING_FRAMES = 1
PIXEL_SUBSAMPLING_FLAG = N
SIGNAL_CHAIN_ID = 2
/* RADIOMETRIC DATA ELEMENTS */
BANDWIDTH = 88.0
CENTER_FILTER_WAVELENGTH = 538.0
RADIANCE_OFFSET = 1.18563
RADIANCE_SCALING_FACTOR = 0.00307691
REFLECTANCE_SCALING_FACTOR = 0.000144617
MEX:REFLECTANCE_OFFSET = 0.0557256
/* IMAGE OBJECT DEFINITIONS */
OBJECT = IMAGE
  INTERCHANGE_FORMAT = BINARY
  LINES = 12532
  LINE_SAMPLES = 2211
  SAMPLE_TYPE = UNSIGNED_INTEGER
  SAMPLE_BITS = 8
  BANDS = 1
  BAND_STORAGE_TYPE = BAND_SEQUENTIAL
  MAXIMUM = 255
  MEAN = 125.616
  MINIMUM = 1
  STANDARD_DEVIATION = 20.1311
END_OBJECT = IMAGE
/* MAP OBJECT DEFINITIONS */
OBJECT = IMAGE_MAP_PROJECTION
  ^DATA_SET_MAP_PROJECTION_CATALOG= "DSMAP.CAT"
  A_AXIS_RADIUS = 3396.0
  B_AXIS_RADIUS = 3396.0
  C_AXIS_RADIUS = 3396.0
  CENTER_LATITUDE = 0.0
  CENTER_LONGITUDE = 104.0
  COORDINATE_SYSTEM_NAME = PLANETOGRAPHIC
  COORDINATE_SYSTEM_TYPE = "BODY-FIXED ROTATING"
  EASTERNMOST_LONGITUDE = 105.654
  FIRST_STANDARD_PARALLEL = "N/A"
  LINE_FIRST_PIXEL = 1
  LINE_LAST_PIXEL = 12532
  LINE_PROJECTION_OFFSET = 67562.125
  MAP_PROJECTION_ROTATION = 0.0
  MAP_PROJECTION_TYPE = SINUSOIDAL
  MAP_RESOLUTION = 1185.42760773333
  MAP_SCALE = 0.05
  MAXIMUM_LATITUDE = 56.9811
  MINIMUM_LATITUDE = 46.4203
  POSITIVE_LONGITUDE_DIRECTION = EAST
  REFERENCE_LATITUDE = "N/A"
  REFERENCE_LONGITUDE = "N/A"
  SAMPLE_FIRST_PIXEL = 1
  SAMPLE_LAST_PIXEL = 2211
  SAMPLE_PROJECTION_OFFSET = 852.875
  SECOND_STANDARD_PARALLEL = "N/A"
  WESTERNMOST_LONGITUDE = 102.695
END_OBJECT = IMAGE_MAP_PROJECTION
END
