PDS_VERSION_ID = PDS3
/* FILE DATA ELEMENTS */
RECORD_TYPE = UNDEFINED
/* POINTERS TO DATA OBJECTS */
^IMAGE = ("HH951_0000_RE4.TIF")
/* IDENTIFICATION DATA ELEMENTS */
DATA_SET_ID = "MEX-M-HRSC-4-REFDR-MAPPROJECT-EXT6-V4.0"
DATA_SET_NAME = "MARS EXPRESS HRSC MAP PROJECTED REFDR EXTENSION6 V4.0"
DETECTOR_ID = MEX_HRSC_RED
EVENT_TYPE = "MARS-REGIONAL-MAPPING-Vo-Im-Pf"
INSTRUMENT_HOST_ID = MEX
INSTRUMENT_HOST_NAME = "MARS EXPRESS"
INSTRUMENT_ID = HRSC
INSTRUMENT_NAME = "HIGH RESOLUTION STEREO CAMERA"
MISSION_NAME = "MARS EXPRESS"
MISSION_PHASE_NAME = ME_Phase_38
PROCESSING_LEVEL_ID = 4
PRODUCT_CREATION_TIME = 2023-01-28T19:29:54.000Z
PRODUCT_ID = "HH951_0000_RE4.TIF"
RELEASE_ID = 0003
REVISION_ID = 0000
/* QUALITY DATA ELEMENTS */
DATA_QUALITY_ID = 1
DATA_QUALITY_DESC = "Data calculated based on original SPICE kernels"
/* TIME DATA ELEMENTS */
SPACECRAFT_CLOCK_START_COUNT = "1/0468624501.07358"
SPACECRAFT_CLOCK_STOP_COUNT = "1/0468624712.15279"
START_TIME = 2018-03-08T21:29:28.415Z
STOP_TIME = 2018-03-08T21:31:54.021Z
/* ORBITAL DATA ELEMENTS */
ASCENDING_NODE_LONGITUDE = 237.13
MAXIMUM_RESOLUTION = 0.0657
FOOTPRINT_POINT_LATITUDE = (56.8646,56.834,56.8081,56.7806,56.7796 ,56.9295,56.6087,56.3949,56.1814, 55.9685,55.756,55.5434,55.3311,55.1189, 54.9073,54.6952,54.4834,54.1668,53.9556 ,53.7445,53.4283,53.2174,53.0071,52.797 ,52.5871,52.3771,52.1675,51.8533, 51.5395,51.3305,51.1218,50.9131,50.7046 ,50.392,50.1839,49.9756,49.7676,49.456, 49.2486,48.9375,48.7303,48.5231,48.3163 ,48.1094,47.9028,47.6962,47.2836, 46.9744,46.5625,46.4596,46.4351,46.4488 ,46.4685,46.4843,46.4989,46.4994, 46.5006,47.0161,47.429,47.8426,48.0496, 48.3603,48.5674,48.8788,49.0865,49.3983 ,49.6062,49.8145,50.0227,50.3356, 50.6488,50.8578,51.0666,51.2759,51.485, 51.6946,51.9041,52.1142,52.3241,52.5345 ,52.7448,52.9557,53.1664,53.483,53.6944 ,54.0112,54.2228,54.4352,54.6471, 54.8597,55.0722,55.2851,55.498,55.8175, 56.0312,56.2452,56.5662,56.8875,56.9949 ,56.8646)
FOOTPRINT_POINT_LONGITUDE = (105.228,104.221,103.479,102.766, 102.743,102.686,102.73,102.759,102.788, 102.816,102.843,102.87,102.896,102.922, 102.947,102.972,102.997,103.033,103.056 ,103.079,103.113,103.135,103.157, 103.178,103.199,103.22,103.24,103.269, 103.298,103.317,103.335,103.354,103.371 ,103.398,103.415,103.431,103.448, 103.472,103.488,103.511,103.526,103.541 ,103.555,103.57,103.584,103.598,103.625 ,103.644,103.67,103.676,103.677,104.047 ,104.626,105.135,105.666,105.685, 105.691,105.676,105.664,105.652,105.646 ,105.636,105.63,105.62,105.614,105.604, 105.597,105.591,105.584,105.574,105.564 ,105.557,105.549,105.542,105.535, 105.527,105.52,105.513,105.505,105.497, 105.49,105.482,105.474,105.462,105.454, 105.442,105.433,105.425,105.417,105.408 ,105.4,105.391,105.382,105.369,105.36, 105.35,105.336,105.322,105.317,105.228)
ORBIT_NUMBER = 17951
ORBITAL_ECCENTRICITY = 0.572
ORBITAL_INCLINATION = 86.97
ORBITAL_SEMIMAJOR_AXIS = 8790.8
PERIAPSIS_ALTITUDE = 375.02
PERIAPSIS_ARGUMENT_ANGLE = 126.33
PERIAPSIS_TIME = 2018-03-08T21:29:33.000Z
SPACECRAFT_ORIENTATION = (0.0,-1.0,0.0)
^MEX_ORIENTATION_DESC = "MEX_ORIENTATION_DESC.TXT"
SPACECRAFT_POINTING_MODE = INERT
^MEX_POINTING_DESC = "MEX_POINTING_DESC.TXT"
RIGHT_ASCENSION = 211.018
DECLINATION = -68.1
OFFSET_ANGLE = -1e+32
SPACECRAFT_SOLAR_DISTANCE = 2.33645e+08
TARGET_NAME = MARS
/* CAMERA DATA ELEMENTS */
DETECTOR_TEMPERATURE = 18.9822
FOCAL_PLANE_TEMPERATURE = 8.3794
INST_CMPRS_NAME = "DISCRETE COSINE TRANSFORMATION (DCT)"
INST_CMPRS_RATIO = 21.1604
INST_CMPRS_QUALITY = 0
INST_CMPRS_QUANTZ_TBL_ID = 0
INSTRUMENT_TEMPERATURE = 11.6418
LENS_TEMPERATURE = 8.7872
MACROPIXEL_SIZE = 4
MISSING_FRAMES = 0
PIXEL_SUBSAMPLING_FLAG = N
SIGNAL_CHAIN_ID = 2
/* RADIOMETRIC DATA ELEMENTS */
BANDWIDTH = 48.0
CENTER_FILTER_WAVELENGTH = 748.0
RADIANCE_OFFSET = 1.00514
RADIANCE_SCALING_FACTOR = 0.00362386
REFLECTANCE_SCALING_FACTOR = 0.000451451
MEX:REFLECTANCE_OFFSET = 0.125218
/* IMAGE OBJECT DEFINITIONS */
OBJECT = IMAGE
  INTERCHANGE_FORMAT = BINARY
  LINES = 12532
  LINE_SAMPLES = 2211
  SAMPLE_TYPE = UNSIGNED_INTEGER
  SAMPLE_BITS = 8
  BANDS = 1
  BAND_STORAGE_TYPE = BAND_SEQUENTIAL
  MAXIMUM = 255
  MEAN = 92.5998
  MINIMUM = 1
  STANDARD_DEVIATION = 23.3284
END_OBJECT = IMAGE
/* MAP OBJECT DEFINITIONS */
OBJECT = IMAGE_MAP_PROJECTION
  ^DATA_SET_MAP_PROJECTION_CATALOG= "DSMAP.CAT"
  A_AXIS_RADIUS = 3396.0
  B_AXIS_RADIUS = 3396.0
  C_AXIS_RADIUS = 3396.0
  CENTER_LATITUDE = 0.0
  CENTER_LONGITUDE = 104.0
  COORDINATE_SYSTEM_NAME = PLANETOGRAPHIC
  COORDINATE_SYSTEM_TYPE = "BODY-FIXED ROTATING"
  EASTERNMOST_LONGITUDE = 105.691
  FIRST_STANDARD_PARALLEL = "N/A"
  LINE_FIRST_PIXEL = 1
  LINE_LAST_PIXEL = 12532
  LINE_PROJECTION_OFFSET = 67562.125
  MAP_PROJECTION_ROTATION = 0.0
  MAP_PROJECTION_TYPE = SINUSOIDAL
  MAP_RESOLUTION = 1185.42760773333
  MAP_SCALE = 0.05
  MAXIMUM_LATITUDE = 56.9949
  MINIMUM_LATITUDE = 46.4351
  POSITIVE_LONGITUDE_DIRECTION = EAST
  REFERENCE_LATITUDE = "N/A"
  REFERENCE_LONGITUDE = "N/A"
  SAMPLE_FIRST_PIXEL = 1
  SAMPLE_LAST_PIXEL = 2211
  SAMPLE_PROJECTION_OFFSET = 852.875
  SECOND_STANDARD_PARALLEL = "N/A"
  WESTERNMOST_LONGITUDE = 102.686
END_OBJECT = IMAGE_MAP_PROJECTION
END
