PDS_VERSION_ID = PDS3
/* FILE DATA ELEMENTS */
RECORD_TYPE = UNDEFINED
/* POINTERS TO DATA OBJECTS */
^IMAGE = ("HH951_0000_S14.TIF")
/* IDENTIFICATION DATA ELEMENTS */
DATA_SET_ID = "MEX-M-HRSC-4-REFDR-MAPPROJECT-EXT6-V4.0"
DATA_SET_NAME = "MARS EXPRESS HRSC MAP PROJECTED REFDR EXTENSION6 V4.0"
DETECTOR_ID = MEX_HRSC_S1
EVENT_TYPE = "MARS-REGIONAL-MAPPING-Vo-Im-Pf"
INSTRUMENT_HOST_ID = MEX
INSTRUMENT_HOST_NAME = "MARS EXPRESS"
INSTRUMENT_ID = HRSC
INSTRUMENT_NAME = "HIGH RESOLUTION STEREO CAMERA"
MISSION_NAME = "MARS EXPRESS"
MISSION_PHASE_NAME = ME_Phase_38
PROCESSING_LEVEL_ID = 4
PRODUCT_CREATION_TIME = 2023-01-28T19:29:54.000Z
PRODUCT_ID = "HH951_0000_S14.TIF"
RELEASE_ID = 0003
REVISION_ID = 0000
/* QUALITY DATA ELEMENTS */
DATA_QUALITY_ID = 1
DATA_QUALITY_DESC = "Data calculated based on original SPICE kernels"
/* TIME DATA ELEMENTS */
SPACECRAFT_CLOCK_START_COUNT = "1/0468624501.07358"
SPACECRAFT_CLOCK_STOP_COUNT = "1/0468624712.15279"
START_TIME = 2018-03-08T21:28:30.512Z
STOP_TIME = 2018-03-08T21:30:57.136Z
/* ORBITAL DATA ELEMENTS */
ASCENDING_NODE_LONGITUDE = 237.13
MAXIMUM_RESOLUTION = 0.0307
FOOTPRINT_POINT_LATITUDE = (56.9975,56.9864,56.9731,56.9571, 56.9565,56.9248,56.4053,55.9894,55.469, 54.9484,54.5317,54.3232,54.0103,53.8017 ,53.5929,53.2799,53.0711,52.8621, 52.6531,52.444,52.2349,52.0256,51.8164, 51.6069,51.2927,51.083,50.8733,50.6636, 50.4538,50.2437,50.0338,49.8237,49.6135 ,49.298,49.0876,48.8771,48.6666,48.3503 ,48.1395,47.9284,47.7176,47.5063,47.295 ,47.0835,46.8721,46.5545,46.4488, 46.4063,46.4152,46.4207,46.4221,46.4222 ,46.4222,46.4227,46.6349,46.847,47.0592 ,47.271,47.4828,47.6945,47.906,48.1174, 48.3287,48.6456,48.8566,49.1731,49.4893 ,49.7001,49.9106,50.1213,50.3316,50.542 ,50.7522,50.9626,51.1727,51.3828, 51.6979,52.0127,52.2225,52.4322,52.7466 ,52.9561,53.1656,53.375,53.5842,53.7936 ,54.0029,54.2121,54.4212,54.6302, 54.8391,55.1525,55.3613,55.5702,55.7791 ,56.1964,56.405,56.8221,56.9264, 56.9975)
FOOTPRINT_POINT_LONGITUDE = (104.947,104.077,103.387,102.744, 102.722,102.688,102.76,102.816,102.883, 102.948,102.997,103.022,103.057,103.08, 103.103,103.137,103.159,103.18,103.202, 103.222,103.243,103.263,103.283,103.303 ,103.331,103.35,103.369,103.387,103.405 ,103.422,103.44,103.457,103.473,103.498 ,103.514,103.53,103.545,103.568,103.583 ,103.598,103.612,103.626,103.64,103.654 ,103.667,103.687,103.694,103.696, 104.266,104.859,105.251,105.588,105.607 ,105.614,105.605,105.595,105.586, 105.576,105.567,105.557,105.548,105.538 ,105.528,105.513,105.504,105.488, 105.473,105.463,105.452,105.442,105.431 ,105.421,105.41,105.399,105.388,105.377 ,105.36,105.343,105.331,105.319,105.301 ,105.29,105.277,105.265,105.253,105.24, 105.227,105.214,105.201,105.188,105.175 ,105.155,105.141,105.128,105.113, 105.085,105.07,105.041,105.033,104.947)
ORBIT_NUMBER = 17951
ORBITAL_ECCENTRICITY = 0.572
ORBITAL_INCLINATION = 86.97
ORBITAL_SEMIMAJOR_AXIS = 8790.8
PERIAPSIS_ALTITUDE = 375.02
PERIAPSIS_ARGUMENT_ANGLE = 126.33
PERIAPSIS_TIME = 2018-03-08T21:29:33.000Z
SPACECRAFT_ORIENTATION = (0.0,-1.0,0.0)
^MEX_ORIENTATION_DESC = "MEX_ORIENTATION_DESC.TXT"
SPACECRAFT_POINTING_MODE = INERT
^MEX_POINTING_DESC = "MEX_POINTING_DESC.TXT"
RIGHT_ASCENSION = 211.018
DECLINATION = -68.1
OFFSET_ANGLE = -1e+32
SPACECRAFT_SOLAR_DISTANCE = 2.33645e+08
TARGET_NAME = MARS
/* CAMERA DATA ELEMENTS */
DETECTOR_TEMPERATURE = 17.7588
FOCAL_PLANE_TEMPERATURE = 8.3794
INST_CMPRS_NAME = "DISCRETE COSINE TRANSFORMATION (DCT)"
INST_CMPRS_RATIO = 9.51795
INST_CMPRS_QUALITY = 0
INST_CMPRS_QUANTZ_TBL_ID = 0
INSTRUMENT_TEMPERATURE = 11.6418
LENS_TEMPERATURE = 8.7872
MACROPIXEL_SIZE = 2
MISSING_FRAMES = 0
PIXEL_SUBSAMPLING_FLAG = N
SIGNAL_CHAIN_ID = 1
/* RADIOMETRIC DATA ELEMENTS */
BANDWIDTH = 180.0
CENTER_FILTER_WAVELENGTH = 677.0
RADIANCE_OFFSET = 3.63317
RADIANCE_SCALING_FACTOR = 0.0118366
REFLECTANCE_SCALING_FACTOR = 0.000337117
MEX:REFLECTANCE_OFFSET = 0.103476
/* IMAGE OBJECT DEFINITIONS */
OBJECT = IMAGE
  INTERCHANGE_FORMAT = BINARY
  LINES = 25063
  LINE_SAMPLES = 4421
  SAMPLE_TYPE = UNSIGNED_INTEGER
  SAMPLE_BITS = 8
  BANDS = 1
  BAND_STORAGE_TYPE = BAND_SEQUENTIAL
  MAXIMUM = 255
  MEAN = 96.1849
  MINIMUM = 1
  STANDARD_DEVIATION = 24.3015
END_OBJECT = IMAGE
/* MAP OBJECT DEFINITIONS */
OBJECT = IMAGE_MAP_PROJECTION
  ^DATA_SET_MAP_PROJECTION_CATALOG= "DSMAP.CAT"
  A_AXIS_RADIUS = 3396.0
  B_AXIS_RADIUS = 3396.0
  C_AXIS_RADIUS = 3396.0
  CENTER_LATITUDE = 0.0
  CENTER_LONGITUDE = 104.0
  COORDINATE_SYSTEM_NAME = PLANETOGRAPHIC
  COORDINATE_SYSTEM_TYPE = "BODY-FIXED ROTATING"
  EASTERNMOST_LONGITUDE = 105.614
  FIRST_STANDARD_PARALLEL = "N/A"
  LINE_FIRST_PIXEL = 1
  LINE_LAST_PIXEL = 25063
  LINE_PROJECTION_OFFSET = 135124.75
  MAP_PROJECTION_ROTATION = 0.0
  MAP_PROJECTION_TYPE = SINUSOIDAL
  MAP_RESOLUTION = 2370.85521546667
  MAP_SCALE = 0.025
  MAXIMUM_LATITUDE = 56.9975
  MINIMUM_LATITUDE = 46.4063
  POSITIVE_LONGITUDE_DIRECTION = EAST
  REFERENCE_LATITUDE = "N/A"
  REFERENCE_LONGITUDE = "N/A"
  SAMPLE_FIRST_PIXEL = 1
  SAMPLE_LAST_PIXEL = 4421
  SAMPLE_PROJECTION_OFFSET = 1706.25
  SECOND_STANDARD_PARALLEL = "N/A"
  WESTERNMOST_LONGITUDE = 102.688
END_OBJECT = IMAGE_MAP_PROJECTION
END
