PDS_VERSION_ID = PDS3
/* FILE DATA ELEMENTS */
RECORD_TYPE = UNDEFINED
/* POINTERS TO DATA OBJECTS */
^IMAGE = ("HH955_0000_S14.TIF")
/* IDENTIFICATION DATA ELEMENTS */
DATA_SET_ID = "MEX-M-HRSC-4-REFDR-MAPPROJECT-EXT6-V4.0"
DATA_SET_NAME = "MARS EXPRESS HRSC MAP PROJECTED REFDR EXTENSION6 V4.0"
DETECTOR_ID = MEX_HRSC_S1
EVENT_TYPE = "MARS-REGIONAL-MAPPING-Im-Gl-Pf"
INSTRUMENT_HOST_ID = MEX
INSTRUMENT_HOST_NAME = "MARS EXPRESS"
INSTRUMENT_ID = HRSC
INSTRUMENT_NAME = "HIGH RESOLUTION STEREO CAMERA"
MISSION_NAME = "MARS EXPRESS"
MISSION_PHASE_NAME = ME_Phase_38
PROCESSING_LEVEL_ID = 4
PRODUCT_CREATION_TIME = 2023-01-28T19:29:54.000Z
PRODUCT_ID = "HH955_0000_S14.TIF"
RELEASE_ID = 0003
REVISION_ID = 0000
/* QUALITY DATA ELEMENTS */
DATA_QUALITY_ID = 1
DATA_QUALITY_DESC = "Data calculated based on original SPICE kernels"
/* TIME DATA ELEMENTS */
SPACECRAFT_CLOCK_START_COUNT = "1/0468724966.09031"
SPACECRAFT_CLOCK_STOP_COUNT = "1/0468725216.23855"
START_TIME = 2018-03-10T01:22:55.560Z
STOP_TIME = 2018-03-10T01:25:54.011Z
/* ORBITAL DATA ELEMENTS */
ASCENDING_NODE_LONGITUDE = 237.05
MAXIMUM_RESOLUTION = 0.0321
FOOTPRINT_POINT_LATITUDE = (61.6409,61.5834,61.5184,61.4305,61.428 ,61.3005,60.8628,60.3146,60.0949, 59.8748,59.6548,59.434,59.2131,58.992, 58.6604,58.4385,58.1051,57.7714,57.4372 ,57.2142,56.9911,56.7675,56.5441, 56.3201,56.0961,55.8716,55.5348,55.3096 ,55.085,54.7471,54.4088,54.1833,53.9575 ,53.7311,53.5049,53.2783,52.9385, 52.7115,52.371,52.0299,51.8023,51.5745, 51.2328,51.0047,50.6623,50.4338,50.2054 ,50.0914,50.0883,50.1253,50.1547, 50.1965,50.2371,50.2383,50.2393,50.469, 50.6991,50.9283,51.1573,51.387,51.6158, 51.8439,52.0724,52.3011,52.5296,52.8721 ,53.1,53.3279,53.556,53.7837,54.0111, 54.2387,54.4658,54.6928,54.9199,55.1462 ,55.4858,55.712,56.0511,56.3897,56.7281 ,57.0657,57.2907,57.5155,57.7399, 57.9643,58.1886,58.4122,58.7477,59.0828 ,59.4174,59.7516,59.974,60.196,60.5289, 60.7504,60.9721,61.414,61.5243,61.6409)
FOOTPRINT_POINT_LONGITUDE = (53.9713,53.1071,52.2307,51.1734, 51.1454,51.0098,51.1335,51.2826,51.3405 ,51.3973,51.4533,51.5079,51.5618, 51.6148,51.6929,51.7434,51.8175,51.8898 ,51.9604,52.0064,52.0519,52.0963, 52.1402,52.1832,52.2255,52.2669,52.3279 ,52.3673,52.4069,52.4643,52.5201, 52.5569,52.5929,52.6279,52.6627,52.6966 ,52.7467,52.7793,52.8272,52.8737,52.904 ,52.9337,52.9776,53.0061,53.048,53.0752 ,53.1021,53.1156,53.1159,53.5736, 53.9646,54.5543,55.1944,55.2142,55.2213 ,55.2044,55.1872,55.1697,55.1521, 55.1341,55.1159,55.0974,55.0787,55.0597 ,55.0405,55.011,54.9911,54.9708,54.9502 ,54.9294,54.9082,54.8868,54.865,54.8429 ,54.8204,54.7977,54.7629,54.7393, 54.7032,54.6663,54.6286,54.59,54.5638, 54.5371,54.5101,54.4827,54.4548,54.4266 ,54.3833,54.3391,54.2938,54.2474, 54.2159,54.1838,54.1348,54.1015,54.0677 ,53.9983,53.9806,53.9713)
ORBIT_NUMBER = 17955
ORBITAL_ECCENTRICITY = 0.572
ORBITAL_INCLINATION = 86.98
ORBITAL_SEMIMAJOR_AXIS = 8787.86
PERIAPSIS_ALTITUDE = 375.86
PERIAPSIS_ARGUMENT_ANGLE = 125.66
PERIAPSIS_TIME = 2018-03-10T01:25:26.000Z
SPACECRAFT_ORIENTATION = (0.0,-1.0,0.0)
^MEX_ORIENTATION_DESC = "MEX_ORIENTATION_DESC.TXT"
SPACECRAFT_POINTING_MODE = ACROSSTRACK
^MEX_POINTING_DESC = "MEX_POINTING_DESC.TXT"
RIGHT_ASCENSION = -1e+32
DECLINATION = -1e+32
OFFSET_ANGLE = -0.78
SPACECRAFT_SOLAR_DISTANCE = 2.33432e+08
TARGET_NAME = MARS
/* CAMERA DATA ELEMENTS */
DETECTOR_TEMPERATURE = 18.5744
FOCAL_PLANE_TEMPERATURE = 10.2145
INST_CMPRS_NAME = "DISCRETE COSINE TRANSFORMATION (DCT)"
INST_CMPRS_RATIO = 10.5919
INST_CMPRS_QUALITY = 0
INST_CMPRS_QUANTZ_TBL_ID = 0
INSTRUMENT_TEMPERATURE = 12.6613
LENS_TEMPERATURE = 10.8262
MACROPIXEL_SIZE = 2
MISSING_FRAMES = 0
PIXEL_SUBSAMPLING_FLAG = N
SIGNAL_CHAIN_ID = 1
/* RADIOMETRIC DATA ELEMENTS */
BANDWIDTH = 180.0
CENTER_FILTER_WAVELENGTH = 677.0
RADIANCE_OFFSET = 2.62706
RADIANCE_SCALING_FACTOR = 0.0269611
REFLECTANCE_SCALING_FACTOR = 0.000766478
MEX:REFLECTANCE_OFFSET = 0.0746849
/* IMAGE OBJECT DEFINITIONS */
OBJECT = IMAGE
  INTERCHANGE_FORMAT = BINARY
  LINES = 26937
  LINE_SAMPLES = 5235
  SAMPLE_TYPE = UNSIGNED_INTEGER
  SAMPLE_BITS = 8
  BANDS = 1
  BAND_STORAGE_TYPE = BAND_SEQUENTIAL
  MAXIMUM = 255
  MEAN = 75.6648
  MINIMUM = 1
  STANDARD_DEVIATION = 34.1919
END_OBJECT = IMAGE
/* MAP OBJECT DEFINITIONS */
OBJECT = IMAGE_MAP_PROJECTION
  ^DATA_SET_MAP_PROJECTION_CATALOG= "DSMAP.CAT"
  A_AXIS_RADIUS = 3396.0
  B_AXIS_RADIUS = 3396.0
  C_AXIS_RADIUS = 3396.0
  CENTER_LATITUDE = 0.0
  CENTER_LONGITUDE = 54.0
  COORDINATE_SYSTEM_NAME = PLANETOGRAPHIC
  COORDINATE_SYSTEM_TYPE = "BODY-FIXED ROTATING"
  EASTERNMOST_LONGITUDE = 55.2213
  FIRST_STANDARD_PARALLEL = "N/A"
  LINE_FIRST_PIXEL = 1
  LINE_LAST_PIXEL = 26937
  LINE_PROJECTION_OFFSET = 145799.25
  MAP_PROJECTION_ROTATION = 0.0
  MAP_PROJECTION_TYPE = SINUSOIDAL
  MAP_RESOLUTION = 2370.85521546667
  MAP_SCALE = 0.025
  MAXIMUM_LATITUDE = 61.6409
  MINIMUM_LATITUDE = 50.0883
  POSITIVE_LONGITUDE_DIRECTION = EAST
  REFERENCE_LATITUDE = "N/A"
  REFERENCE_LONGITUDE = "N/A"
  SAMPLE_FIRST_PIXEL = 1
  SAMPLE_LAST_PIXEL = 5235
  SAMPLE_PROJECTION_OFFSET = 3372.25
  SECOND_STANDARD_PARALLEL = "N/A"
  WESTERNMOST_LONGITUDE = 51.0098
END_OBJECT = IMAGE_MAP_PROJECTION
END
