PDS_VERSION_ID = PDS3
/* FILE DATA ELEMENTS */
RECORD_TYPE = UNDEFINED
/* POINTERS TO DATA OBJECTS */
^IMAGE = ("HH959_0000_GR4.TIF")
/* IDENTIFICATION DATA ELEMENTS */
DATA_SET_ID = "MEX-M-HRSC-4-REFDR-MAPPROJECT-EXT6-V4.0"
DATA_SET_NAME = "MARS EXPRESS HRSC MAP PROJECTED REFDR EXTENSION6 V4.0"
DETECTOR_ID = MEX_HRSC_GREEN
EVENT_TYPE = "MARS-REGIONAL-MAPPING-Im-Gl-Pf"
INSTRUMENT_HOST_ID = MEX
INSTRUMENT_HOST_NAME = "MARS EXPRESS"
INSTRUMENT_ID = HRSC
INSTRUMENT_NAME = "HIGH RESOLUTION STEREO CAMERA"
MISSION_NAME = "MARS EXPRESS"
MISSION_PHASE_NAME = ME_Phase_38
PROCESSING_LEVEL_ID = 4
PRODUCT_CREATION_TIME = 2023-01-28T19:29:54.000Z
PRODUCT_ID = "HH959_0000_GR4.TIF"
RELEASE_ID = 0003
REVISION_ID = 0000
/* QUALITY DATA ELEMENTS */
DATA_QUALITY_ID = 1
DATA_QUALITY_DESC = "Data calculated based on original SPICE kernels"
/* TIME DATA ELEMENTS */
SPACECRAFT_CLOCK_START_COUNT = "1/0468825739.08446"
SPACECRAFT_CLOCK_STOP_COUNT = "1/0468826025.42245"
START_TIME = 2018-03-11T05:22:57.140Z
STOP_TIME = 2018-03-11T05:26:20.116Z
/* ORBITAL DATA ELEMENTS */
ASCENDING_NODE_LONGITUDE = 236.99
MAXIMUM_RESOLUTION = 0.0619
FOOTPRINT_POINT_LATITUDE = (48.0493,48.0327,48.0168,48.0028, 48.0022,47.9857,47.733,47.4805,47.2279, 46.9754,46.723,46.4707,46.2185,45.8403, 45.5882,45.3363,45.0847,44.8328,44.5811 ,44.3297,43.9527,43.7013,43.1991, 42.6974,42.1965,41.6959,41.1962,40.697, 40.4413,40.1773,39.7932,39.5376,39.2822 ,39.0278,38.6367,38.3755,38.1143, 37.8534,37.5928,37.1952,36.9283,36.6618 ,36.3955,36.1296,35.8579,35.5856, 35.3124,35.176,35.1478,35.1564,35.1614, 35.164,35.1655,35.1655,35.1666,35.4395, 35.8487,36.1218,36.3885,36.6554,36.9226 ,37.19,37.4571,37.7195,37.981,38.2426, 38.5045,38.7664,39.0282,39.2836,39.6678 ,39.9237,40.1804,40.5734,40.8271, 41.3274,41.9543,42.2054,42.7074,42.9587 ,43.2102,43.4619,43.7136,43.9654, 44.2175,44.4696,44.7217,45.1004,45.353, 45.6056,45.8582,46.111,46.3639,46.6169, 46.87,47.2497,47.6297,47.883,48.0096, 48.0493)
FOOTPRINT_POINT_LONGITUDE = (8.08571,7.23709,6.62427,6.17309, 6.15504,6.11058,6.12756,6.14423,6.16041 ,6.17625,6.19161,6.2067,6.2214,6.24275, 6.25621,6.26962,6.2832,6.29546,6.30771, 6.31993,6.33739,6.34815,6.36922,6.38918 ,6.40838,6.42583,6.44285,6.4584,6.46616 ,6.47383,6.48309,6.48935,6.49545, 6.50309,6.51194,6.51779,6.52278,6.52764 ,6.53263,6.53933,6.54331,6.54705, 6.55069,6.55426,6.5574,6.55974,6.55948, 6.55945,6.55969,6.99373,7.4417,7.78247, 8.46647,8.48448,8.49046,8.48406,8.47607 ,8.47036,8.46502,8.45959,8.45412, 8.44879,8.44456,8.43844,8.43279,8.42695 ,8.42104,8.41549,8.40929,8.40419, 8.39446,8.38901,8.38182,8.37211,8.3657, 8.35361,8.33589,8.32823,8.31457,8.30723 ,8.2996,8.29184,8.28421,8.27629,8.26792 ,8.25991,8.25181,8.23846,8.22969, 8.22076,8.21208,8.20267,8.19349,8.18393 ,8.17401,8.15921,8.14399,8.13387, 8.12871,8.08571)
ORBIT_NUMBER = 17959
ORBITAL_ECCENTRICITY = 0.572
ORBITAL_INCLINATION = 86.97
ORBITAL_SEMIMAJOR_AXIS = 8783.45
PERIAPSIS_ALTITUDE = 376.76
PERIAPSIS_ARGUMENT_ANGLE = 124.94
PERIAPSIS_TIME = 2018-03-11T05:21:15.000Z
SPACECRAFT_ORIENTATION = (0.0,-1.0,0.0)
^MEX_ORIENTATION_DESC = "MEX_ORIENTATION_DESC.TXT"
SPACECRAFT_POINTING_MODE = NADIR
^MEX_POINTING_DESC = "MEX_POINTING_DESC.TXT"
RIGHT_ASCENSION = -1e+32
DECLINATION = -1e+32
OFFSET_ANGLE = -1e+32
SPACECRAFT_SOLAR_DISTANCE = 2.33217e+08
TARGET_NAME = MARS
/* CAMERA DATA ELEMENTS */
DETECTOR_TEMPERATURE = 18.5744
FOCAL_PLANE_TEMPERATURE = 7.9716
INST_CMPRS_NAME = "DISCRETE COSINE TRANSFORMATION (DCT)"
INST_CMPRS_RATIO = 8.64866
INST_CMPRS_QUALITY = 0
INST_CMPRS_QUANTZ_TBL_ID = 0
INSTRUMENT_TEMPERATURE = 11.6418
LENS_TEMPERATURE = 9.195
MACROPIXEL_SIZE = 4
MISSING_FRAMES = 1
PIXEL_SUBSAMPLING_FLAG = N
SIGNAL_CHAIN_ID = 2
/* RADIOMETRIC DATA ELEMENTS */
BANDWIDTH = 88.0
CENTER_FILTER_WAVELENGTH = 538.0
RADIANCE_OFFSET = 1.00703
RADIANCE_SCALING_FACTOR = 0.00758977
REFLECTANCE_SCALING_FACTOR = 0.000355419
MEX:REFLECTANCE_OFFSET = 0.0471581
/* IMAGE OBJECT DEFINITIONS */
OBJECT = IMAGE
  INTERCHANGE_FORMAT = BINARY
  LINES = 15260
  LINE_SAMPLES = 2169
  SAMPLE_TYPE = UNSIGNED_INTEGER
  SAMPLE_BITS = 8
  BANDS = 1
  BAND_STORAGE_TYPE = BAND_SEQUENTIAL
  MAXIMUM = 255
  MEAN = 100.957
  MINIMUM = 1
  STANDARD_DEVIATION = 31.857
END_OBJECT = IMAGE
/* MAP OBJECT DEFINITIONS */
OBJECT = IMAGE_MAP_PROJECTION
  ^DATA_SET_MAP_PROJECTION_CATALOG= "DSMAP.CAT"
  A_AXIS_RADIUS = 3396.0
  B_AXIS_RADIUS = 3396.0
  C_AXIS_RADIUS = 3396.0
  CENTER_LATITUDE = 0.0
  CENTER_LONGITUDE = 7.0
  COORDINATE_SYSTEM_NAME = PLANETOGRAPHIC
  COORDINATE_SYSTEM_TYPE = "BODY-FIXED ROTATING"
  EASTERNMOST_LONGITUDE = 8.490460000000001
  FIRST_STANDARD_PARALLEL = "N/A"
  LINE_FIRST_PIXEL = 1
  LINE_LAST_PIXEL = 15260
  LINE_PROJECTION_OFFSET = 56941.625
  MAP_PROJECTION_ROTATION = 0.0
  MAP_PROJECTION_TYPE = SINUSOIDAL
  MAP_RESOLUTION = 1185.42760773333
  MAP_SCALE = 0.05
  MAXIMUM_LATITUDE = 48.0493
  MINIMUM_LATITUDE = 35.1478
  POSITIVE_LONGITUDE_DIRECTION = EAST
  REFERENCE_LATITUDE = "N/A"
  REFERENCE_LONGITUDE = "N/A"
  SAMPLE_FIRST_PIXEL = 1
  SAMPLE_LAST_PIXEL = 2169
  SAMPLE_PROJECTION_OFFSET = 715.875
  SECOND_STANDARD_PARALLEL = "N/A"
  WESTERNMOST_LONGITUDE = 6.11058
END_OBJECT = IMAGE_MAP_PROJECTION
END
