PDS_VERSION_ID = PDS3
/* FILE DATA ELEMENTS */
RECORD_TYPE = UNDEFINED
/* POINTERS TO DATA OBJECTS */
^IMAGE = ("HH962_0000_S14.TIF")
/* IDENTIFICATION DATA ELEMENTS */
DATA_SET_ID = "MEX-M-HRSC-4-REFDR-MAPPROJECT-EXT6-V4.0"
DATA_SET_NAME = "MARS EXPRESS HRSC MAP PROJECTED REFDR EXTENSION6 V4.0"
DETECTOR_ID = MEX_HRSC_S1
EVENT_TYPE = "MARS-REGIONAL-MAPPING-Im-Gl-Pf"
INSTRUMENT_HOST_ID = MEX
INSTRUMENT_HOST_NAME = "MARS EXPRESS"
INSTRUMENT_ID = HRSC
INSTRUMENT_NAME = "HIGH RESOLUTION STEREO CAMERA"
MISSION_NAME = "MARS EXPRESS"
MISSION_PHASE_NAME = ME_Phase_38
PROCESSING_LEVEL_ID = 4
PRODUCT_CREATION_TIME = 2023-01-28T19:29:54.000Z
PRODUCT_ID = "HH962_0000_S14.TIF"
RELEASE_ID = 0003
REVISION_ID = 0000
/* QUALITY DATA ELEMENTS */
DATA_QUALITY_ID = 1
DATA_QUALITY_DESC = "Data calculated based on original SPICE kernels"
/* TIME DATA ELEMENTS */
SPACECRAFT_CLOCK_START_COUNT = "1/0468901161.07342"
SPACECRAFT_CLOCK_STOP_COUNT = "1/0468901379.24191"
START_TIME = 2018-03-12T02:19:30.527Z
STOP_TIME = 2018-03-12T02:21:55.128Z
/* ORBITAL DATA ELEMENTS */
ASCENDING_NODE_LONGITUDE = 236.92
MAXIMUM_RESOLUTION = 0.0308
FOOTPRINT_POINT_LATITUDE = (49.6913,49.6637,49.6322,49.5896, 49.5883,49.5563,49.2485,48.9405,48.6323 ,48.2216,48.0156,47.81,47.3991,47.1926, 46.9867,46.6778,46.4718,46.2656,46.0592 ,45.853,45.5434,45.3372,45.1305,44.8203 ,44.6134,44.4066,44.0964,43.7867, 43.5792,43.2687,42.9571,42.6458,42.4382 ,42.2304,41.9187,41.6064,41.3986, 41.1915,40.8726,40.658,40.3368,40.1228, 39.9076,39.5851,39.2647,39.1571,39.1393 ,39.1582,39.1764,39.2065,39.2193, 39.2373,39.2381,39.2389,39.4545,39.6681 ,39.8832,40.0976,40.3125,40.6349, 40.9554,41.1691,41.3776,41.5859,41.7937 ,42.0018,42.3137,42.5217,42.8332, 43.0408,43.352,43.5595,43.7667,43.9742, 44.1813,44.3881,44.5956,44.8023,45.0093 ,45.3194,45.5258,45.7325,45.9391, 46.1459,46.4555,46.6619,46.9714,47.281, 47.487,47.6932,48.0021,48.2082,48.4139, 48.6199,48.8257,49.1345,49.3403,49.546, 49.6488,49.6913)
FOOTPRINT_POINT_LONGITUDE = (60.1063,59.5201,58.9216,58.194,58.1745 ,58.0699,58.1032,58.1356,58.1664, 58.2072,58.2256,58.2448,58.2829,58.2992 ,58.3166,58.3422,58.3588,58.3748, 58.3903,58.4059,58.4283,58.4434,58.4572 ,58.4775,58.4907,58.5037,58.5229, 58.5426,58.5539,58.5717,58.5873,58.603, 58.6133,58.623,58.6374,58.6506,58.6599, 58.6697,58.68,58.6875,58.6992,58.7071, 58.7134,58.7229,58.7345,58.7374,58.7378 ,59.0571,59.3738,59.9422,60.213,60.6058 ,60.6235,60.6299,60.6232,60.616,60.609, 60.6017,60.5944,60.5833,60.5714,60.5634 ,60.5555,60.5474,60.5391,60.5307, 60.5178,60.509,60.4955,60.4863,60.4721, 60.4625,60.4526,60.4427,60.4325,60.422, 60.4116,60.4008,60.3899,60.3731,60.3616 ,60.35,60.3382,60.3263,60.3078,60.2953, 60.276,60.2565,60.243,60.2293,60.2083, 60.1941,60.1796,60.1648,60.1499,60.127, 60.1115,60.0956,60.0875,60.1063)
ORBIT_NUMBER = 17962
ORBITAL_ECCENTRICITY = 0.572
ORBITAL_INCLINATION = 86.98
ORBITAL_SEMIMAJOR_AXIS = 8785.98
PERIAPSIS_ALTITUDE = 376.35
PERIAPSIS_ARGUMENT_ANGLE = 124.44
PERIAPSIS_TIME = 2018-03-12T02:18:11.000Z
SPACECRAFT_ORIENTATION = (0.0,-1.0,0.0)
^MEX_ORIENTATION_DESC = "MEX_ORIENTATION_DESC.TXT"
SPACECRAFT_POINTING_MODE = INERT
^MEX_POINTING_DESC = "MEX_POINTING_DESC.TXT"
RIGHT_ASCENSION = 205.85
DECLINATION = -68.185
OFFSET_ANGLE = -1e+32
SPACECRAFT_SOLAR_DISTANCE = 2.33056e+08
TARGET_NAME = MARS
/* CAMERA DATA ELEMENTS */
DETECTOR_TEMPERATURE = 17.9627
FOCAL_PLANE_TEMPERATURE = 8.7872
INST_CMPRS_NAME = "DISCRETE COSINE TRANSFORMATION (DCT)"
INST_CMPRS_RATIO = 8.7966
INST_CMPRS_QUALITY = 0
INST_CMPRS_QUANTZ_TBL_ID = 0
INSTRUMENT_TEMPERATURE = 11.0301
LENS_TEMPERATURE = 9.3989
MACROPIXEL_SIZE = 2
MISSING_FRAMES = 0
PIXEL_SUBSAMPLING_FLAG = N
SIGNAL_CHAIN_ID = 1
/* RADIOMETRIC DATA ELEMENTS */
BANDWIDTH = 180.0
CENTER_FILTER_WAVELENGTH = 677.0
RADIANCE_OFFSET = 2.77563
RADIANCE_SCALING_FACTOR = 0.0260382
REFLECTANCE_SCALING_FACTOR = 0.000737861
MEX:REFLECTANCE_OFFSET = 0.0786548
/* IMAGE OBJECT DEFINITIONS */
OBJECT = IMAGE
  INTERCHANGE_FORMAT = BINARY
  LINES = 24779
  LINE_SAMPLES = 4713
  SAMPLE_TYPE = UNSIGNED_INTEGER
  SAMPLE_BITS = 8
  BANDS = 1
  BAND_STORAGE_TYPE = BAND_SEQUENTIAL
  MAXIMUM = 255
  MEAN = 115.087
  MINIMUM = 1
  STANDARD_DEVIATION = 32.368
END_OBJECT = IMAGE
/* MAP OBJECT DEFINITIONS */
OBJECT = IMAGE_MAP_PROJECTION
  ^DATA_SET_MAP_PROJECTION_CATALOG= "DSMAP.CAT"
  A_AXIS_RADIUS = 3396.0
  B_AXIS_RADIUS = 3396.0
  C_AXIS_RADIUS = 3396.0
  CENTER_LATITUDE = 0.0
  CENTER_LONGITUDE = 59.0
  COORDINATE_SYSTEM_NAME = PLANETOGRAPHIC
  COORDINATE_SYSTEM_TYPE = "BODY-FIXED ROTATING"
  EASTERNMOST_LONGITUDE = 60.6299
  FIRST_STANDARD_PARALLEL = "N/A"
  LINE_FIRST_PIXEL = 1
  LINE_LAST_PIXEL = 24779
  LINE_PROJECTION_OFFSET = 117677.75
  MAP_PROJECTION_ROTATION = 0.0
  MAP_PROJECTION_TYPE = SINUSOIDAL
  MAP_RESOLUTION = 2370.85521546667
  MAP_SCALE = 0.025
  MAXIMUM_LATITUDE = 49.6913
  MINIMUM_LATITUDE = 39.1393
  POSITIVE_LONGITUDE_DIRECTION = EAST
  REFERENCE_LATITUDE = "N/A"
  REFERENCE_LONGITUDE = "N/A"
  SAMPLE_FIRST_PIXEL = 1
  SAMPLE_LAST_PIXEL = 4713
  SAMPLE_PROJECTION_OFFSET = 1599.25
  SECOND_STANDARD_PARALLEL = "N/A"
  WESTERNMOST_LONGITUDE = 58.0699
END_OBJECT = IMAGE_MAP_PROJECTION
END
