PDS_VERSION_ID = PDS3
/* FILE DATA ELEMENTS */
RECORD_TYPE = UNDEFINED
/* POINTERS TO DATA OBJECTS */
^IMAGE = ("HH969_0000_IR4.TIF")
/* IDENTIFICATION DATA ELEMENTS */
DATA_SET_ID = "MEX-M-HRSC-4-REFDR-MAPPROJECT-EXT6-V4.0"
DATA_SET_NAME = "MARS EXPRESS HRSC MAP PROJECTED REFDR EXTENSION6 V4.0"
DETECTOR_ID = MEX_HRSC_IR
EVENT_TYPE = "MARS-REGIONAL-MAPPING-Im-Gl-Pf"
INSTRUMENT_HOST_ID = MEX
INSTRUMENT_HOST_NAME = "MARS EXPRESS"
INSTRUMENT_ID = HRSC
INSTRUMENT_NAME = "HIGH RESOLUTION STEREO CAMERA"
MISSION_NAME = "MARS EXPRESS"
MISSION_PHASE_NAME = ME_Phase_38
PROCESSING_LEVEL_ID = 4
PRODUCT_CREATION_TIME = 2023-01-28T19:29:54.000Z
PRODUCT_ID = "HH969_0000_IR4.TIF"
RELEASE_ID = 0003
REVISION_ID = 0000
/* QUALITY DATA ELEMENTS */
DATA_QUALITY_ID = 1
DATA_QUALITY_DESC = "Data calculated based on original SPICE kernels"
/* TIME DATA ELEMENTS */
SPACECRAFT_CLOCK_START_COUNT = "1/0469077022.09096"
SPACECRAFT_CLOCK_STOP_COUNT = "1/0469077251.06705"
START_TIME = 2018-03-14T03:10:37.533Z
STOP_TIME = 2018-03-14T03:13:11.348Z
/* ORBITAL DATA ELEMENTS */
ASCENDING_NODE_LONGITUDE = 236.79
MAXIMUM_RESOLUTION = 0.0632
FOOTPRINT_POINT_LATITUDE = (56.2465,56.2367,56.2132,56.1849, 56.1841,56.0986,55.8055,55.4145,55.1205 ,54.7285,54.4344,54.0415,53.6489, 53.4522,53.1572,52.9604,52.7635,52.5667 ,52.3695,52.1726,51.9754,51.7781, 51.4824,51.1863,50.9886,50.6922,50.4946 ,50.2971,50.0995,49.902,49.7041,49.4073 ,49.2095,49.0115,48.8134,48.6156, 48.4176,48.1207,47.8235,47.5268,47.3285 ,47.1299,46.9319,46.6347,46.3374, 46.2382,46.1954,46.2069,46.2183,46.2244 ,46.2272,46.2273,46.2283,46.4269, 46.6256,46.8245,47.1225,47.3214,47.6195 ,47.9175,48.1156,48.3144,48.513,48.7112 ,48.9099,49.2074,49.4058,49.6042, 49.8024,50.0008,50.2984,50.4968,50.6951 ,50.8934,51.0912,51.2894,51.4875, 51.6853,51.8828,52.1798,52.3779,52.5756 ,52.7729,52.9705,53.1681,53.3656, 53.5632,53.7605,53.9578,54.1548,54.3521 ,54.5493,54.7462,55.0415,55.2383,55.435 ,55.7299,56.0241,56.1225,56.2465)
FOOTPRINT_POINT_LONGITUDE = (66.7205,66.2065,65.2904,64.4648, 64.4436,64.4098,64.448,64.4976,64.5334, 64.5799,64.6139,64.6576,64.7,64.7206, 64.7509,64.7706,64.79,64.8091,64.8277, 64.8462,64.8642,64.8819,64.908,64.9333, 64.9497,64.9739,64.9896,65.0051,65.0203 ,65.0353,65.0499,65.0713,65.0852, 65.0989,65.1123,65.1255,65.1384,65.1573 ,65.1756,65.1936,65.205,65.2162,65.2274 ,65.2436,65.2593,65.2644,65.2666, 65.7434,66.4078,66.7964,67.224,67.2426, 67.2488,67.2427,67.2363,67.2298,67.2199 ,67.2132,67.2029,67.1925,67.1859, 67.1786,67.1714,67.1643,67.1567,67.1455 ,67.1379,67.1301,67.1222,67.1141, 67.1018,67.0933,67.0848,67.0762,67.0678 ,67.0588,67.0499,67.041,67.0321,67.0179 ,67.0081,66.9985,66.989,66.9791,66.9691 ,66.9588,66.9483,66.9379,66.9272, 66.9165,66.9055,66.8942,66.883,66.8658, 66.8541,66.8422,66.8242,66.8061,66.7997 ,66.7205)
ORBIT_NUMBER = 17969
ORBITAL_ECCENTRICITY = 0.572
ORBITAL_INCLINATION = 86.98
ORBITAL_SEMIMAJOR_AXIS = 8784.19
PERIAPSIS_ALTITUDE = 376.88
PERIAPSIS_ARGUMENT_ANGLE = 123.23
PERIAPSIS_TIME = 2018-03-14T03:10:58.000Z
SPACECRAFT_ORIENTATION = (0.0,-1.0,0.0)
^MEX_ORIENTATION_DESC = "MEX_ORIENTATION_DESC.TXT"
SPACECRAFT_POINTING_MODE = ACROSSTRACK
^MEX_POINTING_DESC = "MEX_POINTING_DESC.TXT"
RIGHT_ASCENSION = -1e+32
DECLINATION = -1e+32
OFFSET_ANGLE = 0.17
SPACECRAFT_SOLAR_DISTANCE = 2.32679e+08
TARGET_NAME = MARS
/* CAMERA DATA ELEMENTS */
DETECTOR_TEMPERATURE = 17.7588
FOCAL_PLANE_TEMPERATURE = 8.1755
INST_CMPRS_NAME = "DISCRETE COSINE TRANSFORMATION (DCT)"
INST_CMPRS_RATIO = 12.5129
INST_CMPRS_QUALITY = 0
INST_CMPRS_QUANTZ_TBL_ID = 0
INSTRUMENT_TEMPERATURE = 11.0301
LENS_TEMPERATURE = 8.5833
MACROPIXEL_SIZE = 4
MISSING_FRAMES = 0
PIXEL_SUBSAMPLING_FLAG = N
SIGNAL_CHAIN_ID = 2
/* RADIOMETRIC DATA ELEMENTS */
BANDWIDTH = 81.0
CENTER_FILTER_WAVELENGTH = 955.5
RADIANCE_OFFSET = 0.668705
RADIANCE_SCALING_FACTOR = 0.00489509
REFLECTANCE_SCALING_FACTOR = 0.000571747
MEX:REFLECTANCE_OFFSET = 0.0781047
/* IMAGE OBJECT DEFINITIONS */
OBJECT = IMAGE
  INTERCHANGE_FORMAT = BINARY
  LINES = 11831
  LINE_SAMPLES = 2092
  SAMPLE_TYPE = UNSIGNED_INTEGER
  SAMPLE_BITS = 8
  BANDS = 1
  BAND_STORAGE_TYPE = BAND_SEQUENTIAL
  MAXIMUM = 255
  MEAN = 135.998
  MINIMUM = 1
  STANDARD_DEVIATION = 64.3204
END_OBJECT = IMAGE
/* MAP OBJECT DEFINITIONS */
OBJECT = IMAGE_MAP_PROJECTION
  ^DATA_SET_MAP_PROJECTION_CATALOG= "DSMAP.CAT"
  A_AXIS_RADIUS = 3396.0
  B_AXIS_RADIUS = 3396.0
  C_AXIS_RADIUS = 3396.0
  CENTER_LATITUDE = 0.0
  CENTER_LONGITUDE = 66.0
  COORDINATE_SYSTEM_NAME = PLANETOGRAPHIC
  COORDINATE_SYSTEM_TYPE = "BODY-FIXED ROTATING"
  EASTERNMOST_LONGITUDE = 67.2488
  FIRST_STANDARD_PARALLEL = "N/A"
  LINE_FIRST_PIXEL = 1
  LINE_LAST_PIXEL = 11831
  LINE_PROJECTION_OFFSET = 66618.375
  MAP_PROJECTION_ROTATION = 0.0
  MAP_PROJECTION_TYPE = SINUSOIDAL
  MAP_RESOLUTION = 1185.42760773333
  MAP_SCALE = 0.05
  MAXIMUM_LATITUDE = 56.2465
  MINIMUM_LATITUDE = 46.1954
  POSITIVE_LONGITUDE_DIRECTION = EAST
  REFERENCE_LATITUDE = "N/A"
  REFERENCE_LONGITUDE = "N/A"
  SAMPLE_FIRST_PIXEL = 1
  SAMPLE_LAST_PIXEL = 2092
  SAMPLE_PROJECTION_OFFSET = 1059.375
  SECOND_STANDARD_PARALLEL = "N/A"
  WESTERNMOST_LONGITUDE = 64.4098
END_OBJECT = IMAGE_MAP_PROJECTION
END
