PDS_VERSION_ID = PDS3
/* FILE DATA ELEMENTS */
RECORD_TYPE = UNDEFINED
/* POINTERS TO DATA OBJECTS */
^IMAGE = ("HH970_0000_RE4.TIF")
/* IDENTIFICATION DATA ELEMENTS */
DATA_SET_ID = "MEX-M-HRSC-4-REFDR-MAPPROJECT-EXT6-V4.0"
DATA_SET_NAME = "MARS EXPRESS HRSC MAP PROJECTED REFDR EXTENSION6 V4.0"
DETECTOR_ID = MEX_HRSC_RED
EVENT_TYPE = "MARS-REGIONAL-MAPPING-Vo-Im-Pf"
INSTRUMENT_HOST_ID = MEX
INSTRUMENT_HOST_NAME = "MARS EXPRESS"
INSTRUMENT_ID = HRSC
INSTRUMENT_NAME = "HIGH RESOLUTION STEREO CAMERA"
MISSION_NAME = "MARS EXPRESS"
MISSION_PHASE_NAME = ME_Phase_38
PROCESSING_LEVEL_ID = 4
PRODUCT_CREATION_TIME = 2023-01-28T19:29:54.000Z
PRODUCT_ID = "HH970_0000_RE4.TIF"
RELEASE_ID = 0003
REVISION_ID = 0000
/* QUALITY DATA ELEMENTS */
DATA_QUALITY_ID = 1
DATA_QUALITY_DESC = "Data calculated based on original SPICE kernels"
/* TIME DATA ELEMENTS */
SPACECRAFT_CLOCK_START_COUNT = "1/0469102090.09123"
SPACECRAFT_CLOCK_STOP_COUNT = "1/0469102306.50360"
START_TIME = 2018-03-14T10:09:23.486Z
STOP_TIME = 2018-03-14T10:11:48.207Z
/* ORBITAL DATA ELEMENTS */
ASCENDING_NODE_LONGITUDE = 236.78
MAXIMUM_RESOLUTION = 0.064
FOOTPRINT_POINT_LATITUDE = (60.6292,60.6096,60.5934,60.5786, 60.5374,60.5363,60.6353,60.4507,60.2661 ,59.9893,59.7128,59.5285,59.3441, 59.1598,58.9756,58.7913,58.6073,58.4233 ,58.1473,57.9634,57.6875,57.5038, 57.3201,57.1366,56.8611,56.6774,56.494, 56.3109,56.1276,55.9444,55.6699,55.4867 ,55.304,55.0299,54.8473,54.5734,54.2996 ,54.1172,53.844,53.6616,53.4795,53.2976 ,53.0248,52.6617,52.299,51.9366,51.5747 ,51.4844,51.4188,51.4362,51.4548, 51.4649,51.4757,51.4761,51.4772,51.9312 ,52.113,52.2948,52.4767,52.6587,52.932, 53.2056,53.3882,53.5707,53.7533,53.9361 ,54.119,54.3938,54.577,54.7603,55.0352, 55.2187,55.4022,55.586,55.7697,55.9536, 56.1375,56.3216,56.5059,56.6903,56.8745 ,57.1512,57.3357,57.5201,57.705,57.8897 ,58.0742,58.2589,58.4438,58.7214, 58.9991,59.1843,59.4622,59.7402,59.9256 ,60.111,60.3894,60.575,60.6679,60.6292)
FOOTPRINT_POINT_LONGITUDE = (323.885,323.23,322.747,322.336,321.322 ,321.298,321.197,321.235,321.271, 321.325,321.378,321.412,321.446,321.479 ,321.512,321.544,321.576,321.607, 321.652,321.682,321.726,321.754,321.782 ,321.81,321.85,321.877,321.903,321.929, 321.954,321.979,322.015,322.039,322.062 ,322.096,322.118,322.151,322.184, 322.204,322.235,322.255,322.275,322.295 ,322.323,322.36,322.395,322.43,322.463, 322.471,322.477,323.031,323.709,324.141 ,324.656,324.676,324.683,324.657, 324.647,324.636,324.625,324.614,324.597 ,324.58,324.569,324.557,324.545,324.533 ,324.521,324.502,324.489,324.477, 324.457,324.444,324.43,324.417,324.403, 324.389,324.375,324.36,324.346,324.331, 324.316,324.293,324.278,324.262,324.246 ,324.23,324.213,324.197,324.18,324.154, 324.127,324.109,324.082,324.054,324.035 ,324.016,323.986,323.966,323.956, 323.885)
ORBIT_NUMBER = 17970
ORBITAL_ECCENTRICITY = 0.572
ORBITAL_INCLINATION = 86.99
ORBITAL_SEMIMAJOR_AXIS = 8777.83
PERIAPSIS_ALTITUDE = 377.57
PERIAPSIS_ARGUMENT_ANGLE = 123.06
PERIAPSIS_TIME = 2018-03-14T10:09:54.000Z
SPACECRAFT_ORIENTATION = (0.0,-1.0,0.0)
^MEX_ORIENTATION_DESC = "MEX_ORIENTATION_DESC.TXT"
SPACECRAFT_POINTING_MODE = NADIR
^MEX_POINTING_DESC = "MEX_POINTING_DESC.TXT"
RIGHT_ASCENSION = -1e+32
DECLINATION = -1e+32
OFFSET_ANGLE = -1e+32
SPACECRAFT_SOLAR_DISTANCE = 2.32625e+08
TARGET_NAME = MARS
/* CAMERA DATA ELEMENTS */
DETECTOR_TEMPERATURE = 18.5744
FOCAL_PLANE_TEMPERATURE = 8.1755
INST_CMPRS_NAME = "DISCRETE COSINE TRANSFORMATION (DCT)"
INST_CMPRS_RATIO = 25.3354
INST_CMPRS_QUALITY = 0
INST_CMPRS_QUANTZ_TBL_ID = 0
INSTRUMENT_TEMPERATURE = 11.4379
LENS_TEMPERATURE = 8.1755
MACROPIXEL_SIZE = 4
MISSING_FRAMES = 0
PIXEL_SUBSAMPLING_FLAG = N
SIGNAL_CHAIN_ID = 2
/* RADIOMETRIC DATA ELEMENTS */
BANDWIDTH = 48.0
CENTER_FILTER_WAVELENGTH = 748.0
RADIANCE_OFFSET = 0.64848
RADIANCE_SCALING_FACTOR = 0.0043232
REFLECTANCE_SCALING_FACTOR = 0.00053388
MEX:REFLECTANCE_OFFSET = 0.080082
/* IMAGE OBJECT DEFINITIONS */
OBJECT = IMAGE
  INTERCHANGE_FORMAT = BINARY
  LINES = 11042
  LINE_SAMPLES = 2280
  SAMPLE_TYPE = UNSIGNED_INTEGER
  SAMPLE_BITS = 8
  BANDS = 1
  BAND_STORAGE_TYPE = BAND_SEQUENTIAL
  MAXIMUM = 255
  MEAN = 75.784
  MINIMUM = 1
  STANDARD_DEVIATION = 27.922
END_OBJECT = IMAGE
/* MAP OBJECT DEFINITIONS */
OBJECT = IMAGE_MAP_PROJECTION
  ^DATA_SET_MAP_PROJECTION_CATALOG= "DSMAP.CAT"
  A_AXIS_RADIUS = 3396.0
  B_AXIS_RADIUS = 3396.0
  C_AXIS_RADIUS = 3396.0
  CENTER_LATITUDE = 0.0
  CENTER_LONGITUDE = 323.0
  COORDINATE_SYSTEM_NAME = PLANETOGRAPHIC
  COORDINATE_SYSTEM_TYPE = "BODY-FIXED ROTATING"
  EASTERNMOST_LONGITUDE = 324.683
  FIRST_STANDARD_PARALLEL = "N/A"
  LINE_FIRST_PIXEL = 1
  LINE_LAST_PIXEL = 11042
  LINE_PROJECTION_OFFSET = 71970.625
  MAP_PROJECTION_ROTATION = 0.0
  MAP_PROJECTION_TYPE = SINUSOIDAL
  MAP_RESOLUTION = 1185.42760773333
  MAP_SCALE = 0.05
  MAXIMUM_LATITUDE = 60.6679
  MINIMUM_LATITUDE = 51.4188
  POSITIVE_LONGITUDE_DIRECTION = EAST
  REFERENCE_LATITUDE = "N/A"
  REFERENCE_LONGITUDE = "N/A"
  SAMPLE_FIRST_PIXEL = 1
  SAMPLE_LAST_PIXEL = 2280
  SAMPLE_PROJECTION_OFFSET = 1052.125
  SECOND_STANDARD_PARALLEL = "N/A"
  WESTERNMOST_LONGITUDE = 321.197
END_OBJECT = IMAGE_MAP_PROJECTION
END
