PDS_VERSION_ID = PDS3
/* FILE DATA ELEMENTS */
RECORD_TYPE = UNDEFINED
/* POINTERS TO DATA OBJECTS */
^IMAGE = ("HH972_0000_ND4.TIF")
/* IDENTIFICATION DATA ELEMENTS */
DATA_SET_ID = "MEX-M-HRSC-4-REFDR-MAPPROJECT-EXT6-V4.0"
DATA_SET_NAME = "MARS EXPRESS HRSC MAP PROJECTED REFDR EXTENSION6 V4.0"
DETECTOR_ID = MEX_HRSC_NADIR
EVENT_TYPE = "MARS-REGIONAL-MAPPING-Im-Gl-Pf"
INSTRUMENT_HOST_ID = MEX
INSTRUMENT_HOST_NAME = "MARS EXPRESS"
INSTRUMENT_ID = HRSC
INSTRUMENT_NAME = "HIGH RESOLUTION STEREO CAMERA"
MISSION_NAME = "MARS EXPRESS"
MISSION_PHASE_NAME = ME_Phase_38
PROCESSING_LEVEL_ID = 4
PRODUCT_CREATION_TIME = 2023-01-28T19:29:54.000Z
PRODUCT_ID = "HH972_0000_ND4.TIF"
RELEASE_ID = 0003
REVISION_ID = 0000
/* QUALITY DATA ELEMENTS */
DATA_QUALITY_ID = 1
DATA_QUALITY_DESC = "Data calculated based on original SPICE kernels"
/* TIME DATA ELEMENTS */
SPACECRAFT_CLOCK_START_COUNT = "1/0469152373.07344"
SPACECRAFT_CLOCK_STOP_COUNT = "1/0469152599.21099"
START_TIME = 2018-03-15T00:06:57.780Z
STOP_TIME = 2018-03-15T00:09:30.786Z
/* ORBITAL DATA ELEMENTS */
ASCENDING_NODE_LONGITUDE = 236.75
MAXIMUM_RESOLUTION = 0.0152
FOOTPRINT_POINT_LATITUDE = (60.6257,60.5969,60.5801,60.562,60.5425 ,60.5148,60.5134,60.5087,60.1346, 59.7603,59.3859,59.1986,59.0112,58.8239 ,58.6365,58.3553,57.8663,57.6788, 57.4912,57.3036,57.0221,56.8344,56.6468 ,56.3652,56.1775,55.9898,55.8021, 55.6143,55.4266,55.2389,55.0511,54.8634 ,54.6757,54.4879,54.3002,53.9248, 53.5494,53.1741,52.7988,52.4237,52.0486 ,51.6737,51.2989,50.9242,50.8306, 50.7374,50.7724,50.7847,50.7992,50.8071 ,50.8076,50.8081,51.1841,51.5603, 51.7484,51.9366,52.1248,52.3131,52.5014 ,52.6897,52.8781,53.0664,53.2549, 53.4433,53.6318,53.8203,54.0088,54.1973 ,54.3859,54.5744,54.763,54.9516,55.1403 ,55.3289,55.5175,55.7062,55.8949, 56.0835,56.2722,56.4609,56.6495,56.8382 ,57.0269,57.2156,57.4985,57.7815, 57.9702,58.462,58.7448,58.9334,59.1219, 59.3105,59.499,59.6874,59.8759,60.0643, 60.2527,60.441,60.5352,60.6257)
FOOTPRINT_POINT_LONGITUDE = (118.865,118.076,117.666,117.255, 116.843,116.3,116.274,116.152,116.237, 116.319,116.398,116.437,116.475,116.513 ,116.55,116.605,116.696,116.73,116.764, 116.797,116.845,116.877,116.908,116.954 ,116.984,117.014,117.043,117.072,117.1, 117.128,117.155,117.182,117.209,117.234 ,117.26,117.31,117.358,117.405,117.45, 117.494,117.536,117.577,117.617,117.656 ,117.665,117.674,118.594,118.976, 119.483,119.799,119.82,119.83,119.805, 119.779,119.766,119.752,119.739,119.725 ,119.711,119.697,119.683,119.668, 119.653,119.639,119.623,119.608,119.593 ,119.577,119.561,119.545,119.529, 119.512,119.496,119.479,119.461,119.444 ,119.427,119.409,119.391,119.372, 119.354,119.335,119.316,119.296,119.267 ,119.237,119.216,119.162,119.129, 119.107,119.085,119.062,119.039,119.016 ,118.993,118.969,118.944,118.92,118.907 ,118.865)
ORBIT_NUMBER = 17972
ORBITAL_ECCENTRICITY = 0.572
ORBITAL_INCLINATION = 86.97
ORBITAL_SEMIMAJOR_AXIS = 8783.91
PERIAPSIS_ALTITUDE = 377.51
PERIAPSIS_ARGUMENT_ANGLE = 122.7
PERIAPSIS_TIME = 2018-03-15T00:07:51.000Z
SPACECRAFT_ORIENTATION = (0.0,-1.0,0.0)
^MEX_ORIENTATION_DESC = "MEX_ORIENTATION_DESC.TXT"
SPACECRAFT_POINTING_MODE = ACROSSTRACK
^MEX_POINTING_DESC = "MEX_POINTING_DESC.TXT"
RIGHT_ASCENSION = -1e+32
DECLINATION = -1e+32
OFFSET_ANGLE = -0.36
SPACECRAFT_SOLAR_DISTANCE = 2.32516e+08
TARGET_NAME = MARS
/* CAMERA DATA ELEMENTS */
DETECTOR_TEMPERATURE = 18.7783
FOCAL_PLANE_TEMPERATURE = 9.6028
INST_CMPRS_NAME = "DISCRETE COSINE TRANSFORMATION (DCT)"
INST_CMPRS_RATIO = 6.55209
INST_CMPRS_QUALITY = 0
INST_CMPRS_QUANTZ_TBL_ID = 0
INSTRUMENT_TEMPERATURE = 11.8457
LENS_TEMPERATURE = 9.8067
MACROPIXEL_SIZE = 1
PIXEL_SUBSAMPLING_FLAG = N
SIGNAL_CHAIN_ID = 0
/* RADIOMETRIC DATA ELEMENTS */
BANDWIDTH = 177.0
CENTER_FILTER_WAVELENGTH = 677.5
RADIANCE_OFFSET = 3.4027
RADIANCE_SCALING_FACTOR = 0.0112733
REFLECTANCE_SCALING_FACTOR = 0.000323777
MEX:REFLECTANCE_OFFSET = 0.0977277
/* IMAGE OBJECT DEFINITIONS */
OBJECT = IMAGE
  INTERCHANGE_FORMAT = BINARY
  LINES = 46902
  LINE_SAMPLES = 9798
  SAMPLE_TYPE = UNSIGNED_INTEGER
  SAMPLE_BITS = 8
  BANDS = 1
  BAND_STORAGE_TYPE = BAND_SEQUENTIAL
  MAXIMUM = 255
  MEAN = 77.4465
  MINIMUM = 1
  STANDARD_DEVIATION = 20.9471
END_OBJECT = IMAGE
/* MAP OBJECT DEFINITIONS */
OBJECT = IMAGE_MAP_PROJECTION
  ^DATA_SET_MAP_PROJECTION_CATALOG= "DSMAP.CAT"
  A_AXIS_RADIUS = 3396.0
  B_AXIS_RADIUS = 3396.0
  C_AXIS_RADIUS = 3396.0
  CENTER_LATITUDE = 0.0
  CENTER_LONGITUDE = 118.0
  COORDINATE_SYSTEM_NAME = PLANETOGRAPHIC
  COORDINATE_SYSTEM_TYPE = "BODY-FIXED ROTATING"
  EASTERNMOST_LONGITUDE = 119.83
  FIRST_STANDARD_PARALLEL = "N/A"
  LINE_FIRST_PIXEL = 1
  LINE_LAST_PIXEL = 46902
  LINE_PROJECTION_OFFSET = 287484.0
  MAP_PROJECTION_ROTATION = 0.0
  MAP_PROJECTION_TYPE = SINUSOIDAL
  MAP_RESOLUTION = 4741.71043093333
  MAP_SCALE = 0.0125
  MAXIMUM_LATITUDE = 60.6257
  MINIMUM_LATITUDE = 50.7374
  POSITIVE_LONGITUDE_DIRECTION = EAST
  REFERENCE_LATITUDE = "N/A"
  REFERENCE_LONGITUDE = "N/A"
  SAMPLE_FIRST_PIXEL = 1
  SAMPLE_LAST_PIXEL = 9798
  SAMPLE_PROJECTION_OFFSET = 4313.0
  SECOND_STANDARD_PARALLEL = "N/A"
  WESTERNMOST_LONGITUDE = 116.152
END_OBJECT = IMAGE_MAP_PROJECTION
END
