PDS_VERSION_ID = PDS3
/* FILE DATA ELEMENTS */
RECORD_TYPE = UNDEFINED
/* POINTERS TO DATA OBJECTS */
^IMAGE = ("HH978_0000_GR4.TIF")
/* IDENTIFICATION DATA ELEMENTS */
DATA_SET_ID = "MEX-M-HRSC-4-REFDR-MAPPROJECT-EXT6-V4.0"
DATA_SET_NAME = "MARS EXPRESS HRSC MAP PROJECTED REFDR EXTENSION6 V4.0"
DETECTOR_ID = MEX_HRSC_GREEN
EVENT_TYPE = "MARS-REGIONAL-MAPPING-Im-Pf"
INSTRUMENT_HOST_ID = MEX
INSTRUMENT_HOST_NAME = "MARS EXPRESS"
INSTRUMENT_ID = HRSC
INSTRUMENT_NAME = "HIGH RESOLUTION STEREO CAMERA"
MISSION_NAME = "MARS EXPRESS"
MISSION_PHASE_NAME = ME_Phase_38
PROCESSING_LEVEL_ID = 4
PRODUCT_CREATION_TIME = 2023-01-28T19:29:54.000Z
PRODUCT_ID = "HH978_0000_GR4.TIF"
RELEASE_ID = 0003
REVISION_ID = 0000
/* QUALITY DATA ELEMENTS */
DATA_QUALITY_ID = 1
DATA_QUALITY_DESC = "Data calculated based on original SPICE kernels"
/* TIME DATA ELEMENTS */
SPACECRAFT_CLOCK_START_COUNT = "1/0469303309.07342"
SPACECRAFT_CLOCK_STOP_COUNT = "1/0469303510.45633"
START_TIME = 2018-03-16T18:03:09.334Z
STOP_TIME = 2018-03-16T18:04:33.433Z
/* ORBITAL DATA ELEMENTS */
ASCENDING_NODE_LONGITUDE = 236.63
MAXIMUM_RESOLUTION = 0.0615
FOOTPRINT_POINT_LATITUDE = (52.0374,52.0326,52.0259,52.0159, 52.0075,51.9958,51.9878,51.9786,51.9778 ,51.9613,51.8007,51.6935,51.5864, 51.4793,51.3722,51.2117,51.1046,50.944, 50.8369,50.7299,50.5693,50.4623,50.3554 ,50.2484,50.1414,50.0345,49.9275, 49.8205,49.7136,49.6067,49.4463,49.286, 49.1792,49.019,48.9121,48.8054,48.6986, 48.5918,48.4317,48.2716,48.0049,47.7917 ,47.5785,47.4186,47.1523,46.8861, 46.6733,46.6201,46.594,46.6009,46.6069, 46.6154,46.6233,46.6288,46.6336,46.6369 ,46.6393,46.6396,46.6407,46.9075, 47.0676,47.1744,47.3346,47.4949,47.6018 ,47.7621,47.9225,48.0829,48.2434,48.404 ,48.511,48.618,48.7251,48.8322,48.993, 49.1001,49.2608,49.4216,49.5824,49.6897 ,49.7969,49.9042,50.0114,50.1724, 50.3334,50.4944,50.6017,50.7627,50.8701 ,50.9775,51.0849,51.1923,51.3535, 51.4609,51.5683,51.6758,51.7833,51.9445 ,51.9983,52.0374)
FOOTPRINT_POINT_LONGITUDE = (227.614,227.379,227.087,226.697, 226.405,226.036,225.802,225.549,225.529 ,225.483,225.498,225.508,225.518, 225.527,225.537,225.551,225.561,225.575 ,225.584,225.593,225.606,225.615, 225.624,225.632,225.641,225.649,225.658 ,225.666,225.674,225.682,225.694, 225.706,225.714,225.726,225.733,225.741 ,225.748,225.755,225.766,225.777, 225.794,225.808,225.821,225.831,225.847 ,225.863,225.875,225.878,225.879, 226.106,226.315,226.637,226.979,227.245 ,227.511,227.72,227.891,227.91,227.916, 227.905,227.899,227.894,227.888,227.881 ,227.876,227.87,227.863,227.856,227.849 ,227.841,227.837,227.832,227.827, 227.822,227.814,227.809,227.802,227.794 ,227.786,227.781,227.776,227.77,227.765 ,227.757,227.749,227.741,227.735, 227.727,227.721,227.715,227.71,227.704, 227.695,227.689,227.683,227.677,227.671 ,227.662,227.659,227.614)
ORBIT_NUMBER = 17978
ORBITAL_ECCENTRICITY = 0.572
ORBITAL_INCLINATION = 86.98
ORBITAL_SEMIMAJOR_AXIS = 8777.65
PERIAPSIS_ALTITUDE = 377.47
PERIAPSIS_ARGUMENT_ANGLE = 121.65
PERIAPSIS_TIME = 2018-03-16T18:01:38.000Z
SPACECRAFT_ORIENTATION = (0.0,-1.0,0.0)
^MEX_ORIENTATION_DESC = "MEX_ORIENTATION_DESC.TXT"
SPACECRAFT_POINTING_MODE = NADIR
^MEX_POINTING_DESC = "MEX_POINTING_DESC.TXT"
RIGHT_ASCENSION = -1e+32
DECLINATION = -1e+32
OFFSET_ANGLE = -1e+32
SPACECRAFT_SOLAR_DISTANCE = 2.3219e+08
TARGET_NAME = MARS
/* CAMERA DATA ELEMENTS */
DETECTOR_TEMPERATURE = 18.3705
FOCAL_PLANE_TEMPERATURE = 8.7872
INST_CMPRS_NAME = "DISCRETE COSINE TRANSFORMATION (DCT)"
INST_CMPRS_RATIO = 12.9983
INST_CMPRS_QUALITY = 0
INST_CMPRS_QUANTZ_TBL_ID = 0
INSTRUMENT_TEMPERATURE = 11.4379
LENS_TEMPERATURE = 8.7872
MACROPIXEL_SIZE = 4
MISSING_FRAMES = 0
PIXEL_SUBSAMPLING_FLAG = N
SIGNAL_CHAIN_ID = 2
/* RADIOMETRIC DATA ELEMENTS */
BANDWIDTH = 88.0
CENTER_FILTER_WAVELENGTH = 538.0
RADIANCE_OFFSET = 1.6564
RADIANCE_SCALING_FACTOR = 0.00362391
REFLECTANCE_SCALING_FACTOR = 0.000168211
MEX:REFLECTANCE_OFFSET = 0.0768853
/* IMAGE OBJECT DEFINITIONS */
OBJECT = IMAGE
  INTERCHANGE_FORMAT = BINARY
  LINES = 6885
  LINE_SAMPLES = 1886
  SAMPLE_TYPE = UNSIGNED_INTEGER
  SAMPLE_BITS = 8
  BANDS = 1
  BAND_STORAGE_TYPE = BAND_SEQUENTIAL
  MAXIMUM = 255
  MEAN = 125.408
  MINIMUM = 1
  STANDARD_DEVIATION = 28.8878
END_OBJECT = IMAGE
/* MAP OBJECT DEFINITIONS */
OBJECT = IMAGE_MAP_PROJECTION
  ^DATA_SET_MAP_PROJECTION_CATALOG= "DSMAP.CAT"
  A_AXIS_RADIUS = 3396.0
  B_AXIS_RADIUS = 3396.0
  C_AXIS_RADIUS = 3396.0
  CENTER_LATITUDE = 0.0
  CENTER_LONGITUDE = 227.0
  COORDINATE_SYSTEM_NAME = PLANETOGRAPHIC
  COORDINATE_SYSTEM_TYPE = "BODY-FIXED ROTATING"
  EASTERNMOST_LONGITUDE = 227.916
  FIRST_STANDARD_PARALLEL = "N/A"
  LINE_FIRST_PIXEL = 1
  LINE_LAST_PIXEL = 6885
  LINE_PROJECTION_OFFSET = 62119.375
  MAP_PROJECTION_ROTATION = 0.0
  MAP_PROJECTION_TYPE = SINUSOIDAL
  MAP_RESOLUTION = 1185.42760773333
  MAP_SCALE = 0.05
  MAXIMUM_LATITUDE = 52.0374
  MINIMUM_LATITUDE = 46.594
  POSITIVE_LONGITUDE_DIRECTION = EAST
  REFERENCE_LATITUDE = "N/A"
  REFERENCE_LONGITUDE = "N/A"
  SAMPLE_FIRST_PIXEL = 1
  SAMPLE_LAST_PIXEL = 1886
  SAMPLE_PROJECTION_OFFSET = 1135.125
  SECOND_STANDARD_PARALLEL = "N/A"
  WESTERNMOST_LONGITUDE = 225.483
END_OBJECT = IMAGE_MAP_PROJECTION
END
