PDS_VERSION_ID = PDS3
/* FILE DATA ELEMENTS */
RECORD_TYPE = UNDEFINED
/* POINTERS TO DATA OBJECTS */
^IMAGE = ("HH978_0000_S14.TIF")
/* IDENTIFICATION DATA ELEMENTS */
DATA_SET_ID = "MEX-M-HRSC-4-REFDR-MAPPROJECT-EXT6-V4.0"
DATA_SET_NAME = "MARS EXPRESS HRSC MAP PROJECTED REFDR EXTENSION6 V4.0"
DETECTOR_ID = MEX_HRSC_S1
EVENT_TYPE = "MARS-REGIONAL-MAPPING-Im-Pf"
INSTRUMENT_HOST_ID = MEX
INSTRUMENT_HOST_NAME = "MARS EXPRESS"
INSTRUMENT_ID = HRSC
INSTRUMENT_NAME = "HIGH RESOLUTION STEREO CAMERA"
MISSION_NAME = "MARS EXPRESS"
MISSION_PHASE_NAME = ME_Phase_38
PROCESSING_LEVEL_ID = 4
PRODUCT_CREATION_TIME = 2023-01-28T19:29:54.000Z
PRODUCT_ID = "HH978_0000_S14.TIF"
RELEASE_ID = 0003
REVISION_ID = 0000
/* QUALITY DATA ELEMENTS */
DATA_QUALITY_ID = 1
DATA_QUALITY_DESC = "Data calculated based on original SPICE kernels"
/* TIME DATA ELEMENTS */
SPACECRAFT_CLOCK_START_COUNT = "1/0469303309.07342"
SPACECRAFT_CLOCK_STOP_COUNT = "1/0469303510.45633"
START_TIME = 2018-03-16T18:03:08.959Z
STOP_TIME = 2018-03-16T18:04:03.702Z
/* ORBITAL DATA ELEMENTS */
ASCENDING_NODE_LONGITUDE = 236.63
MAXIMUM_RESOLUTION = 0.0326
FOOTPRINT_POINT_LATITUDE = (50.2722,50.2692,50.2643,50.2607, 50.2569,50.2522,50.2454,50.2405,50.2354 ,50.2293,50.2243,50.2145,50.2137, 50.1279,49.9165,49.7755,49.6697,49.4932 ,49.3523,49.2466,49.1408,48.9997, 48.9291,48.8232,48.6468,48.4702,48.329, 48.2232,48.0821,47.9762,47.835,47.7291, 47.6232,47.482,47.376,47.2348,47.1641, 47.0581,46.8815,46.7402,46.6342,46.5988 ,46.5814,46.5897,46.5955,46.5997,46.605 ,46.6094,46.6135,46.6173,46.6208, 46.6237,46.627,46.6303,46.6324,46.6327, 46.6333,46.7041,46.8104,46.8812,46.9876 ,47.0585,47.1293,47.2001,47.3063, 47.4126,47.4834,47.5542,47.625,47.7313, 47.802,47.9083,47.9792,48.05,48.1564, 48.2271,48.2979,48.4041,48.4748,48.581, 48.6518,48.7582,48.8291,48.8999,48.9707 ,49.0768,49.1476,49.2183,49.3245, 49.3953,49.5015,49.5723,49.6783,49.749, 49.8197,49.8904,49.9965,50.1377,50.1732 ,50.2722)
FOOTPRINT_POINT_LONGITUDE = (227.71,227.553,227.317,227.16,227.003, 226.826,226.59,226.433,226.276,226.1, 225.962,225.707,225.687,225.649,225.666 ,225.677,225.685,225.699,225.71,225.718 ,225.725,225.736,225.741,225.749, 225.761,225.774,225.783,225.791,225.8, 225.807,225.817,225.823,225.83,225.839, 225.846,225.855,225.859,225.865,225.876 ,225.884,225.891,225.893,225.894, 226.127,226.302,226.439,226.614,226.77, 226.925,227.081,227.237,227.374,227.549 ,227.744,227.881,227.9,227.907,227.904, 227.9,227.898,227.893,227.891,227.888, 227.885,227.881,227.877,227.874,227.871 ,227.868,227.864,227.861,227.857, 227.854,227.851,227.846,227.843,227.84, 227.836,227.833,227.828,227.825,227.82, 227.817,227.814,227.811,227.806,227.803 ,227.8,227.795,227.791,227.787,227.783, 227.778,227.775,227.772,227.768,227.763 ,227.757,227.755,227.71)
ORBIT_NUMBER = 17978
ORBITAL_ECCENTRICITY = 0.572
ORBITAL_INCLINATION = 86.98
ORBITAL_SEMIMAJOR_AXIS = 8777.65
PERIAPSIS_ALTITUDE = 377.47
PERIAPSIS_ARGUMENT_ANGLE = 121.65
PERIAPSIS_TIME = 2018-03-16T18:01:38.000Z
SPACECRAFT_ORIENTATION = (0.0,-1.0,0.0)
^MEX_ORIENTATION_DESC = "MEX_ORIENTATION_DESC.TXT"
SPACECRAFT_POINTING_MODE = NADIR
^MEX_POINTING_DESC = "MEX_POINTING_DESC.TXT"
RIGHT_ASCENSION = -1e+32
DECLINATION = -1e+32
OFFSET_ANGLE = -1e+32
SPACECRAFT_SOLAR_DISTANCE = 2.3219e+08
TARGET_NAME = MARS
/* CAMERA DATA ELEMENTS */
DETECTOR_TEMPERATURE = 17.5549
FOCAL_PLANE_TEMPERATURE = 8.7872
INST_CMPRS_NAME = "DISCRETE COSINE TRANSFORMATION (DCT)"
INST_CMPRS_RATIO = 9.85391
INST_CMPRS_QUALITY = 0
INST_CMPRS_QUANTZ_TBL_ID = 0
INSTRUMENT_TEMPERATURE = 11.4379
LENS_TEMPERATURE = 8.7872
MACROPIXEL_SIZE = 2
MISSING_FRAMES = 0
PIXEL_SUBSAMPLING_FLAG = N
SIGNAL_CHAIN_ID = 1
/* RADIOMETRIC DATA ELEMENTS */
BANDWIDTH = 180.0
CENTER_FILTER_WAVELENGTH = 677.0
RADIANCE_OFFSET = 5.98075
RADIANCE_SCALING_FACTOR = 0.0160013
REFLECTANCE_SCALING_FACTOR = 0.000450075
MEX:REFLECTANCE_OFFSET = 0.168223
/* IMAGE OBJECT DEFINITIONS */
OBJECT = IMAGE
  INTERCHANGE_FORMAT = BINARY
  LINES = 13770
  LINE_SAMPLES = 3771
  SAMPLE_TYPE = UNSIGNED_INTEGER
  SAMPLE_BITS = 8
  BANDS = 1
  BAND_STORAGE_TYPE = BAND_SEQUENTIAL
  MAXIMUM = 255
  MEAN = 134.828
  MINIMUM = 1
  STANDARD_DEVIATION = 19.3377
END_OBJECT = IMAGE
/* MAP OBJECT DEFINITIONS */
OBJECT = IMAGE_MAP_PROJECTION
  ^DATA_SET_MAP_PROJECTION_CATALOG= "DSMAP.CAT"
  A_AXIS_RADIUS = 3396.0
  B_AXIS_RADIUS = 3396.0
  C_AXIS_RADIUS = 3396.0
  CENTER_LATITUDE = 0.0
  CENTER_LONGITUDE = 227.0
  COORDINATE_SYSTEM_NAME = PLANETOGRAPHIC
  COORDINATE_SYSTEM_TYPE = "BODY-FIXED ROTATING"
  EASTERNMOST_LONGITUDE = 227.907
  FIRST_STANDARD_PARALLEL = "N/A"
  LINE_FIRST_PIXEL = 1
  LINE_LAST_PIXEL = 13770
  LINE_PROJECTION_OFFSET = 124239.25
  MAP_PROJECTION_ROTATION = 0.0
  MAP_PROJECTION_TYPE = SINUSOIDAL
  MAP_RESOLUTION = 2370.85521546667
  MAP_SCALE = 0.025
  MAXIMUM_LATITUDE = 50.2722
  MINIMUM_LATITUDE = 46.5814
  POSITIVE_LONGITUDE_DIRECTION = EAST
  REFERENCE_LATITUDE = "N/A"
  REFERENCE_LONGITUDE = "N/A"
  SAMPLE_FIRST_PIXEL = 1
  SAMPLE_LAST_PIXEL = 3771
  SAMPLE_PROJECTION_OFFSET = 2270.75
  SECOND_STANDARD_PARALLEL = "N/A"
  WESTERNMOST_LONGITUDE = 225.649
END_OBJECT = IMAGE_MAP_PROJECTION
END
