PDS_VERSION_ID = PDS3
/* FILE DATA ELEMENTS */
RECORD_TYPE = UNDEFINED
/* POINTERS TO DATA OBJECTS */
^IMAGE = ("HH978_0000_S24.TIF")
/* IDENTIFICATION DATA ELEMENTS */
DATA_SET_ID = "MEX-M-HRSC-4-REFDR-MAPPROJECT-EXT6-V4.0"
DATA_SET_NAME = "MARS EXPRESS HRSC MAP PROJECTED REFDR EXTENSION6 V4.0"
DETECTOR_ID = MEX_HRSC_S2
EVENT_TYPE = "MARS-REGIONAL-MAPPING-Im-Pf"
INSTRUMENT_HOST_ID = MEX
INSTRUMENT_HOST_NAME = "MARS EXPRESS"
INSTRUMENT_ID = HRSC
INSTRUMENT_NAME = "HIGH RESOLUTION STEREO CAMERA"
MISSION_NAME = "MARS EXPRESS"
MISSION_PHASE_NAME = ME_Phase_38
PROCESSING_LEVEL_ID = 4
PRODUCT_CREATION_TIME = 2023-01-28T19:29:54.000Z
PRODUCT_ID = "HH978_0000_S24.TIF"
RELEASE_ID = 0003
REVISION_ID = 0000
/* QUALITY DATA ELEMENTS */
DATA_QUALITY_ID = 1
DATA_QUALITY_DESC = "Data calculated based on original SPICE kernels"
/* TIME DATA ELEMENTS */
SPACECRAFT_CLOCK_START_COUNT = "1/0469303309.07342"
SPACECRAFT_CLOCK_STOP_COUNT = "1/0469303510.45633"
START_TIME = 2018-03-16T18:03:08.959Z
STOP_TIME = 2018-03-16T18:05:18.161Z
/* ORBITAL DATA ELEMENTS */
ASCENDING_NODE_LONGITUDE = 236.63
MAXIMUM_RESOLUTION = 0.0329
FOOTPRINT_POINT_LATITUDE = (54.5902,54.5782,54.5689,54.5511, 54.5399,54.5257,54.525,54.6211,54.3779, 54.2158,54.0537,53.8912,53.7296,53.5678 ,53.3254,53.164,52.9219,52.7606,52.5995 ,52.4385,52.2776,52.1168,51.9562, 51.7954,51.635,51.4748,51.3146,51.1543, 50.9141,50.7546,50.5948,50.4352,50.2756 ,50.1163,49.9573,49.7189,49.5601, 49.4014,49.2426,49.084,48.9257,48.6884, 48.3724,47.978,47.5845,47.2704,46.9567, 46.7167,46.6364,46.6116,46.6192,46.6273 ,46.6334,46.6391,46.6451,46.6521, 46.6523,46.6529,46.8139,47.0535,47.368, 47.6833,47.9991,48.2362,48.5528,48.7113 ,48.8696,49.1079,49.2669,49.4259, 49.6648,49.8241,49.9836,50.2234,50.3832 ,50.5433,50.7035,50.8639,51.0242, 51.2654,51.5067,51.6676,51.8286,52.0705 ,52.2317,52.3932,52.6356,52.7971, 52.9589,53.1208,53.3639,53.526,53.6885, 53.851,54.0136,54.1761,54.3388,54.583, 54.6645,54.5902)
FOOTPRINT_POINT_LONGITUDE = (227.476,226.976,226.628,226.019, 225.672,225.259,225.237,225.168,225.196 ,225.214,225.233,225.251,225.268, 225.286,225.311,225.328,225.352,225.368 ,225.384,225.4,225.415,225.43,225.445, 225.46,225.474,225.488,225.502,225.516, 225.536,225.549,225.562,225.575,225.587 ,225.6,225.612,225.629,225.641,225.652, 225.664,225.675,225.685,225.701,225.722 ,225.747,225.771,225.789,225.806, 225.819,225.824,225.825,226.136,226.489 ,226.8,227.111,227.464,227.941,227.962, 227.969,227.962,227.952,227.938,227.924 ,227.909,227.898,227.883,227.875, 227.867,227.856,227.848,227.839,227.827 ,227.819,227.81,227.798,227.789,227.78, 227.772,227.763,227.754,227.74,227.726, 227.717,227.708,227.693,227.683,227.674 ,227.659,227.648,227.638,227.628, 227.612,227.601,227.59,227.579,227.568, 227.557,227.546,227.528,227.522, 227.476)
ORBIT_NUMBER = 17978
ORBITAL_ECCENTRICITY = 0.572
ORBITAL_INCLINATION = 86.98
ORBITAL_SEMIMAJOR_AXIS = 8777.65
PERIAPSIS_ALTITUDE = 377.47
PERIAPSIS_ARGUMENT_ANGLE = 121.65
PERIAPSIS_TIME = 2018-03-16T18:01:38.000Z
SPACECRAFT_ORIENTATION = (0.0,-1.0,0.0)
^MEX_ORIENTATION_DESC = "MEX_ORIENTATION_DESC.TXT"
SPACECRAFT_POINTING_MODE = NADIR
^MEX_POINTING_DESC = "MEX_POINTING_DESC.TXT"
RIGHT_ASCENSION = -1e+32
DECLINATION = -1e+32
OFFSET_ANGLE = -1e+32
SPACECRAFT_SOLAR_DISTANCE = 2.3219e+08
TARGET_NAME = MARS
/* CAMERA DATA ELEMENTS */
DETECTOR_TEMPERATURE = 18.9822
FOCAL_PLANE_TEMPERATURE = 8.7872
INST_CMPRS_NAME = "DISCRETE COSINE TRANSFORMATION (DCT)"
INST_CMPRS_RATIO = 11.7046
INST_CMPRS_QUALITY = 0
INST_CMPRS_QUANTZ_TBL_ID = 0
INSTRUMENT_TEMPERATURE = 11.4379
LENS_TEMPERATURE = 8.7872
MACROPIXEL_SIZE = 2
MISSING_FRAMES = 0
PIXEL_SUBSAMPLING_FLAG = N
SIGNAL_CHAIN_ID = 1
/* RADIOMETRIC DATA ELEMENTS */
BANDWIDTH = 178.0
CENTER_FILTER_WAVELENGTH = 679.0
RADIANCE_OFFSET = 6.33663
RADIANCE_SCALING_FACTOR = 0.0127546
REFLECTANCE_SCALING_FACTOR = 0.000364154
MEX:REFLECTANCE_OFFSET = 0.180915
/* IMAGE OBJECT DEFINITIONS */
OBJECT = IMAGE
  INTERCHANGE_FORMAT = BINARY
  LINES = 13770
  LINE_SAMPLES = 3771
  SAMPLE_TYPE = UNSIGNED_INTEGER
  SAMPLE_BITS = 8
  BANDS = 1
  BAND_STORAGE_TYPE = BAND_SEQUENTIAL
  MAXIMUM = 255
  MEAN = 133.535
  MINIMUM = 1
  STANDARD_DEVIATION = 27.3678
END_OBJECT = IMAGE
/* MAP OBJECT DEFINITIONS */
OBJECT = IMAGE_MAP_PROJECTION
  ^DATA_SET_MAP_PROJECTION_CATALOG= "DSMAP.CAT"
  A_AXIS_RADIUS = 3396.0
  B_AXIS_RADIUS = 3396.0
  C_AXIS_RADIUS = 3396.0
  CENTER_LATITUDE = 0.0
  CENTER_LONGITUDE = 227.0
  COORDINATE_SYSTEM_NAME = PLANETOGRAPHIC
  COORDINATE_SYSTEM_TYPE = "BODY-FIXED ROTATING"
  EASTERNMOST_LONGITUDE = 227.969
  FIRST_STANDARD_PARALLEL = "N/A"
  LINE_FIRST_PIXEL = 1
  LINE_LAST_PIXEL = 13770
  LINE_PROJECTION_OFFSET = 124239.25
  MAP_PROJECTION_ROTATION = 0.0
  MAP_PROJECTION_TYPE = SINUSOIDAL
  MAP_RESOLUTION = 2370.85521546667
  MAP_SCALE = 0.025
  MAXIMUM_LATITUDE = 54.6645
  MINIMUM_LATITUDE = 46.6116
  POSITIVE_LONGITUDE_DIRECTION = EAST
  REFERENCE_LATITUDE = "N/A"
  REFERENCE_LONGITUDE = "N/A"
  SAMPLE_FIRST_PIXEL = 1
  SAMPLE_LAST_PIXEL = 3771
  SAMPLE_PROJECTION_OFFSET = 2270.75
  SECOND_STANDARD_PARALLEL = "N/A"
  WESTERNMOST_LONGITUDE = 225.168
END_OBJECT = IMAGE_MAP_PROJECTION
END
