PDS_VERSION_ID = PDS3
/* FILE DATA ELEMENTS */
RECORD_TYPE = UNDEFINED
/* POINTERS TO DATA OBJECTS */
^IMAGE = ("HH983_0000_P14.TIF")
/* IDENTIFICATION DATA ELEMENTS */
DATA_SET_ID = "MEX-M-HRSC-4-REFDR-MAPPROJECT-EXT6-V4.0"
DATA_SET_NAME = "MARS EXPRESS HRSC MAP PROJECTED REFDR EXTENSION6 V4.0"
DETECTOR_ID = MEX_HRSC_P1
EVENT_TYPE = "MARS-REGIONAL-MAPPING-Im-Gl-Pf"
INSTRUMENT_HOST_ID = MEX
INSTRUMENT_HOST_NAME = "MARS EXPRESS"
INSTRUMENT_ID = HRSC
INSTRUMENT_NAME = "HIGH RESOLUTION STEREO CAMERA"
MISSION_NAME = "MARS EXPRESS"
MISSION_PHASE_NAME = ME_Phase_38
PROCESSING_LEVEL_ID = 4
PRODUCT_CREATION_TIME = 2023-01-28T19:29:54.000Z
PRODUCT_ID = "HH983_0000_P14.TIF"
RELEASE_ID = 0003
REVISION_ID = 0000
/* QUALITY DATA ELEMENTS */
DATA_QUALITY_ID = 1
DATA_QUALITY_DESC = "Data calculated based on original SPICE kernels"
/* TIME DATA ELEMENTS */
SPACECRAFT_CLOCK_START_COUNT = "1/0469428868.08304"
SPACECRAFT_CLOCK_STOP_COUNT = "1/0469429109.40023"
START_TIME = 2018-03-18T04:54:50.069Z
STOP_TIME = 2018-03-18T04:57:38.796Z
/* ORBITAL DATA ELEMENTS */
ASCENDING_NODE_LONGITUDE = 236.54
MAXIMUM_RESOLUTION = 0.0312
FOOTPRINT_POINT_LATITUDE = (64.4441,64.4183,64.3895,64.3545, 64.3533,64.2756,64.0645,63.8531,63.6416 ,63.4298,63.2179,63.0059,62.7938, 62.5814,62.3688,62.0499,61.7303,61.5171 ,61.304,61.0906,60.7705,60.5568,60.3428 ,60.1287,59.9146,59.5933,59.379,59.1644 ,58.8422,58.6273,58.3012,58.0838,57.871 ,57.6558,57.4403,57.2247,56.9014, 56.6859,56.4701,56.1463,55.9304,55.7143 ,55.4982,55.282,55.0617,54.7333,54.5169 ,54.1884,53.8638,53.6471,53.5388, 53.5174,53.5361,53.5482,53.5574,53.5576 ,53.5581,53.884,54.1012,54.3187,54.5358 ,54.7572,55.0868,55.3078,55.5247, 55.7416,55.9585,56.2836,56.5004,56.7169 ,56.9335,57.2582,57.5828,57.799,58.0154 ,58.3395,58.6673,58.991,59.3145,59.5301 ,59.7455,59.9609,60.2837,60.4987, 60.8214,61.0364,61.251,61.5729,61.7874, 62.0016,62.3228,62.5368,62.7507,63.0711 ,63.3911,63.6043,63.9241,64.2434, 64.3498,64.4441)
FOOTPRINT_POINT_LONGITUDE = (76.6378,75.5131,74.5775,73.6514, 73.6226,73.5965,73.6501,73.7025,73.754, 73.8044,73.8538,73.9022,73.9498,73.9963 ,74.042,74.1089,74.1737,74.2159,74.2573 ,74.2979,74.3574,74.3961,74.434,74.4712 ,74.5076,74.5611,74.5958,74.6299, 74.6797,74.7122,74.7603,74.7907,74.8216 ,74.8513,74.8804,74.909,74.9508,74.978, 75.0047,75.0438,75.0692,75.094,75.1185, 75.1424,75.1663,75.201,75.2233,75.2564, 75.288,75.3085,75.3187,75.3206,76.058, 76.7374,77.5566,77.5789,77.5869,77.5714 ,77.5608,77.5497,77.5388,77.5273, 77.5101,77.4984,77.4866,77.4745,77.4622 ,77.4436,77.4308,77.418,77.4049,77.3846 ,77.3638,77.35,77.3354,77.3135,77.2908, 77.268,77.2443,77.228,77.2117,77.1951, 77.1696,77.1522,77.1253,77.1068,77.0884 ,77.0599,77.0405,77.0209,76.9907, 76.9701,76.9491,76.9172,76.8845,76.862, 76.8274,76.7919,76.7797,76.6378)
ORBIT_NUMBER = 17983
ORBITAL_ECCENTRICITY = 0.572
ORBITAL_INCLINATION = 86.99
ORBITAL_SEMIMAJOR_AXIS = 8780.54
PERIAPSIS_ALTITUDE = 377.8
PERIAPSIS_ARGUMENT_ANGLE = 120.81
PERIAPSIS_TIME = 2018-03-18T04:56:35.000Z
SPACECRAFT_ORIENTATION = (0.0,-1.0,0.0)
^MEX_ORIENTATION_DESC = "MEX_ORIENTATION_DESC.TXT"
SPACECRAFT_POINTING_MODE = ACROSSTRACK
^MEX_POINTING_DESC = "MEX_POINTING_DESC.TXT"
RIGHT_ASCENSION = -1e+32
DECLINATION = -1e+32
OFFSET_ANGLE = 0.36
SPACECRAFT_SOLAR_DISTANCE = 2.31917e+08
TARGET_NAME = MARS
/* CAMERA DATA ELEMENTS */
DETECTOR_TEMPERATURE = 17.7588
FOCAL_PLANE_TEMPERATURE = 9.3989
INST_CMPRS_NAME = "DISCRETE COSINE TRANSFORMATION (DCT)"
INST_CMPRS_RATIO = 13.5889
INST_CMPRS_QUALITY = 0
INST_CMPRS_QUANTZ_TBL_ID = 0
INSTRUMENT_TEMPERATURE = 12.0496
LENS_TEMPERATURE = 10.0106
MACROPIXEL_SIZE = 2
PIXEL_SUBSAMPLING_FLAG = N
SIGNAL_CHAIN_ID = 3
/* RADIOMETRIC DATA ELEMENTS */
BANDWIDTH = 174.0
CENTER_FILTER_WAVELENGTH = 675.0
RADIANCE_OFFSET = 2.42507
RADIANCE_SCALING_FACTOR = 0.0133141
REFLECTANCE_SCALING_FACTOR = 0.000385178
MEX:REFLECTANCE_OFFSET = 0.0701575
/* IMAGE OBJECT DEFINITIONS */
OBJECT = IMAGE
  INTERCHANGE_FORMAT = BINARY
  LINES = 25755
  LINE_SAMPLES = 4698
  SAMPLE_TYPE = UNSIGNED_INTEGER
  SAMPLE_BITS = 8
  BANDS = 1
  BAND_STORAGE_TYPE = BAND_SEQUENTIAL
  MAXIMUM = 255
  MEAN = 118.295
  MINIMUM = 1
  STANDARD_DEVIATION = 24.1811
END_OBJECT = IMAGE
/* MAP OBJECT DEFINITIONS */
OBJECT = IMAGE_MAP_PROJECTION
  ^DATA_SET_MAP_PROJECTION_CATALOG= "DSMAP.CAT"
  A_AXIS_RADIUS = 3396.0
  B_AXIS_RADIUS = 3396.0
  C_AXIS_RADIUS = 3396.0
  CENTER_LATITUDE = 0.0
  CENTER_LONGITUDE = 76.0
  COORDINATE_SYSTEM_NAME = PLANETOGRAPHIC
  COORDINATE_SYSTEM_TYPE = "BODY-FIXED ROTATING"
  EASTERNMOST_LONGITUDE = 77.5869
  FIRST_STANDARD_PARALLEL = "N/A"
  LINE_FIRST_PIXEL = 1
  LINE_LAST_PIXEL = 25755
  LINE_PROJECTION_OFFSET = 152655.25
  MAP_PROJECTION_ROTATION = 0.0
  MAP_PROJECTION_TYPE = SINUSOIDAL
  MAP_RESOLUTION = 2370.85521546667
  MAP_SCALE = 0.025
  MAXIMUM_LATITUDE = 64.44410000000001
  MINIMUM_LATITUDE = 53.5174
  POSITIVE_LONGITUDE_DIRECTION = EAST
  REFERENCE_LATITUDE = "N/A"
  REFERENCE_LONGITUDE = "N/A"
  SAMPLE_FIRST_PIXEL = 1
  SAMPLE_LAST_PIXEL = 4698
  SAMPLE_PROJECTION_OFFSET = 2465.25
  SECOND_STANDARD_PARALLEL = "N/A"
  WESTERNMOST_LONGITUDE = 73.59650000000001
END_OBJECT = IMAGE_MAP_PROJECTION
END
