PDS_VERSION_ID = PDS3
/* FILE DATA ELEMENTS */
RECORD_TYPE = UNDEFINED
/* POINTERS TO DATA OBJECTS */
^IMAGE = ("HH984_0000_GR4.TIF")
/* IDENTIFICATION DATA ELEMENTS */
DATA_SET_ID = "MEX-M-HRSC-4-REFDR-MAPPROJECT-EXT6-V4.0"
DATA_SET_NAME = "MARS EXPRESS HRSC MAP PROJECTED REFDR EXTENSION6 V4.0"
DETECTOR_ID = MEX_HRSC_GREEN
EVENT_TYPE = "MARS-REGIONAL-MAPPING-Vo-Im-Pf"
INSTRUMENT_HOST_ID = MEX
INSTRUMENT_HOST_NAME = "MARS EXPRESS"
INSTRUMENT_ID = HRSC
INSTRUMENT_NAME = "HIGH RESOLUTION STEREO CAMERA"
MISSION_NAME = "MARS EXPRESS"
MISSION_PHASE_NAME = ME_Phase_38
PROCESSING_LEVEL_ID = 4
PRODUCT_CREATION_TIME = 2023-01-28T19:29:54.000Z
PRODUCT_ID = "HH984_0000_GR4.TIF"
RELEASE_ID = 0003
REVISION_ID = 0000
/* QUALITY DATA ELEMENTS */
DATA_QUALITY_ID = 1
DATA_QUALITY_DESC = "Data calculated based on original SPICE kernels"
/* TIME DATA ELEMENTS */
SPACECRAFT_CLOCK_START_COUNT = "1/0469453899.08403"
SPACECRAFT_CLOCK_STOP_COUNT = "1/0469454222.58175"
START_TIME = 2018-03-18T11:52:21.566Z
STOP_TIME = 2018-03-18T11:56:29.176Z
/* ORBITAL DATA ELEMENTS */
ASCENDING_NODE_LONGITUDE = 236.52
MAXIMUM_RESOLUTION = 0.0612
FOOTPRINT_POINT_LATITUDE = (70.9967,70.924,70.8601,70.807,70.8048, 70.7749,70.4656,69.8557,69.2438,68.6302 ,68.0149,67.398,66.7797,66.47,66.0048, 65.6945,65.3836,65.0725,64.7611,64.4495 ,64.1376,63.8255,63.513,63.2004,62.8875 ,62.5745,62.2612,61.9478,61.6342, 61.3204,61.0064,60.6923,60.3781,60.0637 ,59.7492,59.2772,58.9624,58.6475, 58.1749,57.8598,57.5447,57.0719,56.7566 ,56.4413,56.126,55.8106,55.3376,55.1799 ,55.101,55.1251,55.1532,55.1754,55.1758 ,55.177,55.4937,55.8105,56.1271,56.4439 ,56.7607,57.0774,57.3941,57.7108, 58.0275,58.3442,58.6608,58.9774,59.2939 ,59.6104,60.085,60.4011,60.8754,61.1914 ,61.6652,61.981,62.2966,62.6121,62.9275 ,63.2427,63.5577,63.8726,64.1873, 64.5018,64.8162,65.1303,65.4443,65.758, 66.0715,66.3848,66.6979,67.0107,67.3233 ,67.6356,67.9476,68.2594,68.8821, 69.5035,70.1239,70.7429,70.9005, 70.9967)
FOOTPRINT_POINT_LONGITUDE = (332.231,330.399,329.084,328.121, 328.083,327.962,328.136,328.46,328.764, 329.048,329.315,329.565,329.799,329.912 ,330.073,330.178,330.278,330.376, 330.471,330.563,330.653,330.74,330.824, 330.906,330.985,331.063,331.138,331.211 ,331.282,331.351,331.418,331.483, 331.547,331.608,331.668,331.755,331.811 ,331.865,331.944,331.994,332.044, 332.115,332.161,332.206,332.249,332.291 ,332.353,332.372,332.382,332.992, 333.844,334.698,334.72,334.728,334.704, 334.68,334.656,334.631,334.606,334.579, 334.553,334.525,334.497,334.468,334.439 ,334.409,334.378,334.346,334.297, 334.263,334.211,334.175,334.12,334.081, 334.042,334.002,333.96,333.918,333.874, 333.829,333.783,333.736,333.687,333.637 ,333.586,333.533,333.479,333.423, 333.365,333.306,333.245,333.182,333.117 ,333.05,332.91,332.762,332.602,332.432, 332.387,332.231)
ORBIT_NUMBER = 17984
ORBITAL_ECCENTRICITY = 0.571
ORBITAL_INCLINATION = 86.99
ORBITAL_SEMIMAJOR_AXIS = 8774.53
PERIAPSIS_ALTITUDE = 378.71
PERIAPSIS_ARGUMENT_ANGLE = 120.64
PERIAPSIS_TIME = 2018-03-18T11:55:31.000Z
SPACECRAFT_ORIENTATION = (0.0,-1.0,0.0)
^MEX_ORIENTATION_DESC = "MEX_ORIENTATION_DESC.TXT"
SPACECRAFT_POINTING_MODE = NADIR
^MEX_POINTING_DESC = "MEX_POINTING_DESC.TXT"
RIGHT_ASCENSION = -1e+32
DECLINATION = -1e+32
OFFSET_ANGLE = -1e+32
SPACECRAFT_SOLAR_DISTANCE = 2.31863e+08
TARGET_NAME = MARS
/* CAMERA DATA ELEMENTS */
DETECTOR_TEMPERATURE = 18.1666
FOCAL_PLANE_TEMPERATURE = 7.156
INST_CMPRS_NAME = "DISCRETE COSINE TRANSFORMATION (DCT)"
INST_CMPRS_RATIO = 19.3768
INST_CMPRS_QUALITY = 0
INST_CMPRS_QUANTZ_TBL_ID = 0
INSTRUMENT_TEMPERATURE = 11.6418
LENS_TEMPERATURE = 8.7872
MACROPIXEL_SIZE = 4
MISSING_FRAMES = 0
PIXEL_SUBSAMPLING_FLAG = N
SIGNAL_CHAIN_ID = 2
/* RADIOMETRIC DATA ELEMENTS */
BANDWIDTH = 88.0
CENTER_FILTER_WAVELENGTH = 538.0
RADIANCE_OFFSET = 0.797919
RADIANCE_SCALING_FACTOR = 0.00312909
REFLECTANCE_SCALING_FACTOR = 0.000144834
MEX:REFLECTANCE_OFFSET = 0.0369328
/* IMAGE OBJECT DEFINITIONS */
OBJECT = IMAGE
  INTERCHANGE_FORMAT = BINARY
  LINES = 18823
  LINE_SAMPLES = 3429
  SAMPLE_TYPE = UNSIGNED_INTEGER
  SAMPLE_BITS = 8
  BANDS = 1
  BAND_STORAGE_TYPE = BAND_SEQUENTIAL
  MAXIMUM = 255
  MEAN = 153.388
  MINIMUM = 1
  STANDARD_DEVIATION = 45.5946
END_OBJECT = IMAGE
/* MAP OBJECT DEFINITIONS */
OBJECT = IMAGE_MAP_PROJECTION
  ^DATA_SET_MAP_PROJECTION_CATALOG= "DSMAP.CAT"
  A_AXIS_RADIUS = 3396.0
  B_AXIS_RADIUS = 3396.0
  C_AXIS_RADIUS = 3396.0
  CENTER_LATITUDE = 0.0
  CENTER_LONGITUDE = 332.0
  COORDINATE_SYSTEM_NAME = PLANETOGRAPHIC
  COORDINATE_SYSTEM_TYPE = "BODY-FIXED ROTATING"
  EASTERNMOST_LONGITUDE = 334.728
  FIRST_STANDARD_PARALLEL = "N/A"
  LINE_FIRST_PIXEL = 1
  LINE_LAST_PIXEL = 18823
  LINE_PROJECTION_OFFSET = 84142.875
  MAP_PROJECTION_ROTATION = 0.0
  MAP_PROJECTION_TYPE = SINUSOIDAL
  MAP_RESOLUTION = 1185.42760773333
  MAP_SCALE = 0.05
  MAXIMUM_LATITUDE = 70.9967
  MINIMUM_LATITUDE = 55.101
  POSITIVE_LONGITUDE_DIRECTION = EAST
  REFERENCE_LATITUDE = "N/A"
  REFERENCE_LONGITUDE = "N/A"
  SAMPLE_FIRST_PIXEL = 1
  SAMPLE_LAST_PIXEL = 3429
  SAMPLE_PROJECTION_OFFSET = 1581.125
  SECOND_STANDARD_PARALLEL = "N/A"
  WESTERNMOST_LONGITUDE = 327.962
END_OBJECT = IMAGE_MAP_PROJECTION
END
