PDS_VERSION_ID = PDS3
/* FILE DATA ELEMENTS */
RECORD_TYPE = UNDEFINED
/* POINTERS TO DATA OBJECTS */
^IMAGE = ("HH985_0000_P24.TIF")
/* IDENTIFICATION DATA ELEMENTS */
DATA_SET_ID = "MEX-M-HRSC-4-REFDR-MAPPROJECT-EXT6-V4.0"
DATA_SET_NAME = "MARS EXPRESS HRSC MAP PROJECTED REFDR EXTENSION6 V4.0"
DETECTOR_ID = MEX_HRSC_P2
EVENT_TYPE = "MARS-REGIONAL-MAPPING-Vo-Te-Pf"
INSTRUMENT_HOST_ID = MEX
INSTRUMENT_HOST_NAME = "MARS EXPRESS"
INSTRUMENT_ID = HRSC
INSTRUMENT_NAME = "HIGH RESOLUTION STEREO CAMERA"
MISSION_NAME = "MARS EXPRESS"
MISSION_PHASE_NAME = ME_Phase_38
PROCESSING_LEVEL_ID = 4
PRODUCT_CREATION_TIME = 2023-01-28T19:29:54.000Z
PRODUCT_ID = "HH985_0000_P24.TIF"
RELEASE_ID = 0003
REVISION_ID = 0000
/* QUALITY DATA ELEMENTS */
DATA_QUALITY_ID = 1
DATA_QUALITY_DESC = "Data calculated based on original SPICE kernels"
/* TIME DATA ELEMENTS */
SPACECRAFT_CLOCK_START_COUNT = "1/0469479118.09095"
SPACECRAFT_CLOCK_STOP_COUNT = "1/0469479364.50483"
START_TIME = 2018-03-18T18:53:07.100Z
STOP_TIME = 2018-03-18T18:55:59.994Z
/* ORBITAL DATA ELEMENTS */
ASCENDING_NODE_LONGITUDE = 236.51
MAXIMUM_RESOLUTION = 0.0314
FOOTPRINT_POINT_LATITUDE = (65.9815,65.9493,65.895,65.8527,65.8512 ,65.9281,65.7065,65.4849,65.2633,64.931 ,64.5984,64.3768,64.1552,63.9334, 63.7117,63.4899,63.2684,63.0467,62.7144 ,62.4927,62.2712,62.0496,61.8279, 61.4979,61.2742,61.053,60.8316,60.6104, 60.2785,59.9468,59.6152,59.2839,59.063, 58.8422,58.6216,58.4009,58.1804,57.9598 ,57.7394,57.4089,57.0787,56.8588, 56.6391,56.4193,56.0896,55.8701,55.6507 ,55.4314,55.2122,54.9931,54.8837, 54.8827,54.9043,54.9254,54.9382,54.9537 ,54.9542,54.9549,55.2848,55.5048, 55.7251,55.9453,56.1657,56.3864,56.6069 ,56.8278,57.0489,57.3804,57.8232, 58.1554,58.488,58.7098,58.9317,59.2647, 59.5977,59.931,60.2645,60.4869,60.7094, 61.0435,61.3776,61.6003,61.8232,62.0461 ,62.2692,62.6037,62.8268,63.1616, 63.4966,63.8314,64.0547,64.2781,64.5017 ,64.837,65.1721,65.3954,65.6192,65.9543 ,66.066,65.9815)
FOOTPRINT_POINT_LONGITUDE = (231.263,230.344,229.032,228.149, 228.118,227.992,228.066,228.137,228.207 ,228.309,228.408,228.472,228.535, 228.597,228.657,228.716,228.773,228.83, 228.912,228.966,229.018,229.07,229.12, 229.191,229.241,229.288,229.334,229.379 ,229.444,229.508,229.57,229.63,229.668, 229.707,229.744,229.781,229.816,229.852 ,229.886,229.937,229.986,230.017, 230.048,230.079,230.124,230.153,230.181 ,230.209,230.236,230.263,230.276, 230.276,230.869,231.531,231.988,232.605 ,232.628,232.636,232.612,232.595, 232.578,232.561,232.543,232.525,232.507 ,232.488,232.47,232.441,232.401,232.371 ,232.339,232.318,232.296,232.263, 232.229,232.194,232.158,232.133,232.108 ,232.069,232.03,232.003,231.975,231.947 ,231.919,231.875,231.845,231.799, 231.752,231.703,231.67,231.636,231.602, 231.549,231.494,231.456,231.418,231.359 ,231.339,231.263)
ORBIT_NUMBER = 17985
ORBITAL_ECCENTRICITY = 0.572
ORBITAL_INCLINATION = 86.98
ORBITAL_SEMIMAJOR_AXIS = 8776.13
PERIAPSIS_ALTITUDE = 378.0
PERIAPSIS_ARGUMENT_ANGLE = 120.44
PERIAPSIS_TIME = 2018-03-18T18:54:26.000Z
SPACECRAFT_ORIENTATION = (0.0,-1.0,0.0)
^MEX_ORIENTATION_DESC = "MEX_ORIENTATION_DESC.TXT"
SPACECRAFT_POINTING_MODE = NADIR
^MEX_POINTING_DESC = "MEX_POINTING_DESC.TXT"
RIGHT_ASCENSION = -1e+32
DECLINATION = -1e+32
OFFSET_ANGLE = -1e+32
SPACECRAFT_SOLAR_DISTANCE = 2.31808e+08
TARGET_NAME = MARS
/* CAMERA DATA ELEMENTS */
DETECTOR_TEMPERATURE = 18.5744
FOCAL_PLANE_TEMPERATURE = 7.9716
INST_CMPRS_NAME = "DISCRETE COSINE TRANSFORMATION (DCT)"
INST_CMPRS_RATIO = 7.8849
INST_CMPRS_QUALITY = 0
INST_CMPRS_QUANTZ_TBL_ID = 0
INSTRUMENT_TEMPERATURE = 10.8262
LENS_TEMPERATURE = 8.5833
MACROPIXEL_SIZE = 2
MISSING_FRAMES = 0
PIXEL_SUBSAMPLING_FLAG = N
SIGNAL_CHAIN_ID = 3
/* RADIOMETRIC DATA ELEMENTS */
BANDWIDTH = 177.0
CENTER_FILTER_WAVELENGTH = 676.5
RADIANCE_OFFSET = 3.75901
RADIANCE_SCALING_FACTOR = 0.0158608
REFLECTANCE_SCALING_FACTOR = 0.000451897
MEX:REFLECTANCE_OFFSET = 0.1071
/* IMAGE OBJECT DEFINITIONS */
OBJECT = IMAGE
  INTERCHANGE_FORMAT = BINARY
  LINES = 26511
  LINE_SAMPLES = 5124
  SAMPLE_TYPE = UNSIGNED_INTEGER
  SAMPLE_BITS = 8
  BANDS = 1
  BAND_STORAGE_TYPE = BAND_SEQUENTIAL
  MAXIMUM = 255
  MEAN = 124.451
  MINIMUM = 1
  STANDARD_DEVIATION = 27.3425
END_OBJECT = IMAGE
/* MAP OBJECT DEFINITIONS */
OBJECT = IMAGE_MAP_PROJECTION
  ^DATA_SET_MAP_PROJECTION_CATALOG= "DSMAP.CAT"
  A_AXIS_RADIUS = 3396.0
  B_AXIS_RADIUS = 3396.0
  C_AXIS_RADIUS = 3396.0
  CENTER_LATITUDE = 0.0
  CENTER_LONGITUDE = 231.0
  COORDINATE_SYSTEM_NAME = PLANETOGRAPHIC
  COORDINATE_SYSTEM_TYPE = "BODY-FIXED ROTATING"
  EASTERNMOST_LONGITUDE = 232.636
  FIRST_STANDARD_PARALLEL = "N/A"
  LINE_FIRST_PIXEL = 1
  LINE_LAST_PIXEL = 26511
  LINE_PROJECTION_OFFSET = 156607.75
  MAP_PROJECTION_ROTATION = 0.0
  MAP_PROJECTION_TYPE = SINUSOIDAL
  MAP_RESOLUTION = 2370.85521546667
  MAP_SCALE = 0.025
  MAXIMUM_LATITUDE = 66.066
  MINIMUM_LATITUDE = 54.8827
  POSITIVE_LONGITUDE_DIRECTION = EAST
  REFERENCE_LATITUDE = "N/A"
  REFERENCE_LONGITUDE = "N/A"
  SAMPLE_FIRST_PIXEL = 1
  SAMPLE_LAST_PIXEL = 5124
  SAMPLE_PROJECTION_OFFSET = 2916.75
  SECOND_STANDARD_PARALLEL = "N/A"
  WESTERNMOST_LONGITUDE = 227.992
END_OBJECT = IMAGE_MAP_PROJECTION
END
