PDS_VERSION_ID = PDS3
/* FILE DATA ELEMENTS */
RECORD_TYPE = UNDEFINED
/* POINTERS TO DATA OBJECTS */
^IMAGE = ("HH985_0000_RE4.TIF")
/* IDENTIFICATION DATA ELEMENTS */
DATA_SET_ID = "MEX-M-HRSC-4-REFDR-MAPPROJECT-EXT6-V4.0"
DATA_SET_NAME = "MARS EXPRESS HRSC MAP PROJECTED REFDR EXTENSION6 V4.0"
DETECTOR_ID = MEX_HRSC_RED
EVENT_TYPE = "MARS-REGIONAL-MAPPING-Vo-Te-Pf"
INSTRUMENT_HOST_ID = MEX
INSTRUMENT_HOST_NAME = "MARS EXPRESS"
INSTRUMENT_ID = HRSC
INSTRUMENT_NAME = "HIGH RESOLUTION STEREO CAMERA"
MISSION_NAME = "MARS EXPRESS"
MISSION_PHASE_NAME = ME_Phase_38
PROCESSING_LEVEL_ID = 4
PRODUCT_CREATION_TIME = 2023-01-28T19:29:54.000Z
PRODUCT_ID = "HH985_0000_RE4.TIF"
RELEASE_ID = 0003
REVISION_ID = 0000
/* QUALITY DATA ELEMENTS */
DATA_QUALITY_ID = 1
DATA_QUALITY_DESC = "Data calculated based on original SPICE kernels"
/* TIME DATA ELEMENTS */
SPACECRAFT_CLOCK_START_COUNT = "1/0469479118.09095"
SPACECRAFT_CLOCK_STOP_COUNT = "1/0469479364.50483"
START_TIME = 2018-03-18T18:53:13.032Z
STOP_TIME = 2018-03-18T18:56:06.045Z
/* ORBITAL DATA ELEMENTS */
ASCENDING_NODE_LONGITUDE = 236.51
MAXIMUM_RESOLUTION = 0.0637
FOOTPRINT_POINT_LATITUDE = (65.9655,65.9383,65.8953,65.8387, 65.8372,65.9351,65.6033,65.3824,65.1613 ,64.9405,64.7191,64.4983,64.1669, 63.9458,63.7249,63.5037,63.283,63.0621, 62.7312,62.5104,62.2898,62.0691,61.8483 ,61.6324,61.4072,61.1871,60.9669, 60.6366,60.4165,60.0864,59.7566,59.5368 ,59.3171,58.9878,58.6587,58.4394, 58.2201,57.8915,57.563,57.3442,57.1256, 56.9069,56.5797,56.3615,56.1431,55.9254 ,55.7074,55.4898,55.2722,55.0549, 54.9462,54.8885,54.921,54.9379,54.958, 54.9585,54.9597,55.2869,55.6146,55.8333 ,56.1613,56.3802,56.5993,56.9283, 57.1478,57.3674,57.5872,57.8071,58.0272 ,58.3576,58.5779,58.7985,59.1295, 59.4606,59.7919,60.0129,60.2341,60.566, 60.8982,61.2307,61.4523,61.6743,61.8961 ,62.1181,62.3403,62.5623,62.7844,63.118 ,63.4516,63.7853,64.0077,64.2304, 64.5648,64.8989,65.1216,65.3443,65.5675 ,65.9018,66.0131,65.9655)
FOOTPRINT_POINT_LONGITUDE = (231.265,230.472,229.388,228.161, 228.132,228.002,228.111,228.181,228.25, 228.317,228.383,228.448,228.542,228.603 ,228.663,228.722,228.779,228.835, 228.917,228.97,229.022,229.073,229.123, 229.168,229.22,229.267,229.313,229.38, 229.424,229.488,229.55,229.59,229.629, 229.687,229.743,229.779,229.815,229.867 ,229.918,229.951,229.983,230.014,230.06 ,230.09,230.12,230.149,230.177,230.205, 230.232,230.258,230.271,230.278,231.223 ,231.796,232.612,232.634,232.641, 232.616,232.591,232.574,232.548,232.53, 232.512,232.484,232.465,232.446,232.426 ,232.406,232.386,232.355,232.334, 232.313,232.28,232.246,232.211,232.188, 232.164,232.127,232.089,232.05,232.023, 231.996,231.968,231.94,231.912,231.882, 231.852,231.807,231.76,231.711,231.678, 231.644,231.592,231.539,231.502,231.465 ,231.427,231.368,231.348,231.265)
ORBIT_NUMBER = 17985
ORBITAL_ECCENTRICITY = 0.572
ORBITAL_INCLINATION = 86.98
ORBITAL_SEMIMAJOR_AXIS = 8776.13
PERIAPSIS_ALTITUDE = 378.0
PERIAPSIS_ARGUMENT_ANGLE = 120.44
PERIAPSIS_TIME = 2018-03-18T18:54:26.000Z
SPACECRAFT_ORIENTATION = (0.0,-1.0,0.0)
^MEX_ORIENTATION_DESC = "MEX_ORIENTATION_DESC.TXT"
SPACECRAFT_POINTING_MODE = NADIR
^MEX_POINTING_DESC = "MEX_POINTING_DESC.TXT"
RIGHT_ASCENSION = -1e+32
DECLINATION = -1e+32
OFFSET_ANGLE = -1e+32
SPACECRAFT_SOLAR_DISTANCE = 2.31808e+08
TARGET_NAME = MARS
/* CAMERA DATA ELEMENTS */
DETECTOR_TEMPERATURE = 18.5744
FOCAL_PLANE_TEMPERATURE = 7.9716
INST_CMPRS_NAME = "DISCRETE COSINE TRANSFORMATION (DCT)"
INST_CMPRS_RATIO = 22.235
INST_CMPRS_QUALITY = 0
INST_CMPRS_QUANTZ_TBL_ID = 0
INSTRUMENT_TEMPERATURE = 10.8262
LENS_TEMPERATURE = 8.5833
MACROPIXEL_SIZE = 4
MISSING_FRAMES = 0
PIXEL_SUBSAMPLING_FLAG = N
SIGNAL_CHAIN_ID = 2
/* RADIOMETRIC DATA ELEMENTS */
BANDWIDTH = 48.0
CENTER_FILTER_WAVELENGTH = 748.0
RADIANCE_OFFSET = 1.15105
RADIANCE_SCALING_FACTOR = 0.00451393
REFLECTANCE_SCALING_FACTOR = 0.000553527
MEX:REFLECTANCE_OFFSET = 0.141149
/* IMAGE OBJECT DEFINITIONS */
OBJECT = IMAGE
  INTERCHANGE_FORMAT = BINARY
  LINES = 13256
  LINE_SAMPLES = 2562
  SAMPLE_TYPE = UNSIGNED_INTEGER
  SAMPLE_BITS = 8
  BANDS = 1
  BAND_STORAGE_TYPE = BAND_SEQUENTIAL
  MAXIMUM = 255
  MEAN = 121.123
  MINIMUM = 1
  STANDARD_DEVIATION = 27.8647
END_OBJECT = IMAGE
/* MAP OBJECT DEFINITIONS */
OBJECT = IMAGE_MAP_PROJECTION
  ^DATA_SET_MAP_PROJECTION_CATALOG= "DSMAP.CAT"
  A_AXIS_RADIUS = 3396.0
  B_AXIS_RADIUS = 3396.0
  C_AXIS_RADIUS = 3396.0
  CENTER_LATITUDE = 0.0
  CENTER_LONGITUDE = 231.0
  COORDINATE_SYSTEM_NAME = PLANETOGRAPHIC
  COORDINATE_SYSTEM_TYPE = "BODY-FIXED ROTATING"
  EASTERNMOST_LONGITUDE = 232.641
  FIRST_STANDARD_PARALLEL = "N/A"
  LINE_FIRST_PIXEL = 1
  LINE_LAST_PIXEL = 13256
  LINE_PROJECTION_OFFSET = 78303.625
  MAP_PROJECTION_ROTATION = 0.0
  MAP_PROJECTION_TYPE = SINUSOIDAL
  MAP_RESOLUTION = 1185.42760773333
  MAP_SCALE = 0.05
  MAXIMUM_LATITUDE = 66.01309999999999
  MINIMUM_LATITUDE = 54.8885
  POSITIVE_LONGITUDE_DIRECTION = EAST
  REFERENCE_LATITUDE = "N/A"
  REFERENCE_LONGITUDE = "N/A"
  SAMPLE_FIRST_PIXEL = 1
  SAMPLE_LAST_PIXEL = 2562
  SAMPLE_PROJECTION_OFFSET = 1458.125
  SECOND_STANDARD_PARALLEL = "N/A"
  WESTERNMOST_LONGITUDE = 228.002
END_OBJECT = IMAGE_MAP_PROJECTION
END
