PDS_VERSION_ID = PDS3
/* FILE DATA ELEMENTS */
RECORD_TYPE = UNDEFINED
/* POINTERS TO DATA OBJECTS */
^IMAGE = ("HH985_0000_S14.TIF")
/* IDENTIFICATION DATA ELEMENTS */
DATA_SET_ID = "MEX-M-HRSC-4-REFDR-MAPPROJECT-EXT6-V4.0"
DATA_SET_NAME = "MARS EXPRESS HRSC MAP PROJECTED REFDR EXTENSION6 V4.0"
DETECTOR_ID = MEX_HRSC_S1
EVENT_TYPE = "MARS-REGIONAL-MAPPING-Vo-Te-Pf"
INSTRUMENT_HOST_ID = MEX
INSTRUMENT_HOST_NAME = "MARS EXPRESS"
INSTRUMENT_ID = HRSC
INSTRUMENT_NAME = "HIGH RESOLUTION STEREO CAMERA"
MISSION_NAME = "MARS EXPRESS"
MISSION_PHASE_NAME = ME_Phase_38
PROCESSING_LEVEL_ID = 4
PRODUCT_CREATION_TIME = 2023-01-28T19:29:54.000Z
PRODUCT_ID = "HH985_0000_S14.TIF"
RELEASE_ID = 0003
REVISION_ID = 0000
/* QUALITY DATA ELEMENTS */
DATA_QUALITY_ID = 1
DATA_QUALITY_DESC = "Data calculated based on original SPICE kernels"
/* TIME DATA ELEMENTS */
SPACECRAFT_CLOCK_START_COUNT = "1/0469479118.09095"
SPACECRAFT_CLOCK_STOP_COUNT = "1/0469479364.50483"
START_TIME = 2018-03-18T18:52:07.614Z
STOP_TIME = 2018-03-18T18:55:02.718Z
/* ORBITAL DATA ELEMENTS */
ASCENDING_NODE_LONGITUDE = 236.51
MAXIMUM_RESOLUTION = 0.0322
FOOTPRINT_POINT_LATITUDE = (66.1631,66.1412,66.1217,66.0931, 66.0692,66.0208,66.019,65.8914,65.5695, 65.3544,65.1391,64.8159,64.5998,64.2753 ,64.0588,63.842,63.6253,63.4078,63.1902 ,62.9726,62.7543,62.5363,62.3176, 62.0992,61.8805,61.6558,61.4423,61.2225 ,60.8928,60.5627,60.2323,59.9014, 59.5701,59.2383,58.9062,58.6846,58.4627 ,58.1299,57.7967,57.5745,57.3518, 57.1294,56.9064,56.683,56.46,56.1254, 55.7902,55.4548,55.2312,55.0069,54.8951 ,54.8534,54.881,54.8929,54.9047,54.9146 ,54.9243,54.9323,54.9328,54.9335, 55.2708,55.6079,55.8324,56.0572,56.2815 ,56.618,56.9541,57.1778,57.5136,57.7372 ,57.9605,58.2954,58.6298,58.9641,59.298 ,59.6318,59.9651,60.2981,60.6308,60.963 ,61.2947,61.6262,61.9572,62.1778, 62.3979,62.7281,62.9481,63.1675,63.3868 ,63.7155,63.9346,64.2628,64.59,64.8081, 65.1349,65.4613,65.6783,65.8954,66.0039 ,66.1631)
FOOTPRINT_POINT_LONGITUDE = (231.288,230.652,230.144,229.478, 228.973,228.058,228.027,227.966,228.075 ,228.145,228.214,228.315,228.38,228.476 ,228.539,228.6,228.66,228.719,228.777, 228.833,228.888,228.943,228.996,229.049 ,229.1,229.148,229.2,229.248,229.319, 229.388,229.455,229.52,229.583,229.644, 229.704,229.743,229.781,229.837,229.891 ,229.927,229.961,229.995,230.029, 230.061,230.093,230.14,230.186,230.23, 230.259,230.288,230.302,230.307,230.956 ,231.27,231.606,231.921,232.28,232.595, 232.617,232.625,232.602,232.578,232.561 ,232.544,232.527,232.501,232.475, 232.457,232.429,232.41,232.391,232.362, 232.332,232.301,232.27,232.237,232.204, 232.17,232.135,232.099,232.062,232.025, 231.986,231.959,231.933,231.891,231.863 ,231.835,231.806,231.761,231.731, 231.684,231.636,231.603,231.553,231.501 ,231.466,231.43,231.412,231.288)
ORBIT_NUMBER = 17985
ORBITAL_ECCENTRICITY = 0.572
ORBITAL_INCLINATION = 86.98
ORBITAL_SEMIMAJOR_AXIS = 8776.13
PERIAPSIS_ALTITUDE = 378.0
PERIAPSIS_ARGUMENT_ANGLE = 120.44
PERIAPSIS_TIME = 2018-03-18T18:54:26.000Z
SPACECRAFT_ORIENTATION = (0.0,-1.0,0.0)
^MEX_ORIENTATION_DESC = "MEX_ORIENTATION_DESC.TXT"
SPACECRAFT_POINTING_MODE = NADIR
^MEX_POINTING_DESC = "MEX_POINTING_DESC.TXT"
RIGHT_ASCENSION = -1e+32
DECLINATION = -1e+32
OFFSET_ANGLE = -1e+32
SPACECRAFT_SOLAR_DISTANCE = 2.31808e+08
TARGET_NAME = MARS
/* CAMERA DATA ELEMENTS */
DETECTOR_TEMPERATURE = 17.351
FOCAL_PLANE_TEMPERATURE = 7.9716
INST_CMPRS_NAME = "DISCRETE COSINE TRANSFORMATION (DCT)"
INST_CMPRS_RATIO = 11.4228
INST_CMPRS_QUALITY = 0
INST_CMPRS_QUANTZ_TBL_ID = 0
INSTRUMENT_TEMPERATURE = 10.8262
LENS_TEMPERATURE = 8.5833
MACROPIXEL_SIZE = 2
MISSING_FRAMES = 0
PIXEL_SUBSAMPLING_FLAG = N
SIGNAL_CHAIN_ID = 1
/* RADIOMETRIC DATA ELEMENTS */
BANDWIDTH = 180.0
CENTER_FILTER_WAVELENGTH = 677.0
RADIANCE_OFFSET = 3.80085
RADIANCE_SCALING_FACTOR = 0.0168781
REFLECTANCE_SCALING_FACTOR = 0.000473176
MEX:REFLECTANCE_OFFSET = 0.106557
/* IMAGE OBJECT DEFINITIONS */
OBJECT = IMAGE
  INTERCHANGE_FORMAT = BINARY
  LINES = 26511
  LINE_SAMPLES = 5124
  SAMPLE_TYPE = UNSIGNED_INTEGER
  SAMPLE_BITS = 8
  BANDS = 1
  BAND_STORAGE_TYPE = BAND_SEQUENTIAL
  MAXIMUM = 255
  MEAN = 120.465
  MINIMUM = 1
  STANDARD_DEVIATION = 26.5824
END_OBJECT = IMAGE
/* MAP OBJECT DEFINITIONS */
OBJECT = IMAGE_MAP_PROJECTION
  ^DATA_SET_MAP_PROJECTION_CATALOG= "DSMAP.CAT"
  A_AXIS_RADIUS = 3396.0
  B_AXIS_RADIUS = 3396.0
  C_AXIS_RADIUS = 3396.0
  CENTER_LATITUDE = 0.0
  CENTER_LONGITUDE = 231.0
  COORDINATE_SYSTEM_NAME = PLANETOGRAPHIC
  COORDINATE_SYSTEM_TYPE = "BODY-FIXED ROTATING"
  EASTERNMOST_LONGITUDE = 232.625
  FIRST_STANDARD_PARALLEL = "N/A"
  LINE_FIRST_PIXEL = 1
  LINE_LAST_PIXEL = 26511
  LINE_PROJECTION_OFFSET = 156607.75
  MAP_PROJECTION_ROTATION = 0.0
  MAP_PROJECTION_TYPE = SINUSOIDAL
  MAP_RESOLUTION = 2370.85521546667
  MAP_SCALE = 0.025
  MAXIMUM_LATITUDE = 66.1631
  MINIMUM_LATITUDE = 54.8534
  POSITIVE_LONGITUDE_DIRECTION = EAST
  REFERENCE_LATITUDE = "N/A"
  REFERENCE_LONGITUDE = "N/A"
  SAMPLE_FIRST_PIXEL = 1
  SAMPLE_LAST_PIXEL = 5124
  SAMPLE_PROJECTION_OFFSET = 2916.75
  SECOND_STANDARD_PARALLEL = "N/A"
  WESTERNMOST_LONGITUDE = 227.966
END_OBJECT = IMAGE_MAP_PROJECTION
END
