PDS_VERSION_ID = PDS3
/* FILE DATA ELEMENTS */
RECORD_TYPE = UNDEFINED
/* POINTERS TO DATA OBJECTS */
^IMAGE = ("HH991_0000_IR4.TIF")
/* IDENTIFICATION DATA ELEMENTS */
DATA_SET_ID = "MEX-M-HRSC-4-REFDR-MAPPROJECT-EXT6-V4.0"
DATA_SET_NAME = "MARS EXPRESS HRSC MAP PROJECTED REFDR EXTENSION6 V4.0"
DETECTOR_ID = MEX_HRSC_IR
EVENT_TYPE = "MARS-REGIONAL-MAPPING-Vo-Im-Pf"
INSTRUMENT_HOST_ID = MEX
INSTRUMENT_HOST_NAME = "MARS EXPRESS"
INSTRUMENT_ID = HRSC
INSTRUMENT_NAME = "HIGH RESOLUTION STEREO CAMERA"
MISSION_NAME = "MARS EXPRESS"
MISSION_PHASE_NAME = ME_Phase_38
PROCESSING_LEVEL_ID = 4
PRODUCT_CREATION_TIME = 2023-01-28T19:29:54.000Z
PRODUCT_ID = "HH991_0000_IR4.TIF"
RELEASE_ID = 0003
REVISION_ID = 0000
/* QUALITY DATA ELEMENTS */
DATA_QUALITY_ID = 1
DATA_QUALITY_DESC = "Data calculated based on original SPICE kernels"
/* TIME DATA ELEMENTS */
SPACECRAFT_CLOCK_START_COUNT = "1/0469629905.07384"
SPACECRAFT_CLOCK_STOP_COUNT = "1/0469630153.48689"
START_TIME = 2018-03-20T12:45:21.202Z
STOP_TIME = 2018-03-20T12:48:17.878Z
/* ORBITAL DATA ELEMENTS */
ASCENDING_NODE_LONGITUDE = 236.39
MAXIMUM_RESOLUTION = 0.064
FOOTPRINT_POINT_LATITUDE = (69.8037,69.7486,69.6845,69.6242,69.622 ,69.5028,69.1827,68.8621,68.5408, 68.1115,67.6808,67.465,67.249,67.0328, 66.8162,66.5995,66.3743,66.1569,65.9394 ,65.7215,65.5035,65.2851,65.0665, 64.8478,64.6287,64.4096,64.1901,63.9707 ,63.7509,63.5308,63.3106,63.0901, 62.8696,62.6487,62.2067,61.8745,61.542, 61.3202,61.0981,60.8759,60.6536,60.431, 60.2085,59.9856,59.7624,59.5393,59.2045 ,58.8691,58.6453,58.5337,58.4511, 58.4876,58.5175,58.5459,58.5465,58.5477 ,58.9976,59.3346,59.6713,60.0077, 60.3438,60.5678,60.7917,61.0155,61.239, 61.5743,61.9092,62.1322,62.3553,62.5779 ,62.8005,63.0234,63.3561,63.5779, 63.7998,64.0214,64.2428,64.5747,64.9063 ,65.1273,65.3474,65.565,65.7884,66.0082 ,66.2279,66.4476,66.6671,66.8944, 67.1133,67.3322,67.5508,67.7691,67.9873 ,68.2053,68.423,68.8578,69.1833,69.5083 ,69.6163,69.8037)
FOOTPRINT_POINT_LONGITUDE = (337.747,336.319,334.973,333.887,333.85 ,333.779,333.935,334.086,334.231, 334.418,334.597,334.684,334.768,334.851 ,334.932,335.012,335.092,335.168, 335.243,335.316,335.387,335.457,335.526 ,335.593,335.659,335.723,335.786, 335.848,335.909,335.968,336.027,336.084 ,336.14,336.195,336.301,336.378,336.453 ,336.502,336.55,336.597,336.642,336.687 ,336.732,336.775,336.817,336.859,336.92 ,336.979,337.017,337.037,337.05,337.861 ,338.65,339.585,339.609,339.617,339.574 ,339.542,339.508,339.474,339.438, 339.414,339.39,339.365,339.34,339.301, 339.26,339.233,339.205,339.177,339.148, 339.119,339.074,339.044,339.013,338.981 ,338.949,338.899,338.848,338.813, 338.778,338.745,338.704,338.667,338.628 ,338.589,338.549,338.507,338.465, 338.422,338.379,338.335,338.29,338.243, 338.196,338.099,338.023,337.945,337.919 ,337.747)
ORBIT_NUMBER = 17991
ORBITAL_ECCENTRICITY = 0.571
ORBITAL_INCLINATION = 86.99
ORBITAL_SEMIMAJOR_AXIS = 8773.06
PERIAPSIS_ALTITUDE = 379.23
PERIAPSIS_ARGUMENT_ANGLE = 119.42
PERIAPSIS_TIME = 2018-03-20T12:48:16.000Z
SPACECRAFT_ORIENTATION = (0.0,-1.0,0.0)
^MEX_ORIENTATION_DESC = "MEX_ORIENTATION_DESC.TXT"
SPACECRAFT_POINTING_MODE = NADIR
^MEX_POINTING_DESC = "MEX_POINTING_DESC.TXT"
RIGHT_ASCENSION = -1e+32
DECLINATION = -1e+32
OFFSET_ANGLE = -1e+32
SPACECRAFT_SOLAR_DISTANCE = 2.31478e+08
TARGET_NAME = MARS
/* CAMERA DATA ELEMENTS */
DETECTOR_TEMPERATURE = 17.5549
FOCAL_PLANE_TEMPERATURE = 9.3989
INST_CMPRS_NAME = "DISCRETE COSINE TRANSFORMATION (DCT)"
INST_CMPRS_RATIO = 9.77786
INST_CMPRS_QUALITY = 0
INST_CMPRS_QUANTZ_TBL_ID = 0
INSTRUMENT_TEMPERATURE = 12.0496
LENS_TEMPERATURE = 9.6028
MACROPIXEL_SIZE = 4
MISSING_FRAMES = 1
PIXEL_SUBSAMPLING_FLAG = N
SIGNAL_CHAIN_ID = 2
/* RADIOMETRIC DATA ELEMENTS */
BANDWIDTH = 81.0
CENTER_FILTER_WAVELENGTH = 955.5
RADIANCE_OFFSET = 0.543338
RADIANCE_SCALING_FACTOR = 0.0030322
REFLECTANCE_SCALING_FACTOR = 0.000350516
MEX:REFLECTANCE_OFFSET = 0.0628087
/* IMAGE OBJECT DEFINITIONS */
OBJECT = IMAGE
  INTERCHANGE_FORMAT = BINARY
  LINES = 13319
  LINE_SAMPLES = 2941
  SAMPLE_TYPE = UNSIGNED_INTEGER
  SAMPLE_BITS = 8
  BANDS = 1
  BAND_STORAGE_TYPE = BAND_SEQUENTIAL
  MAXIMUM = 255
  MEAN = 133.683
  MINIMUM = 1
  STANDARD_DEVIATION = 42.2824
END_OBJECT = IMAGE
/* MAP OBJECT DEFINITIONS */
OBJECT = IMAGE_MAP_PROJECTION
  ^DATA_SET_MAP_PROJECTION_CATALOG= "DSMAP.CAT"
  A_AXIS_RADIUS = 3396.0
  B_AXIS_RADIUS = 3396.0
  C_AXIS_RADIUS = 3396.0
  CENTER_LATITUDE = 0.0
  CENTER_LONGITUDE = 337.0
  COORDINATE_SYSTEM_NAME = PLANETOGRAPHIC
  COORDINATE_SYSTEM_TYPE = "BODY-FIXED ROTATING"
  EASTERNMOST_LONGITUDE = 339.617
  FIRST_STANDARD_PARALLEL = "N/A"
  LINE_FIRST_PIXEL = 1
  LINE_LAST_PIXEL = 13319
  LINE_PROJECTION_OFFSET = 82635.875
  MAP_PROJECTION_ROTATION = 0.0
  MAP_PROJECTION_TYPE = SINUSOIDAL
  MAP_RESOLUTION = 1185.42760773333
  MAP_SCALE = 0.05
  MAXIMUM_LATITUDE = 69.80370000000001
  MINIMUM_LATITUDE = 58.4511
  POSITIVE_LONGITUDE_DIRECTION = EAST
  REFERENCE_LATITUDE = "N/A"
  REFERENCE_LONGITUDE = "N/A"
  SAMPLE_FIRST_PIXEL = 1
  SAMPLE_LAST_PIXEL = 2941
  SAMPLE_PROJECTION_OFFSET = 1329.125
  SECOND_STANDARD_PARALLEL = "N/A"
  WESTERNMOST_LONGITUDE = 333.779
END_OBJECT = IMAGE_MAP_PROJECTION
END
