PDS_VERSION_ID = PDS3
/* FILE DATA ELEMENTS */
RECORD_TYPE = UNDEFINED
/* POINTERS TO DATA OBJECTS */
^IMAGE = ("HH991_0000_ND4.TIF")
/* IDENTIFICATION DATA ELEMENTS */
DATA_SET_ID = "MEX-M-HRSC-4-REFDR-MAPPROJECT-EXT6-V4.0"
DATA_SET_NAME = "MARS EXPRESS HRSC MAP PROJECTED REFDR EXTENSION6 V4.0"
DETECTOR_ID = MEX_HRSC_NADIR
EVENT_TYPE = "MARS-REGIONAL-MAPPING-Vo-Im-Pf"
INSTRUMENT_HOST_ID = MEX
INSTRUMENT_HOST_NAME = "MARS EXPRESS"
INSTRUMENT_ID = HRSC
INSTRUMENT_NAME = "HIGH RESOLUTION STEREO CAMERA"
MISSION_NAME = "MARS EXPRESS"
MISSION_PHASE_NAME = ME_Phase_38
PROCESSING_LEVEL_ID = 4
PRODUCT_CREATION_TIME = 2023-01-28T19:29:54.000Z
PRODUCT_ID = "HH991_0000_ND4.TIF"
RELEASE_ID = 0003
REVISION_ID = 0000
/* QUALITY DATA ELEMENTS */
DATA_QUALITY_ID = 1
DATA_QUALITY_DESC = "Data calculated based on original SPICE kernels"
/* TIME DATA ELEMENTS */
SPACECRAFT_CLOCK_START_COUNT = "1/0469629905.07384"
SPACECRAFT_CLOCK_STOP_COUNT = "1/0469630153.48689"
START_TIME = 2018-03-20T12:45:52.435Z
STOP_TIME = 2018-03-20T12:48:46.439Z
/* ORBITAL DATA ELEMENTS */
ASCENDING_NODE_LONGITUDE = 236.39
MAXIMUM_RESOLUTION = 0.0153
FOOTPRINT_POINT_LATITUDE = (69.7044,69.6572,69.5994,69.5345, 69.5324,69.5263,69.0907,68.6544,68.2175 ,67.7798,67.3416,66.9028,66.4635, 66.0236,65.8035,65.5832,65.3629,65.1425 ,64.9219,64.7013,64.4805,64.2597, 64.0387,63.8177,63.5966,63.3755,63.1542 ,62.9329,62.7115,62.4901,62.2686,62.047 ,61.8254,61.6037,61.382,61.1602,60.9384 ,60.7166,60.4947,60.2728,59.9399, 59.7179,59.3849,59.0519,58.8299,58.6078 ,58.4968,58.4751,58.5126,58.5431, 58.5659,58.5666,58.5672,58.7903,59.0135 ,59.2367,59.4599,59.6831,59.9063, 60.2412,60.4644,60.6876,60.9107,61.1339 ,61.3571,61.5802,61.8033,62.0264, 62.2495,62.4725,62.6955,62.9185,63.1414 ,63.3643,63.5872,63.81,64.0328,64.2555, 64.4781,64.7007,64.9233,65.1458,65.3682 ,65.5907,65.8128,66.035,66.2572,66.4792 ,66.7012,66.9231,67.1449,67.3666, 67.5882,67.8098,68.2525,68.6949,69.1368 ,69.5782,69.6885,69.7044)
FOOTPRINT_POINT_LONGITUDE = (337.713,336.47,335.195,333.964,333.927 ,333.793,334.002,334.201,334.391, 334.573,334.746,334.912,335.071,335.223 ,335.296,335.368,335.439,335.507, 335.575,335.641,335.705,335.769,335.831 ,335.891,335.951,336.009,336.066, 336.122,336.176,336.23,336.283,336.334, 336.384,336.434,336.482,336.529,336.576 ,336.621,336.666,336.71,336.774,336.815 ,336.876,336.935,336.973,337.011, 337.029,337.033,337.919,338.781,339.568 ,339.593,339.606,339.584,339.562,339.54 ,339.517,339.494,339.471,339.435, 339.411,339.386,339.36,339.334,339.308, 339.281,339.253,339.226,339.197,339.168 ,339.139,339.109,339.078,339.047, 339.015,338.983,338.95,338.917,338.882, 338.847,338.812,338.775,338.738,338.703 ,338.662,338.622,338.582,338.541, 338.499,338.456,338.413,338.368,338.322 ,338.276,338.179,338.079,337.974, 337.864,337.836,337.713)
ORBIT_NUMBER = 17991
ORBITAL_ECCENTRICITY = 0.571
ORBITAL_INCLINATION = 86.99
ORBITAL_SEMIMAJOR_AXIS = 8773.06
PERIAPSIS_ALTITUDE = 379.23
PERIAPSIS_ARGUMENT_ANGLE = 119.42
PERIAPSIS_TIME = 2018-03-20T12:48:16.000Z
SPACECRAFT_ORIENTATION = (0.0,-1.0,0.0)
^MEX_ORIENTATION_DESC = "MEX_ORIENTATION_DESC.TXT"
SPACECRAFT_POINTING_MODE = NADIR
^MEX_POINTING_DESC = "MEX_POINTING_DESC.TXT"
RIGHT_ASCENSION = -1e+32
DECLINATION = -1e+32
OFFSET_ANGLE = -1e+32
SPACECRAFT_SOLAR_DISTANCE = 2.31478e+08
TARGET_NAME = MARS
/* CAMERA DATA ELEMENTS */
DETECTOR_TEMPERATURE = 18.5744
FOCAL_PLANE_TEMPERATURE = 9.3989
INST_CMPRS_NAME = "DISCRETE COSINE TRANSFORMATION (DCT)"
INST_CMPRS_RATIO = 6.45351
INST_CMPRS_QUALITY = 0
INST_CMPRS_QUANTZ_TBL_ID = 0
INSTRUMENT_TEMPERATURE = 12.0496
LENS_TEMPERATURE = 9.6028
MACROPIXEL_SIZE = 1
MISSING_FRAMES = 0
PIXEL_SUBSAMPLING_FLAG = N
SIGNAL_CHAIN_ID = 0
/* RADIOMETRIC DATA ELEMENTS */
BANDWIDTH = 177.0
CENTER_FILTER_WAVELENGTH = 677.5
RADIANCE_OFFSET = 2.06608
RADIANCE_SCALING_FACTOR = 0.010803
REFLECTANCE_SCALING_FACTOR = 0.000307504
MEX:REFLECTANCE_OFFSET = 0.0588101
/* IMAGE OBJECT DEFINITIONS */
OBJECT = IMAGE
  INTERCHANGE_FORMAT = BINARY
  LINES = 53273
  LINE_SAMPLES = 11763
  SAMPLE_TYPE = UNSIGNED_INTEGER
  SAMPLE_BITS = 8
  BANDS = 1
  BAND_STORAGE_TYPE = BAND_SEQUENTIAL
  MAXIMUM = 255
  MEAN = 147.773
  MINIMUM = 1
  STANDARD_DEVIATION = 39.416
END_OBJECT = IMAGE
/* MAP OBJECT DEFINITIONS */
OBJECT = IMAGE_MAP_PROJECTION
  ^DATA_SET_MAP_PROJECTION_CATALOG= "DSMAP.CAT"
  A_AXIS_RADIUS = 3396.0
  B_AXIS_RADIUS = 3396.0
  C_AXIS_RADIUS = 3396.0
  CENTER_LATITUDE = 0.0
  CENTER_LONGITUDE = 337.0
  COORDINATE_SYSTEM_NAME = PLANETOGRAPHIC
  COORDINATE_SYSTEM_TYPE = "BODY-FIXED ROTATING"
  EASTERNMOST_LONGITUDE = 339.606
  FIRST_STANDARD_PARALLEL = "N/A"
  LINE_FIRST_PIXEL = 1
  LINE_LAST_PIXEL = 53273
  LINE_PROJECTION_OFFSET = 330545.0
  MAP_PROJECTION_ROTATION = 0.0
  MAP_PROJECTION_TYPE = SINUSOIDAL
  MAP_RESOLUTION = 4741.71043093333
  MAP_SCALE = 0.0125
  MAXIMUM_LATITUDE = 69.70440000000001
  MINIMUM_LATITUDE = 58.4751
  POSITIVE_LONGITUDE_DIRECTION = EAST
  REFERENCE_LATITUDE = "N/A"
  REFERENCE_LONGITUDE = "N/A"
  SAMPLE_FIRST_PIXEL = 1
  SAMPLE_LAST_PIXEL = 11763
  SAMPLE_PROJECTION_OFFSET = 5318.0
  SECOND_STANDARD_PARALLEL = "N/A"
  WESTERNMOST_LONGITUDE = 333.793
END_OBJECT = IMAGE_MAP_PROJECTION
END
