PDS_VERSION_ID = PDS3
/* FILE DATA ELEMENTS */
RECORD_TYPE = UNDEFINED
/* POINTERS TO DATA OBJECTS */
^IMAGE = ("HH991_0000_S14.TIF")
/* IDENTIFICATION DATA ELEMENTS */
DATA_SET_ID = "MEX-M-HRSC-4-REFDR-MAPPROJECT-EXT6-V4.0"
DATA_SET_NAME = "MARS EXPRESS HRSC MAP PROJECTED REFDR EXTENSION6 V4.0"
DETECTOR_ID = MEX_HRSC_S1
EVENT_TYPE = "MARS-REGIONAL-MAPPING-Vo-Im-Pf"
INSTRUMENT_HOST_ID = MEX
INSTRUMENT_HOST_NAME = "MARS EXPRESS"
INSTRUMENT_ID = HRSC
INSTRUMENT_NAME = "HIGH RESOLUTION STEREO CAMERA"
MISSION_NAME = "MARS EXPRESS"
MISSION_PHASE_NAME = ME_Phase_38
PROCESSING_LEVEL_ID = 4
PRODUCT_CREATION_TIME = 2023-01-28T19:29:54.000Z
PRODUCT_ID = "HH991_0000_S14.TIF"
RELEASE_ID = 0003
REVISION_ID = 0000
/* QUALITY DATA ELEMENTS */
DATA_QUALITY_ID = 1
DATA_QUALITY_DESC = "Data calculated based on original SPICE kernels"
/* TIME DATA ELEMENTS */
SPACECRAFT_CLOCK_START_COUNT = "1/0469629905.07384"
SPACECRAFT_CLOCK_STOP_COUNT = "1/0469630153.48689"
START_TIME = 2018-03-20T12:45:14.576Z
STOP_TIME = 2018-03-20T12:48:11.953Z
/* ORBITAL DATA ELEMENTS */
ASCENDING_NODE_LONGITUDE = 236.39
MAXIMUM_RESOLUTION = 0.0326
FOOTPRINT_POINT_LATITUDE = (69.8243,69.771,69.7037,69.642,69.6397, 69.4971,69.2835,68.9627,68.6411,68.3183 ,68.1032,67.8875,67.5634,67.347,67.1301 ,66.9132,66.6957,66.3691,66.0417, 65.8233,65.6044,65.2757,65.0563,64.8366 ,64.6166,64.3965,64.176,63.9556,63.7346 ,63.5135,63.2922,63.0706,62.8489, 62.6269,62.2937,62.071,61.7367,61.402, 61.0669,60.7315,60.3955,60.1714,59.9468 ,59.6097,59.3849,59.0476,58.8222, 58.5968,58.4843,58.449,58.4748,58.51, 58.5268,58.5451,58.5458,58.5465,58.8866 ,59.2261,59.5655,59.9043,60.2427, 60.4684,60.6939,60.9193,61.1443,61.3692 ,61.5942,61.8189,62.0432,62.2677, 62.4919,62.7156,63.0513,63.3862,63.609, 63.832,64.0547,64.2771,64.6105,64.9436, 65.1655,65.495,65.718,66.0498,66.2703, 66.6009,66.8211,67.1506,67.37,67.5893, 67.8081,68.1362,68.3546,68.5727,68.7905 ,69.1168,69.3341,69.5509,69.6592, 69.8243)
FOOTPRINT_POINT_LONGITUDE = (337.761,336.377,334.965,333.864, 333.826,333.762,333.867,334.02,334.169, 334.312,334.405,334.496,334.628,334.715 ,334.799,334.881,334.962,335.08,335.194 ,335.269,335.341,335.448,335.517, 335.584,335.651,335.716,335.779,335.842 ,335.903,335.963,336.021,336.079, 336.135,336.191,336.272,336.324,336.401 ,336.476,336.548,336.619,336.687, 336.732,336.775,336.839,336.881,336.941 ,336.981,337.02,337.039,337.045,337.592 ,338.464,338.963,339.588,339.613, 339.622,339.59,339.558,339.525,339.491, 339.456,339.432,339.408,339.383,339.358 ,339.332,339.306,339.279,339.252, 339.225,339.197,339.168,339.125,339.08, 339.049,339.018,338.987,338.954,338.905 ,338.853,338.818,338.767,338.729, 338.672,338.634,338.575,338.535,338.473 ,338.43,338.387,338.343,338.275,338.228 ,338.181,338.133,338.058,338.007, 337.955,337.928,337.761)
ORBIT_NUMBER = 17991
ORBITAL_ECCENTRICITY = 0.571
ORBITAL_INCLINATION = 86.99
ORBITAL_SEMIMAJOR_AXIS = 8773.06
PERIAPSIS_ALTITUDE = 379.23
PERIAPSIS_ARGUMENT_ANGLE = 119.42
PERIAPSIS_TIME = 2018-03-20T12:48:16.000Z
SPACECRAFT_ORIENTATION = (0.0,-1.0,0.0)
^MEX_ORIENTATION_DESC = "MEX_ORIENTATION_DESC.TXT"
SPACECRAFT_POINTING_MODE = NADIR
^MEX_POINTING_DESC = "MEX_POINTING_DESC.TXT"
RIGHT_ASCENSION = -1e+32
DECLINATION = -1e+32
OFFSET_ANGLE = -1e+32
SPACECRAFT_SOLAR_DISTANCE = 2.31478e+08
TARGET_NAME = MARS
/* CAMERA DATA ELEMENTS */
DETECTOR_TEMPERATURE = 17.5549
FOCAL_PLANE_TEMPERATURE = 9.3989
INST_CMPRS_NAME = "DISCRETE COSINE TRANSFORMATION (DCT)"
INST_CMPRS_RATIO = 10.9394
INST_CMPRS_QUALITY = 0
INST_CMPRS_QUANTZ_TBL_ID = 0
INSTRUMENT_TEMPERATURE = 12.0496
LENS_TEMPERATURE = 9.6028
MACROPIXEL_SIZE = 2
MISSING_FRAMES = 0
PIXEL_SUBSAMPLING_FLAG = N
SIGNAL_CHAIN_ID = 1
/* RADIOMETRIC DATA ELEMENTS */
BANDWIDTH = 180.0
CENTER_FILTER_WAVELENGTH = 677.0
RADIANCE_OFFSET = 2.64535
RADIANCE_SCALING_FACTOR = 0.0106836
REFLECTANCE_SCALING_FACTOR = 0.000298664
MEX:REFLECTANCE_OFFSET = 0.0739519
/* IMAGE OBJECT DEFINITIONS */
OBJECT = IMAGE
  INTERCHANGE_FORMAT = BINARY
  LINES = 26637
  LINE_SAMPLES = 5882
  SAMPLE_TYPE = UNSIGNED_INTEGER
  SAMPLE_BITS = 8
  BANDS = 1
  BAND_STORAGE_TYPE = BAND_SEQUENTIAL
  MAXIMUM = 255
  MEAN = 142.485
  MINIMUM = 1
  STANDARD_DEVIATION = 42.0702
END_OBJECT = IMAGE
/* MAP OBJECT DEFINITIONS */
OBJECT = IMAGE_MAP_PROJECTION
  ^DATA_SET_MAP_PROJECTION_CATALOG= "DSMAP.CAT"
  A_AXIS_RADIUS = 3396.0
  B_AXIS_RADIUS = 3396.0
  C_AXIS_RADIUS = 3396.0
  CENTER_LATITUDE = 0.0
  CENTER_LONGITUDE = 337.0
  COORDINATE_SYSTEM_NAME = PLANETOGRAPHIC
  COORDINATE_SYSTEM_TYPE = "BODY-FIXED ROTATING"
  EASTERNMOST_LONGITUDE = 339.622
  FIRST_STANDARD_PARALLEL = "N/A"
  LINE_FIRST_PIXEL = 1
  LINE_LAST_PIXEL = 26637
  LINE_PROJECTION_OFFSET = 165272.25
  MAP_PROJECTION_ROTATION = 0.0
  MAP_PROJECTION_TYPE = SINUSOIDAL
  MAP_RESOLUTION = 2370.85521546667
  MAP_SCALE = 0.025
  MAXIMUM_LATITUDE = 69.82429999999999
  MINIMUM_LATITUDE = 58.449
  POSITIVE_LONGITUDE_DIRECTION = EAST
  REFERENCE_LATITUDE = "N/A"
  REFERENCE_LONGITUDE = "N/A"
  SAMPLE_FIRST_PIXEL = 1
  SAMPLE_LAST_PIXEL = 5882
  SAMPLE_PROJECTION_OFFSET = 2658.75
  SECOND_STANDARD_PARALLEL = "N/A"
  WESTERNMOST_LONGITUDE = 333.762
END_OBJECT = IMAGE_MAP_PROJECTION
END
